BEGIN:VCALENDAR
VERSION:2.0
PRODID:-//Yvelines Infos - ECPv6.0.2//NONSGML v1.0//EN
CALSCALE:GREGORIAN
METHOD:PUBLISH
X-ORIGINAL-URL:https://www.yvelines-infos.fr
X-WR-CALDESC:Évènements pour Yvelines Infos
REFRESH-INTERVAL;VALUE=DURATION:PT1H
X-Robots-Tag:noindex
X-PUBLISHED-TTL:PT1H
BEGIN:VTIMEZONE
TZID:Europe/Paris
BEGIN:DAYLIGHT
TZOFFSETFROM:+0100
TZOFFSETTO:+0200
TZNAME:CEST
DTSTART:20190331T010000
END:DAYLIGHT
BEGIN:STANDARD
TZOFFSETFROM:+0200
TZOFFSETTO:+0100
TZNAME:CET
DTSTART:20191027T010000
END:STANDARD
END:VTIMEZONE
BEGIN:VEVENT
DTSTART;TZID=Europe/Paris:20190829T203000
DTEND;TZID=Europe/Paris:20190829T233000
DTSTAMP:20260423T110653
CREATED:20190703T105201Z
LAST-MODIFIED:20190703T105201Z
UID:360199-1567110600-1567121400@www.yvelines-infos.fr
SUMMARY:La La Land
DESCRIPTION:Date de sortie 25 janvier 2017 (2h 08min) \nDe Damien Chazelle \nAu cœur de Los Angeles\, une actrice en devenir prénommée Mia sert des cafés entre deux auditions. De son côté\, Sebastian\, passionné de jazz\, joue du piano dans des clubs miteux pour assurer sa subsistance. Tous deux sont bien loin de la vie rêvée à laquelle ils aspirent…Le destin va réunir ces doux rêveurs\, mais leur coup de foudre résistera-t-il aux tentations\, aux déceptions\, et à la vie trépidante d’Hollywood ? \nÀ partir de 8 ans \nEntrée libre
URL:https://www.yvelines-infos.fr/agenda/la-la-land-2/
LOCATION:Jardin Public Saint-Rémy-lès-Chevreuse\, 12 Rue de la République\, Saint-Rémy-lès-Chevreuse\, 78470\, France
CATEGORIES:les-yvelines-font-leur-cinema-2019
ATTACH;FMTTYPE=image/jpeg:https://www.yvelines-infos.fr/content/uploads/2019/569615-r-1280-720-f-jpg-q-x-xxyxx.jpg
END:VEVENT
END:VCALENDAR