BEGIN:VCALENDAR
VERSION:2.0
PRODID:-//Yvelines Infos - ECPv6.0.2//NONSGML v1.0//EN
CALSCALE:GREGORIAN
METHOD:PUBLISH
X-WR-CALNAME:Yvelines Infos
X-ORIGINAL-URL:https://www.yvelines-infos.fr
X-WR-CALDESC:Évènements pour Yvelines Infos
REFRESH-INTERVAL;VALUE=DURATION:PT1H
X-Robots-Tag:noindex
X-PUBLISHED-TTL:PT1H
BEGIN:VTIMEZONE
TZID:Europe/Paris
BEGIN:DAYLIGHT
TZOFFSETFROM:+0100
TZOFFSETTO:+0200
TZNAME:CEST
DTSTART:20170326T010000
END:DAYLIGHT
BEGIN:STANDARD
TZOFFSETFROM:+0200
TZOFFSETTO:+0100
TZNAME:CET
DTSTART:20171029T010000
END:STANDARD
END:VTIMEZONE
BEGIN:VEVENT
DTSTART;VALUE=DATE:20170610
DTEND;VALUE=DATE:20170612
DTSTAMP:20260423T025924
CREATED:20170530T100356Z
LAST-MODIFIED:20170530T100356Z
UID:339669-1497052800-1497225599@www.yvelines-infos.fr
SUMMARY:"Germaine entre en scène" :  un week-end festif
DESCRIPTION:Bonjour à tous\, \nJe ne sais pas vous\, mais moi\, j’ai envie de souffler. Ces derniers mois ont été éreintants et l’été tarde à pointer son nez. Y en a même qui dise qu’avant mi-juillet\, on aura autant de pluie que l’année dernière et qu’il fera frisquet… \nEt bien moi\, je dis stop au pessimisme et à la grisaille : c’est pas ça qui va m’empêcher de sortir\, de m’amuser et de prendre du bon temps ! Alors j’ai concocté un petit week-end de derrière les fagots\, un méli-mélo d’animations pour tous les goûts\, vous m’en direz des nouvelles… Dans le jardin et à la bibliothèque Rose Bily\, je vous invite chaleureusement à venir me rejoindre le samedi 10 et le dimanche 11 juin prochains. Vous êtes tous conviés ! Et ne me dites pas que vous êtes déjà occupés\, je vous croirais pas. Vous trouverez sûrement un moment pour passer me voir\, quel que soit votre âge\, votre profil et vos centres d’intérêt ! \nVous\, les amateurs de musique\, je vous invite à découvrir un duo de charme piano et chant\, un quatuor belge de saxophones « les Manneken-Pis\, ça s’invente pas ! » et de la musique baroque. Il y aura aussi la chorale de l’école maternelle et celle de la Maison Pour Tous. De quoi susciter des vocations… Vous\, les amateurs de danse\, venez voir les démonstrations de hip hop du Collectif 12\, de street jazz et vous qui aimez le dépaysement\, l’énergie à l’état brut\, les athlètes et les beaux mecs\, venez découvrir la capoeira\, cet art martial afro-brésilien spectaculaire. Et aussi le kick-boxing… Big\, bang\, cling ! Ça va bouger  sérieux ! Pour vous\, les croqueurs d’histoires\, j’ai demandé à Albert et Oleg de vous faire voyager au pays des contes russes. Vous entendez déjà le son de la balalaïka ? Et pour vous les amoureux du verbe acrobatique et de la répartie\, une petite séance de théâtre d’impro vous remettra les neurones en selle. Attention\, ça peut être contagieux ! Quant aux amateurs d’art\, qu’ils se rassurent\, il y aura aussi une exposition de peinture et même des ateliers de dessin pour les enfants. \nEvidemment\, j’ai pensé au nerf de la guerre : les gourmands pourront se régaler et se désaltérer sur les terrasses de la bibliothèque. \nAlors\, pas d’excuses bidon\, \nToutes et tous \nVenez sans façon ! \nJe compte sur vous…. \n Germaine
URL:https://www.yvelines-infos.fr/agenda/germaine-entre-scene-week-end-festif/
LOCATION:Jardin de la bibliothèque Rose Bily\, Place de la Gare\, JUZIERS\, 78820\, France
ATTACH;FMTTYPE=image/jpeg:https://www.yvelines-infos.fr/content/uploads/2017/germaine-entre-en-scenebx800-pour-site.jpg
ORGANIZER;CN="Mairie%20de%20Juziers":MAILTO:isabelle.bonete@juziers.org
GEO:48.992447;1.844582
X-APPLE-STRUCTURED-LOCATION;VALUE=URI;X-ADDRESS=Jardin de la bibliothèque Rose Bily Place de la Gare JUZIERS 78820 France;X-APPLE-RADIUS=500;X-TITLE=Place de la Gare:geo:1.844582,48.992447
END:VEVENT
END:VCALENDAR