BEGIN:VCALENDAR
VERSION:2.0
PRODID:-//Yvelines Infos - ECPv6.0.2//NONSGML v1.0//EN
CALSCALE:GREGORIAN
METHOD:PUBLISH
X-ORIGINAL-URL:https://www.yvelines-infos.fr
X-WR-CALDESC:Évènements pour Yvelines Infos
REFRESH-INTERVAL;VALUE=DURATION:PT1H
X-Robots-Tag:noindex
X-PUBLISHED-TTL:PT1H
BEGIN:VTIMEZONE
TZID:Europe/Paris
BEGIN:DAYLIGHT
TZOFFSETFROM:+0100
TZOFFSETTO:+0200
TZNAME:CEST
DTSTART:20220327T010000
END:DAYLIGHT
BEGIN:STANDARD
TZOFFSETFROM:+0200
TZOFFSETTO:+0100
TZNAME:CET
DTSTART:20221030T010000
END:STANDARD
END:VTIMEZONE
BEGIN:VEVENT
DTSTART;TZID=Europe/Paris:20220115T140000
DTEND;TZID=Europe/Paris:20220115T160000
DTSTAMP:20260423T041753
CREATED:20211227T101014Z
LAST-MODIFIED:20211227T101014Z
UID:382599-1642255200-1642262400@www.yvelines-infos.fr
SUMMARY:DEGUSTATION DE SAVEURS OUBLIEES AVEC LE TEMPS DES SAVOIR-FAIRE
DESCRIPTION:Découvrez les plantes sauvages comestibles d’hiver\, leurs usages millénaires\, avec la dégustation d’une recette à base d’une plante observée pendant la sortie. \nInformations pratiques \n\nDurée : 2h\nTarifs : 29€/adulte\, 14€/6-17 ans\nIntersection entre la rue des Sablons et le Chemin Neuf\, 78750 Mareil-Marly\nPar un formateur et fondateur de l’association Le Temps des Savoir-Faire\nRéservation obligatoire auprès de l’Office de Tourisme Intercommunal Saint Germain Boucles de Seine
URL:https://www.yvelines-infos.fr/agenda/degustation-de-saveurs-oubliees-avec-le-temps-des-savoir-faire-2/
LOCATION:Intersection entre la rue des Sablons et le Chemin Neuf\, 78750 Mareil-Marly\, Intersection entre la rue des Sablons et le Chemin Neuf\, Mareil-Marly\, 78750
ATTACH;FMTTYPE=image/jpeg:https://www.yvelines-infos.fr/content/uploads/2021/plantes-comestibles-nature-800x593-1.jpg
ORGANIZER;CN="Office%20de%20Tourisme%20Saint%20Germain%20Boucles%20de%20Seine":MAILTO:info@seine-saintgermain.fr
END:VEVENT
BEGIN:VEVENT
DTSTART;TZID=Europe/Paris:20220126T140000
DTEND;TZID=Europe/Paris:20220126T160000
DTSTAMP:20260423T041753
CREATED:20211227T100312Z
LAST-MODIFIED:20211227T100312Z
UID:382607-1643205600-1643212800@www.yvelines-infos.fr
SUMMARY:PLANTES SAUVAGES COMESTIBLES AVEC LE TEMPS DES SAVOIR-FAIRE
DESCRIPTION:Apprenez les clefs d’identification simples et efficaces fondées sur l’utilisation de vos sens afin de reconnaître\, après l’atelier\, avec aisance et sécurité\, ces mille et une plantes sauvages. \nInformations pratiques \n\nDurée : 2h\nTarifs : 19€/adulte\, 9€/6-17 ans\nIntersection entre la rue des Sablons et le Chemin Neuf\, 78750 Mareil-Marly\nPar un formateur et fondateur de l’association Le Temps des Savoir-Faire\nRéservation obligatoire auprès de l’Office de Tourisme Intercommunal Saint Germain Boucles de Seine
URL:https://www.yvelines-infos.fr/agenda/plantes-sauvages-comestibles-avec-le-temps-des-savoir-faire-2/
LOCATION:Intersection entre la rue des Sablons et le Chemin Neuf\, 78750 Mareil-Marly\, Intersection entre la rue des Sablons et le Chemin Neuf\, Mareil-Marly\, 78750
ATTACH;FMTTYPE=image/jpeg:https://www.yvelines-infos.fr/content/uploads/2021/plantescomestibles2.jpg
ORGANIZER;CN="Office%20de%20Tourisme%20Saint%20Germain%20Boucles%20de%20Seine":MAILTO:info@seine-saintgermain.fr
END:VEVENT
BEGIN:VEVENT
DTSTART;TZID=Europe/Paris:20220126T140000
DTEND;TZID=Europe/Paris:20220126T160000
DTSTAMP:20260423T041753
CREATED:20211227T100305Z
LAST-MODIFIED:20211227T100305Z
UID:382609-1643205600-1643212800@www.yvelines-infos.fr
SUMMARY:PLANTES SAUVAGES COMESTIBLES AVEC LE TEMPS DES SAVOIR-FAIRE
DESCRIPTION:Apprenez les clefs d’identification simples et efficaces fondées sur l’utilisation de vos sens afin de reconnaître\, après l’atelier\, avec aisance et sécurité\, ces mille et une plantes sauvages. \nInformations pratiques \n\nDurée : 2h\nTarifs : 19€/adulte\, 9€/6-17 ans\nIntersection entre la rue des Sablons et le Chemin Neuf\, 78750 Mareil-Marly\nPar un formateur et fondateur de l’association Le Temps des Savoir-Faire\nRéservation obligatoire auprès de l’Office de Tourisme Intercommunal Saint Germain Boucles de Seine
URL:https://www.yvelines-infos.fr/agenda/plantes-sauvages-comestibles-avec-le-temps-des-savoir-faire/
LOCATION:Intersection entre la rue des Sablons et le Chemin Neuf\, 78750 Mareil-Marly\, Intersection entre la rue des Sablons et le Chemin Neuf\, Mareil-Marly\, 78750
ATTACH;FMTTYPE=image/jpeg:https://www.yvelines-infos.fr/content/uploads/2021/plantescomestibles2-1.jpg
ORGANIZER;CN="Office%20de%20Tourisme%20Saint%20Germain%20Boucles%20de%20Seine":MAILTO:info@seine-saintgermain.fr
END:VEVENT
BEGIN:VEVENT
DTSTART;TZID=Europe/Paris:20220220T150000
DTEND;TZID=Europe/Paris:20220220T170000
DTSTAMP:20260423T041753
CREATED:20211227T100146Z
LAST-MODIFIED:20211227T100146Z
UID:382623-1645369200-1645376400@www.yvelines-infos.fr
SUMMARY:DEGUSTATION DE SAVEURS OUBLIEES AVEC LE TEMPS DES SAVOIR-FAIRE
DESCRIPTION:Découvrez les plantes sauvages comestibles d’hiver\, leurs usages millénaires\, avec la dégustation d’une recette à base d’une plante observée pendant la sortie. \nInformations pratiques \n\nDurée : 2h\nTarifs : 29€/adulte\, 14€/6-17 ans\nIntersection entre la rue des Sablons et le Chemin Neuf\, 78750 Mareil-Marly\nPar un formateur et fondateur de l’association Le Temps des Savoir-Faire\nRéservation obligatoire auprès de l’Office de Tourisme Intercommunal Saint Germain Boucles de Seine
URL:https://www.yvelines-infos.fr/agenda/degustation-de-saveurs-oubliees-avec-le-temps-des-savoir-faire/
LOCATION:Intersection entre la rue des Sablons et le Chemin Neuf\, 78750 Mareil-Marly\, Intersection entre la rue des Sablons et le Chemin Neuf\, Mareil-Marly\, 78750
ATTACH;FMTTYPE=image/jpeg:https://www.yvelines-infos.fr/content/uploads/2021/plantes-comestibles-nature-800x593-2.jpg
ORGANIZER;CN="Office%20de%20Tourisme%20Saint%20Germain%20Boucles%20de%20Seine":MAILTO:info@seine-saintgermain.fr
END:VEVENT
END:VCALENDAR