BEGIN:VCALENDAR
VERSION:2.0
PRODID:-//Yvelines Infos - ECPv6.0.2//NONSGML v1.0//EN
CALSCALE:GREGORIAN
METHOD:PUBLISH
X-WR-CALNAME:Yvelines Infos
X-ORIGINAL-URL:https://www.yvelines-infos.fr
X-WR-CALDESC:Évènements pour Yvelines Infos
REFRESH-INTERVAL;VALUE=DURATION:PT1H
X-Robots-Tag:noindex
X-PUBLISHED-TTL:PT1H
BEGIN:VTIMEZONE
TZID:Europe/Paris
BEGIN:DAYLIGHT
TZOFFSETFROM:+0100
TZOFFSETTO:+0200
TZNAME:CEST
DTSTART:20190331T010000
END:DAYLIGHT
BEGIN:STANDARD
TZOFFSETFROM:+0200
TZOFFSETTO:+0100
TZNAME:CET
DTSTART:20191027T010000
END:STANDARD
BEGIN:DAYLIGHT
TZOFFSETFROM:+0100
TZOFFSETTO:+0200
TZNAME:CEST
DTSTART:20200329T010000
END:DAYLIGHT
BEGIN:STANDARD
TZOFFSETFROM:+0200
TZOFFSETTO:+0100
TZNAME:CET
DTSTART:20201025T010000
END:STANDARD
BEGIN:DAYLIGHT
TZOFFSETFROM:+0100
TZOFFSETTO:+0200
TZNAME:CEST
DTSTART:20210328T010000
END:DAYLIGHT
BEGIN:STANDARD
TZOFFSETFROM:+0200
TZOFFSETTO:+0100
TZNAME:CET
DTSTART:20211031T010000
END:STANDARD
BEGIN:DAYLIGHT
TZOFFSETFROM:+0100
TZOFFSETTO:+0200
TZNAME:CEST
DTSTART:20220327T010000
END:DAYLIGHT
BEGIN:STANDARD
TZOFFSETFROM:+0200
TZOFFSETTO:+0100
TZNAME:CET
DTSTART:20221030T010000
END:STANDARD
END:VTIMEZONE
BEGIN:VEVENT
DTSTART;VALUE=DATE:20190315
DTEND;VALUE=DATE:20190325
DTSTAMP:20260423T080237
CREATED:20190319T110524Z
LAST-MODIFIED:20190319T110524Z
UID:356523-1552608000-1553471999@www.yvelines-infos.fr
SUMMARY:Foire de Chatou
DESCRIPTION:La Foire de Chatou\, une grande foire d’antiquité d’Ile de France\, réunit chaque année des centaines de passionnés sur l’Ile des Impressionnistes pour une grande foire d’antiquaire. Rendez-vous du 15 au 24 mars 2019 ! \nLa foire de Chatou est une manifestation certifiée par le label de qualité « France-Europe-Antiquité-Qualité » déposé à l’international\, qui offre des garanties au consommateur : les exposants sont de véritables professionnels qui s’engagent à vendre l’objet pour ce qu’il est et les organisateurs mettent à la disposition des visiteurs un service d’expertise. \n 
URL:https://www.yvelines-infos.fr/agenda/foire-de-chatou/
LOCATION:île des Impressionnistes\, ILE DES IMPRESSIONNISTES\, CHATOU\, 78400
ATTACH;FMTTYPE=image/jpeg:https://www.yvelines-infos.fr/content/uploads/2019/affiche-logo.jpg
ORGANIZER;CN="Syndicat%20National%20du%20Commerce%20de%20l%27Antiquit%C3%A9%2C%20de%20l%27Occasion%20et%20des%20Galeries%20d%E2%80%99Art.":MAILTO:contact@sncao-syndicat.com
END:VEVENT
BEGIN:VEVENT
DTSTART;TZID=Europe/Paris:20190907T110000
DTEND;TZID=Europe/Paris:20190907T233000
DTSTAMP:20260423T080237
CREATED:20190905T132802Z
LAST-MODIFIED:20190905T132927Z
UID:361529-1567854000-1567899000@www.yvelines-infos.fr
SUMMARY:Electrik Park Festival 2019
DESCRIPTION:Le 7 septembre 2019\, la Ville de Chatou organise la 10ème édition du Festival Elektric Park sur l’Ile des Impressionnistes. Ce Festival a réuni en 2018\, 12 000 visiteurs et 15 000 personnes sont attendues cette année. Cette année les scènes changent de nom et vont mélanger les styles de musiques électroniques afin de donner plus de résonance à une approche éclectique et aux performances live. Près de 300 jeunes bénévoles seront mobilisés à l’occasion de ce festival.  \nPour favoriser l’animation du territoire\, le Département soutient cette manifestation culturelle\, attractive et de prestige à hauteur de 40 000 € (vote en Commission Permanente du 27 septembre 2019). \n\n\n\nIl y a maintenant 10 ans\, le festival Elektric Park voyait le jour. En cette année de décennie\, après ces 10 ans de fête\, c’est le moment de vous rendre toute la joie que vous nous avez apportée en vous proposant une édition exceptionnelle ! \nPour les 10 ans\, nous voulons vous promettre une fête encore plus belle à ciel ouvert ! En 2019\, nous réunirons tout pour vous faire vivre une expérience hors du commun sur la sublime Île des Impressionnistes à Chatou (à quelques minutes de Paris). \n\nAu bord de l’eau\, dans un cadre idyllique\, cette édition s’annonce d’ores et déjà riche en surprises. Étant l’année de la consécration\, ce sera un retour en puissance pour la Bass Music\, puisque Noisia et Dirtyphonics (en live !) ont confirmé leur présence. Le gratin de la Trance sera également de la partie avec Vini Vici et Hilight Tribe. Vous retrouverez aussi des artistes EDM confirmés comme Sam Feldt\, Henri PFR\, des pointures de la scène techno internationale avec Boris Brejcha\, Dima (le nouveau projet de Vitalic)… et bien d’autres encore !Depuis sa création\, Elektric Park célèbre les musiques électroniques dans leur ensemble. En vous faisant découvrir les jeunes pousses de l’électro ou en invitant des pointures internationales\, il nous est important de continuer à cultiver cet esprit autour de notre programmation. \n\nRendez-vous le samedi 7 septembre pour fêter tous ensemble nos 10 ans ! Préparez-vous à vivre une journée inoubliable rythmée par de nombreux show\, 12h de danse\, d’attractions et de bonne humeur !
URL:https://www.yvelines-infos.fr/agenda/electrik-park-festival-2019/
LOCATION:île des Impressionnistes\, ILE DES IMPRESSIONNISTES\, CHATOU\, 78400
ATTACH;FMTTYPE=image/jpeg:https://www.yvelines-infos.fr/content/uploads/2019/epkposter.jpg
END:VEVENT
BEGIN:VEVENT
DTSTART;TZID=Europe/Paris:20190922T160000
DTEND;TZID=Europe/Paris:20190922T173000
DTSTAMP:20260423T080237
CREATED:20190605T101345Z
LAST-MODIFIED:20190922T085834Z
UID:359132-1569168000-1569173400@www.yvelines-infos.fr
SUMMARY:Concert Annulé - "Voyage dans l'Europe des Lumières : Salzbourg-Gottingen-Versailles"\, concert à Chatou avec l'Orchestre de l'Alliance
DESCRIPTION:Mise à jour dimanche 22 septembre \nCompte tenu des conditions météorologiques du jour\,  et notamment des fortes pluies annoncées entre 14h et 16h\, L’Orchestre de l’Alliance est dans l’obligation d’annuler le concert prévu cette après-midi à Chatou. D’autres concerts sont à venir dans le cadre des Fantaisies Musicales en Yvelines. \nLes « Fantaisies Musicales »\, série de concerts itinérants avec l’Orchestre de l’Alliance se poursuivent à Chatou et vous offrent un concert exceptionnel dans le cadre majestueux de l’Ile des Impressionnistes\, à l’occasion des Journées européennes du patrimoine\, et dans le cadre de l’année Renoir ! \n« Salzbourg-Göttingen-Stockholm 1778 » est un conte  musical au cœur de la foisonnante Europe du 18ème siècle. A travers la vie de Joseph Martin Kraus\, jumeau allemand de Mozart l’autrichien\, ce périple musical et humain est une illustration parfaite de l’esprit des Lumières à son apogée. Le programme musical permettra découvrir des chefs-d’œuvre retrouvés mis en perspective avec certains des plus belles pages de Mozart et Haydn ! Le tout sublimé par le décor de l’Ile des Impressionnistes\, à l’occasion des Journées européennes du patrimoine\, et dans le cadre de l’année Renoir. \nVoyage dans l’Europe des Lumières : Salzbourg-Göttingen-Versailles\nAu programme : \n\nJoseph Martin Kraus\, Olympie – ouverture\nJoseph Haydn\, Concerto pour violoncelle en ré – final\nWolfgang Amadeus Mozart\, Symphonie n°25 – 1er mouvement\nJoseph Martin Kraus\, Pantomime ré majeur\nIgnace Pleyel\, Concerto pour violon – mouvement lent\nJoseph Martin Kraus\, Symphonie funèbre en do mineur\nJoseph Haydn\, Symphonie n°31 ou 34 – final\nJoseph Martin Kraus\, Symphonie en do majeur – 1er mouvement\nWolfgang Amadeus Mozart\, Symphonie n°40- 1er mouvement\nJoseph Martin Kraus\, Symphonie en do mineur\n\nProgramme sous réserve de modification \nLe site est accessible aux personnes à mobilité réduite. \nConcerts gratuits\, sans réservation. \n\nFort de l’expérimentation menée sur le territoire de la Communauté urbaine de Grand Paris Seine & Oise en 2017-2018\, le Département des Yvelines a souhaité poursuivre et élargir la résidence de l’Orchestre de l’Alliance sur l’ensemble du département jusqu’en 2021. Cette nouvelle offre culturelle a pour ambition de contribuer à l’attractivité résidentielle et touristique du territoire yvelinois.
URL:https://www.yvelines-infos.fr/agenda/voyage-dans-leurope-des-lumieres-salzbourg-gottingen-versailles-concert-a-chatou-avec-lorchestre-de-lalliance/
LOCATION:île des Impressionnistes\, ILE DES IMPRESSIONNISTES\, CHATOU\, 78400
CATEGORIES:Fantaisies musicales,Les Journées Européennes du Patrimoine 2019
ATTACH;FMTTYPE=image/jpeg:https://www.yvelines-infos.fr/content/uploads/2019/fantaisies-musicales-2019.jpg
ORGANIZER;CN="Fantaisies%20Musicales":MAILTO:fantaisies-musicales@yvelines.fr
END:VEVENT
BEGIN:VEVENT
DTSTART;VALUE=DATE:20190927
DTEND;VALUE=DATE:20191007
DTSTAMP:20260423T080237
CREATED:20190927T124127Z
LAST-MODIFIED:20190927T124127Z
UID:362252-1569542400-1570406399@www.yvelines-infos.fr
SUMMARY:99e Foire de Chatou !
DESCRIPTION:Village d’antiquaires éphémère installé sur le site champêtre de l’Île des Impressionnistes depuis 1970\, et organisée par le SNCAO-GA\, la Foire de Chatou est la plus importante foire à la brocante et aux antiquités de France. Véritable institution\, elle rassemble 500 marchands venus de toute la France et reçoit 35.000 visiteurs en 12 jours. \nLES HÉROS DE NOTRE ENFANCE 1960-1990 \nEntre 1960 et 1990\, la télévision française a diffusé de nombreux programmes destinés à la jeunesse avec des personnages emblématiques et attachants qui ont marqué plusieurs générations d’enfants. \nNounours\, Casimir\, Colargol\, Alle et Sidonie\, Thierry la Fronde\, Zorro\, Pollux\, Kiri le clown\, Goldorack et tant d’autres ont laissé un souvenir tendre et impérissable sans le coeur de tant d’enfants de la télé. Cette année\, la Foire de Chatou consacre une exposition exceptionnelle à tous ces personnages qui ont souvent été déclinés en jeux et jouets et font aujourd’hui le bonheur de tant de brocanteurs et collectionneurs. \nRassemblés par Christophe Mourthé\, un grand photographe\, passionné assumé du monde de l’enfance\, cette exposition de jouets vous permettra de retrouver les figurines de ces merveilleux personnages. Une exposition qui réveillera forcément dans les mémoires les images et génériques de ces émissions pour la jeunesse\, mais aussi des lieux\, des événements et des souvenirs personnels d’une enfance insouciante. Christophe Mourthé a passé des années à chiner dans les brocantes pour retrouver des jeux\, des documents\, des jouets\, des peluches\, des poupées et figurines de tous ces héros qui constituent désormais\, une magnifique collections\, exposée dans cette 97ème édition de la Foire de Chatou. \n  \nLa Foire de Chatou est une manifestation certifiée par le label de qualité du SNCAO-GA “ANTIQUITES-QUALITE” catégorie «  Foire à la brocante » : les exposants sont de véritables professionnels qui s’engagent à vendre l’objet pour ce qu’il est et les organisateurs mettent à la disposition des visiteurs un service d’expertise.
URL:https://www.yvelines-infos.fr/agenda/99e-foire-de-chatou/
LOCATION:île des Impressionnistes\, ILE DES IMPRESSIONNISTES\, CHATOU\, 78400
ATTACH;FMTTYPE=image/jpeg:https://www.yvelines-infos.fr/content/uploads/2019/affiche-jpeg-99eme-foire-de-chatou.jpeg
END:VEVENT
BEGIN:VEVENT
DTSTART;VALUE=DATE:20210703
DTEND;VALUE=DATE:20210705
DTSTAMP:20260423T080237
CREATED:20210407T155225Z
LAST-MODIFIED:20210702T133929Z
UID:374535-1625270400-1625443199@www.yvelines-infos.fr
SUMMARY:Fête du Tour 2021
DESCRIPTION:Pour célébrer la dernière étape du Tour de France 2021\, le Département des Yvelines et la ville de Chatou organisent la Fête du Tour les 3 et 4 juillet 2021. 2 jours d’animations\, de démonstrations spectaculaires et de fête ! \nLe Tour de France se célèbre à tous les niveaux\, pas besoin d’être un pro de la petite reine ! \nLa Fête du Tour vous permettra de découvrir un large panel d’animations autour du vélo initiation au trial ou au freestyle\, draisiennes\, chasse au trésor… prendront place dans le village d’animations proposé le samedi et le dimanche. \nNe manquez pas la grande soirée festive\, le 3 juillet\, à partir de 18h30. Un concert de « The Black Noodles » est prévu\, ainsi qu’un show trial et la projection en plein air de films documentaires « Tous en Selle ! ». \nEntrée gratuite \nSamedi 3 : 14h30-00h \nDimanche 4 : 10h-18h \nRetrouvez le programme complet sur le flyer ci dessous (cliquez sur l’image pour l’agrandir) \nFête du Tour 2021 \n 
URL:https://www.yvelines-infos.fr/agenda/fete-du-tour-2021/
LOCATION:île des Impressionnistes\, ILE DES IMPRESSIONNISTES\, CHATOU\, 78400
ATTACH;FMTTYPE=image/jpeg:https://www.yvelines-infos.fr/content/uploads/2021/fete-du-tour-2021-af-a3-01-page-001.jpg
END:VEVENT
BEGIN:VEVENT
DTSTART;VALUE=DATE:20220513
DTEND;VALUE=DATE:20220514
DTSTAMP:20260423T080237
CREATED:20220413T115759Z
LAST-MODIFIED:20220413T115759Z
UID:385756-1652400000-1652486399@www.yvelines-infos.fr
SUMMARY:Salon -Expo de Chatou
DESCRIPTION:Rendez-vous au Salon Expo   ! \nDu 13 au 15 mai prochain\, le Rotary Club  du Vésinet organise la 1ère édition du Salon Expo – Eco-Mobilités – Vins et Terroirs. \nLe Salon-Expo a pour double objectif de faire connaître les nouvelles solutions d’éco-mobilités (véhicules hybrides et électriques : voitures\, trottinettes\, scooters\, motos…) et de présenter une offre de vins et saveurs des terroirs proposés par des producteurs et exposants venus de toute la France. \nPendant 3 jours\, le Parc des Expositions situé sur l’Île des Impressionnistes à Chatou\, accueillera cet événement commercial et festif qui attend plus de 100 exposants sur 12 000 m 2. \nUn espace restauration permettra de profiter pleinement de votre visite. \nCet événement est organisé par le Rotary Club du Vésinet au profit de ses actions humanitaires. \nHoraires \nVendredi 13 mai 2022 > 11 h à 20 h \nSamedi 14 mai 2022 > 10 h à 20 h \nDimanche 15 mai 2022 > 10 h à 18 h \n  \nNous vous attendons nombreux ! \n  \nPlus d’informations\, billetterie et liste des exposants sur https://salonexpodechatou.fr/ \nMentions légales : L’abus d’alcool est dangereux pour la santé. \nTarif adulte : 5 € – accès gratuit pour les mineurs accompagnés – accès non autorisé aux mineurs non accompagnés.
URL:https://www.yvelines-infos.fr/agenda/salon-expo-de-chatou/
LOCATION:île des Impressionnistes\, ILE DES IMPRESSIONNISTES\, CHATOU\, 78400
ATTACH;FMTTYPE=image/jpeg:https://www.yvelines-infos.fr/content/uploads/2022/la-bonne-pour-foire.jpg
ORGANIZER;CN="ROTARY%20LE%20%20VESINET":MAILTO:info@rotary-vesinet.org
END:VEVENT
END:VCALENDAR