BEGIN:VCALENDAR
VERSION:2.0
PRODID:-//Yvelines Infos - ECPv6.0.2//NONSGML v1.0//EN
CALSCALE:GREGORIAN
METHOD:PUBLISH
X-WR-CALNAME:Yvelines Infos
X-ORIGINAL-URL:https://www.yvelines-infos.fr
X-WR-CALDESC:Évènements pour Yvelines Infos
REFRESH-INTERVAL;VALUE=DURATION:PT1H
X-Robots-Tag:noindex
X-PUBLISHED-TTL:PT1H
BEGIN:VTIMEZONE
TZID:Europe/Paris
BEGIN:DAYLIGHT
TZOFFSETFROM:+0100
TZOFFSETTO:+0200
TZNAME:CEST
DTSTART:20170326T010000
END:DAYLIGHT
BEGIN:STANDARD
TZOFFSETFROM:+0200
TZOFFSETTO:+0100
TZNAME:CET
DTSTART:20171029T010000
END:STANDARD
BEGIN:DAYLIGHT
TZOFFSETFROM:+0100
TZOFFSETTO:+0200
TZNAME:CEST
DTSTART:20180325T010000
END:DAYLIGHT
BEGIN:STANDARD
TZOFFSETFROM:+0200
TZOFFSETTO:+0100
TZNAME:CET
DTSTART:20181028T010000
END:STANDARD
BEGIN:DAYLIGHT
TZOFFSETFROM:+0100
TZOFFSETTO:+0200
TZNAME:CEST
DTSTART:20190331T010000
END:DAYLIGHT
BEGIN:STANDARD
TZOFFSETFROM:+0200
TZOFFSETTO:+0100
TZNAME:CET
DTSTART:20191027T010000
END:STANDARD
BEGIN:DAYLIGHT
TZOFFSETFROM:+0100
TZOFFSETTO:+0200
TZNAME:CEST
DTSTART:20200329T010000
END:DAYLIGHT
BEGIN:STANDARD
TZOFFSETFROM:+0200
TZOFFSETTO:+0100
TZNAME:CET
DTSTART:20201025T010000
END:STANDARD
END:VTIMEZONE
BEGIN:VEVENT
DTSTART;VALUE=DATE:20171118
DTEND;VALUE=DATE:20171120
DTSTAMP:20260423T093658
CREATED:20171103T112453Z
LAST-MODIFIED:20171103T112757Z
UID:345279-1510963200-1511135999@www.yvelines-infos.fr
SUMMARY:Parcours dans les ateliers d'artistes versaillais
DESCRIPTION:Pour la 14ème année\, les artistes de Versailles ouvrent les portes de leur atelier le temps d’un week-end\, les 18-19 novembre\, pour proposer une rencontre entre le public\, l’artiste\, le travail et le lieu de création. C’est aussi l’occasion d’une déambulation dans les cours\, les impasses et sous les toits\, pour découvrir autrement cette ville qui célèbre les arts depuis des siècles\, à la recherche d’émotions et de découvertes. Cette année une soixantaine d’artistes participeront : peintres\, sculpteurs\, photographes\, graveurs\, artistes pluridisciplinaires de toutes influences et de toutes générations pour offrir aux visiteurs un panel assez large de l’art actuel. \nPour découvrir l’univers de chacun\, une exposition collective se tient dans la prestigieuse Salle des fêtes de l’Hôtel de Ville du mardi 14 novembre au samedi 18 novembre où chaque artiste présentera une ou deux œuvre. Un bon point départ avant de s’aventurer dans les quartiers au gré de votre sensibilité. Il suffit de lire le plan\, trouver la signalétique extérieure de l’atelier\, pousser la porte (parfois sonner à l’interphone) entre 11h à 19h\, samedi ou dimanche.
URL:https://www.yvelines-infos.fr/agenda/parcours-ateliers-dartistes-versaillais/
LOCATION:hotel de ville  et 40 lieux dans VERSAILLES\, Versailles\, 78000\, France
ATTACH;FMTTYPE=image/jpeg:https://www.yvelines-infos.fr/content/uploads/2017/affiche-parcours-2017light-def2.jpg
ORGANIZER;CN="Ateliers%20d%27artistes%20versaillais":MAILTO:didbonnot@gmail.com
END:VEVENT
BEGIN:VEVENT
DTSTART;VALUE=DATE:20191130
DTEND;VALUE=DATE:20200105
DTSTAMP:20260423T093658
CREATED:20191114T143244Z
LAST-MODIFIED:20191114T143244Z
UID:363375-1575072000-1578182399@www.yvelines-infos.fr
SUMMARY:Patinoire de Versailles : chaussez vos patins !
DESCRIPTION:La patinoire écologique fait son grand retour sur le parking de l’Hôtel de Ville pour la 7e année consécutive : l’occasion aux petits et grands amateurs de glace de profiter des joies de la glisse en plein air. \n\nDes animations et initiations de hockey sur glace sont organisées les samedis 30 novembre et 21 décembre à 17h. \nTarifs : \n\n8€ avec location d’une paire de patins\n6€ pour les enfants de moins de 8 ans\n4€ pour les associations et groupes scolaires versaillais\n4€ sans location d’une paire de patins.\n\nHoraires : \n\nHors vacances scolaires :\n\nles lundis\, mardis\, jeudis et vendredis de 15h à 19h\nles mercredis\, samedis et dimanches de 10h à 12h et de 14h à 19h\n\n\nPendants les vacances scolaires :\n\nouverture de la semaine de 10h à 12h et de 14h à 19h\nsamedi et dimanche en continu de 10h à 19h
URL:https://www.yvelines-infos.fr/agenda/patinoire-de-versailles-chaussez-vos-patins/
LOCATION:hotel de ville  et 40 lieux dans VERSAILLES\, Versailles\, 78000\, France
ATTACH;FMTTYPE=image/png:https://www.yvelines-infos.fr/content/uploads/2019/csm-patinoire-2019-40x60cm-4f357ed5da.png
END:VEVENT
END:VCALENDAR