BEGIN:VCALENDAR
VERSION:2.0
PRODID:-//Yvelines Infos - ECPv6.0.2//NONSGML v1.0//EN
CALSCALE:GREGORIAN
METHOD:PUBLISH
X-WR-CALNAME:Yvelines Infos
X-ORIGINAL-URL:https://www.yvelines-infos.fr
X-WR-CALDESC:Évènements pour Yvelines Infos
REFRESH-INTERVAL;VALUE=DURATION:PT1H
X-Robots-Tag:noindex
X-PUBLISHED-TTL:PT1H
BEGIN:VTIMEZONE
TZID:Europe/Paris
BEGIN:DAYLIGHT
TZOFFSETFROM:+0100
TZOFFSETTO:+0200
TZNAME:CEST
DTSTART:20180325T010000
END:DAYLIGHT
BEGIN:STANDARD
TZOFFSETFROM:+0200
TZOFFSETTO:+0100
TZNAME:CET
DTSTART:20181028T010000
END:STANDARD
END:VTIMEZONE
BEGIN:VEVENT
DTSTART;TZID=Europe/Paris:20181117T140000
DTEND;TZID=Europe/Paris:20181117T170000
DTSTAMP:20260423T033220
CREATED:20181113T100902Z
LAST-MODIFIED:20181114T092842Z
UID:353856-1542463200-1542474000@www.yvelines-infos.fr
SUMMARY:Championnat départemental 78 de judo Sport Adapté
DESCRIPTION:Championnat départemental des Yvelines de judo Sport Adapté open région\, ouvert aux licenciés FFSA de cadet à vétéran.
URL:https://www.yvelines-infos.fr/agenda/championnat-departemental-78-de-judo-sport-adapte/
LOCATION:gymnase du college\, rue de la gare\, Bréval\, 78980
ATTACH;FMTTYPE=image/jpeg:https://www.yvelines-infos.fr/content/uploads/2018/affiche-championnat-departemental-78-judo-adapte-2018-1.jpg
ORGANIZER;CN="CDSA%2078":MAILTO:Contact.cdsa78@gmail.com
END:VEVENT
END:VCALENDAR