BEGIN:VCALENDAR
VERSION:2.0
PRODID:-//Yvelines Infos - ECPv6.0.2//NONSGML v1.0//EN
CALSCALE:GREGORIAN
METHOD:PUBLISH
X-ORIGINAL-URL:https://www.yvelines-infos.fr
X-WR-CALDESC:Évènements pour Yvelines Infos
REFRESH-INTERVAL;VALUE=DURATION:PT1H
X-Robots-Tag:noindex
X-PUBLISHED-TTL:PT1H
BEGIN:VTIMEZONE
TZID:Europe/Paris
BEGIN:DAYLIGHT
TZOFFSETFROM:+0100
TZOFFSETTO:+0200
TZNAME:CEST
DTSTART:20190331T010000
END:DAYLIGHT
BEGIN:STANDARD
TZOFFSETFROM:+0200
TZOFFSETTO:+0100
TZNAME:CET
DTSTART:20191027T010000
END:STANDARD
END:VTIMEZONE
BEGIN:VEVENT
DTSTART;VALUE=DATE:20190210
DTEND;VALUE=DATE:20190211
DTSTAMP:20260423T081523
CREATED:20190206T145213Z
LAST-MODIFIED:20190206T150049Z
UID:355598-1549756800-1549843199@www.yvelines-infos.fr
SUMMARY:Championnat de tennis de table Sport Adapté des Yvelines
DESCRIPTION:Le comité Départemental de la Fédération Française du Sport Adapté organise en partenariat avec l’ALJ Limay Tennis de Table le 1er Championnat Départemental des Yvelines de Tennis de Table du Sport Adapté ouvert à tous les pongistes licenciés FFSA. \nLa compétition se déroulera aux Complexe Sportif des Fosses Rouges dans la salle de Tennis de Table. le dimanche 10 février 2019 à partir de 14h00. \nPour toute demande d’information\, vous pouvez contacter contact.cdsa78 @gmail.com ou au 06 22 44 69 88
URL:https://www.yvelines-infos.fr/agenda/championnat-de-tennis-de-table-sport-adapte-de-yvelines/
LOCATION:Gymnase des Fosses Rouges\, Rue du Chateau d'eau\, Limay\, 78520\, France
ATTACH;FMTTYPE=image/jpeg:https://www.yvelines-infos.fr/content/uploads/2019/2906bec3-e46c-4b16-90a6-e814811775b3-w500.jpg
ORGANIZER;CN="CDSA%2078":MAILTO:Contact.cdsa78@gmail.com
END:VEVENT
END:VCALENDAR