BEGIN:VCALENDAR
VERSION:2.0
PRODID:-//Yvelines Infos - ECPv6.0.2//NONSGML v1.0//EN
CALSCALE:GREGORIAN
METHOD:PUBLISH
X-ORIGINAL-URL:https://www.yvelines-infos.fr
X-WR-CALDESC:Évènements pour Yvelines Infos
REFRESH-INTERVAL;VALUE=DURATION:PT1H
X-Robots-Tag:noindex
X-PUBLISHED-TTL:PT1H
BEGIN:VTIMEZONE
TZID:Europe/Paris
BEGIN:DAYLIGHT
TZOFFSETFROM:+0100
TZOFFSETTO:+0200
TZNAME:CEST
DTSTART:20170326T010000
END:DAYLIGHT
BEGIN:STANDARD
TZOFFSETFROM:+0200
TZOFFSETTO:+0100
TZNAME:CET
DTSTART:20171029T010000
END:STANDARD
END:VTIMEZONE
BEGIN:VEVENT
DTSTART;TZID=Europe/Paris:20170513T000000
DTEND;TZID=Europe/Paris:20170513T000000
DTSTAMP:20260423T113623
CREATED:20170323T161111Z
LAST-MODIFIED:20170323T161111Z
UID:337505-1494633600-1494633600@www.yvelines-infos.fr
SUMMARY:Vivaldi
DESCRIPTION:Avec le Chœur de Musiques en Val de Seine\, le chœur et l’orchestre de Chambre d’Étampes.\nSous la direction de Rodolphe Gibert\, les chœurs et l’orchestre interprèteront le Magnificat et le Gloria de Vivaldi. Sous l’impulsion de Thérèse Driant\, chef de chœur\, Musiques en Val de Seine (MVS) développe la pratique du chant choral auprès de choristes amateurs. Le chœur se produit depuis plus de 30 ans en région parisienne et à l’étranger\, en proposant des concerts au répertoire très varié\, accompagné de musiciens talentueux et d’orchestres renommés.
URL:https://www.yvelines-infos.fr/agenda/vivaldi/
LOCATION:Gymnase Coubertin // Verneuil-sur-Seine\, 5 rue Jean-Zay \, Verneuil-sur-Seine\, 78480\, France
ATTACH;FMTTYPE=image/jpeg:https://www.yvelines-infos.fr/content/uploads/2017/choeur-mvs-1-0516.jpg
GEO:48.9799979;1.9599576
X-APPLE-STRUCTURED-LOCATION;VALUE=URI;X-ADDRESS=Gymnase Coubertin // Verneuil-sur-Seine 5 rue Jean-Zay  Verneuil-sur-Seine 78480 France;X-APPLE-RADIUS=500;X-TITLE=5 rue Jean-Zay:geo:1.9599576,48.9799979
END:VEVENT
END:VCALENDAR