BEGIN:VCALENDAR
VERSION:2.0
PRODID:-//Yvelines Infos - ECPv6.0.2//NONSGML v1.0//EN
CALSCALE:GREGORIAN
METHOD:PUBLISH
X-WR-CALNAME:Yvelines Infos
X-ORIGINAL-URL:https://www.yvelines-infos.fr
X-WR-CALDESC:Évènements pour Yvelines Infos
REFRESH-INTERVAL;VALUE=DURATION:PT1H
X-Robots-Tag:noindex
X-PUBLISHED-TTL:PT1H
BEGIN:VTIMEZONE
TZID:Europe/Paris
BEGIN:DAYLIGHT
TZOFFSETFROM:+0100
TZOFFSETTO:+0200
TZNAME:CEST
DTSTART:20180325T010000
END:DAYLIGHT
BEGIN:STANDARD
TZOFFSETFROM:+0200
TZOFFSETTO:+0100
TZNAME:CET
DTSTART:20181028T010000
END:STANDARD
END:VTIMEZONE
BEGIN:VEVENT
DTSTART;VALUE=DATE:20180512
DTEND;VALUE=DATE:20180514
DTSTAMP:20260423T073045
CREATED:20180502T131938Z
LAST-MODIFIED:20180502T134602Z
UID:349714-1526083200-1526255999@www.yvelines-infos.fr
SUMMARY:9e Challenge Karaté d'Ecquevilly
DESCRIPTION:Le Challenge Karaté d’Ecquevilly se déroulera les 12 et 13 mai. Il s’adresse à tous les licenciés de France et de l’étranger catégorie poussins et vétérans masculin et féminin en combat et kata. Les épreuves ont lieu par catégorie d’âge et de poids. \nCe challenge se veut rassembleur d’un maximum de participants de tous niveaux et tous âges. Il permet l’appréhension du respect de l’autre\, la notion de sport en équipe et permet l’implication de tous les membres du club en favorisant la communication intergénérationnelle. \nConvivialité et mixité font le succès de cet événement qui a rassemblé 500 participants du monde entier et 600 spectateurs sur deux jours en 2017. \n« C’est toujours un énorme succès\, apprécie Françoise Terki\, présidente du club de Karaté d’Ecquevilly. D’année en année\, le nombre d’inscrits sur le week-end augmente !»
URL:https://www.yvelines-infos.fr/agenda/9e-challenge-karate-decquevilly/
LOCATION:Gymnase Complexe sportif des Motelles\, 21 avenue des Motelles\, Ecquevilly\, 78920\, France
ATTACH;FMTTYPE=image/jpeg:https://www.yvelines-infos.fr/content/uploads/2018/9eme-challenge-ecquevilly.jpg
GEO:48.9561639;1.917868
X-APPLE-STRUCTURED-LOCATION;VALUE=URI;X-ADDRESS=Gymnase Complexe sportif des Motelles 21 avenue des Motelles Ecquevilly 78920 France;X-APPLE-RADIUS=500;X-TITLE=21 avenue des Motelles:geo:1.917868,48.9561639
END:VEVENT
END:VCALENDAR