BEGIN:VCALENDAR
VERSION:2.0
PRODID:-//Yvelines Infos - ECPv6.0.2//NONSGML v1.0//EN
CALSCALE:GREGORIAN
METHOD:PUBLISH
X-WR-CALNAME:Yvelines Infos
X-ORIGINAL-URL:https://www.yvelines-infos.fr
X-WR-CALDESC:Évènements pour Yvelines Infos
REFRESH-INTERVAL;VALUE=DURATION:PT1H
X-Robots-Tag:noindex
X-PUBLISHED-TTL:PT1H
BEGIN:VTIMEZONE
TZID:Europe/Paris
BEGIN:DAYLIGHT
TZOFFSETFROM:+0100
TZOFFSETTO:+0200
TZNAME:CEST
DTSTART:20190331T010000
END:DAYLIGHT
BEGIN:STANDARD
TZOFFSETFROM:+0200
TZOFFSETTO:+0100
TZNAME:CET
DTSTART:20191027T010000
END:STANDARD
BEGIN:DAYLIGHT
TZOFFSETFROM:+0100
TZOFFSETTO:+0200
TZNAME:CEST
DTSTART:20200329T010000
END:DAYLIGHT
BEGIN:STANDARD
TZOFFSETFROM:+0200
TZOFFSETTO:+0100
TZNAME:CET
DTSTART:20201025T010000
END:STANDARD
BEGIN:DAYLIGHT
TZOFFSETFROM:+0100
TZOFFSETTO:+0200
TZNAME:CEST
DTSTART:20210328T010000
END:DAYLIGHT
BEGIN:STANDARD
TZOFFSETFROM:+0200
TZOFFSETTO:+0100
TZNAME:CET
DTSTART:20211031T010000
END:STANDARD
END:VTIMEZONE
BEGIN:VEVENT
DTSTART;TZID=Europe/Paris:20190926T180000
DTEND;TZID=Europe/Paris:20190926T180000
DTSTAMP:20260423T104546
CREATED:20190910T130802Z
LAST-MODIFIED:20190910T130802Z
UID:361675-1569520800-1569520800@www.yvelines-infos.fr
SUMMARY:Tous en selle !
DESCRIPTION:Pour les amoureux de belles images\, d’afterworks\, de sport…!\n \nJeudi 26 septembre au Grand Rex\, \n-18H00 : Ouvertures des portes et animations\n-19H30 – 23H00 : Séance\n \nLe Grand Rex accueillera le jeudi 26 septembre la première édition de « TOUS EN SELLE! »\, avec comme parrain Bernard HINAULT.\n \nPremier événement intégralement dédié au Vélo sur Grand Ecran\, Trois heures trente d’images au travers de documentaires venant du monde entier.\nLe sport\, le dépassement de soi\, la performance mais aussi les grands espaces\, la découverte\, la route\, la ville\, la montagne\, l’aventure\, l’extreme\, le life style\,…seront l’écran à travers toutes les pratiques existantes.
URL:https://www.yvelines-infos.fr/agenda/tous-en-selle/
LOCATION:Grand Rex\, 1 Boulevard Poissonnière\, Paris\, 75002\, France
ATTACH;FMTTYPE=image/jpeg:https://www.yvelines-infos.fr/content/uploads/2019/2043540-tous-en-selle-grand-rex-paris-02.jpg
END:VEVENT
BEGIN:VEVENT
DTSTART;VALUE=DATE:20210917
DTEND;VALUE=DATE:20210919
DTSTAMP:20260423T104546
CREATED:20210914T091634Z
LAST-MODIFIED:20210916T094000Z
UID:378981-1631836800-1632009599@www.yvelines-infos.fr
SUMMARY:Tous en selle 2021
DESCRIPTION:Cette année encore\, le Département des Yvelines est sponsor officiel de l’événement Tous en Selle\, festival de cinéma dédié au vélo. \nL’événement se déroulera les 17 et 18 septembre au Grand Rex. Le Département y aura un stand aux couleurs « Les Yvelines\, Terre de Vélo ». \n« Venez assister à une soirée hors norme\, que vous soyez passionnés de Vélo ou fan de cinéma\, ou encore amateurs de spectacle le temps d’une soirée\, l’expérience proposée par TOUS EN SELLE ! est unique et fait partie de la nouvelle génération de divertissement proposée au public\, la deuxième édition de TOUS EN SELLE ! vous attend. » \nAprès le succès de la première édition\, TOUS EN SELLE ! le monde du vélo sur grand écran sera de retour en 2021.\nLe Grand Rex accueillera de nouveau les amoureux du vélo et des grands espaces pour une grande soirée 100% dédiée à la petite reine : Animations\, stands\, talents\, sportifs\, démonstrations\, cadeaux\,…
URL:https://www.yvelines-infos.fr/agenda/tous-en-selle-2021/
LOCATION:Grand Rex\, 1 Boulevard Poissonnière\, Paris\, 75002\, France
ATTACH;FMTTYPE=image/png:https://www.yvelines-infos.fr/content/uploads/2021/capture-decran-2021-09-14-a-11-14-09.png
ORGANIZER;CN="Tous%20en%20Selle":MAILTO:contact@tousenselle.eu
END:VEVENT
END:VCALENDAR