BEGIN:VCALENDAR
VERSION:2.0
PRODID:-//Yvelines Infos - ECPv6.0.2//NONSGML v1.0//EN
CALSCALE:GREGORIAN
METHOD:PUBLISH
X-ORIGINAL-URL:https://www.yvelines-infos.fr
X-WR-CALDESC:Évènements pour Yvelines Infos
REFRESH-INTERVAL;VALUE=DURATION:PT1H
X-Robots-Tag:noindex
X-PUBLISHED-TTL:PT1H
BEGIN:VTIMEZONE
TZID:Europe/Paris
BEGIN:DAYLIGHT
TZOFFSETFROM:+0100
TZOFFSETTO:+0200
TZNAME:CEST
DTSTART:20220327T010000
END:DAYLIGHT
BEGIN:STANDARD
TZOFFSETFROM:+0200
TZOFFSETTO:+0100
TZNAME:CET
DTSTART:20221030T010000
END:STANDARD
END:VTIMEZONE
BEGIN:VEVENT
DTSTART;TZID=Europe/Paris:20220505T143000
DTEND;TZID=Europe/Paris:20220505T170000
DTSTAMP:20260423T092204
CREATED:20220406T084041Z
LAST-MODIFIED:20220406T084041Z
UID:384999-1651761000-1651770000@www.yvelines-infos.fr
SUMMARY:Initiation au Golf + goûter à Fourqueux
DESCRIPTION:Accompagné par un enseignant diplômé d’État et après un tour d’horizon du golf\, vous découvrirez les activités golfiques : putting\, petit jeu\, grand jeu sur le practice et mise en situation sur le parcours. Vous aurez ensuite l’occasion de débriefer avec votre instructeur\, de partager avec lui votre expérience\, votre ressenti… \n9 participants maximum \nA partir de 5 ans – Enfant de 5 à 12 ans accompagné d’un adulte \nRDV: Golf de Fourqueux\,  36 Rue de Saint-Nom\, 78112 Fourqueux
URL:https://www.yvelines-infos.fr/agenda/initiation-au-golf-gouter-a-fourqueux/
LOCATION:golf\, Golf de Fourqueux\, 36 rue de Saint-Nom\, Fourqueux\, 78112
ATTACH;FMTTYPE=image/jpeg:https://www.yvelines-infos.fr/content/uploads/2022/golf-fourqueux-4-rouge.jpg
ORGANIZER;CN="Office%20de%20Tourisme%20Saint%20Germain%20Boucles%20de%20Seine":MAILTO:info@seine-saintgermain.fr
END:VEVENT
END:VCALENDAR