BEGIN:VCALENDAR
VERSION:2.0
PRODID:-//Yvelines Infos - ECPv6.0.2//NONSGML v1.0//EN
CALSCALE:GREGORIAN
METHOD:PUBLISH
X-ORIGINAL-URL:https://www.yvelines-infos.fr
X-WR-CALDESC:Évènements pour Yvelines Infos
REFRESH-INTERVAL;VALUE=DURATION:PT1H
X-Robots-Tag:noindex
X-PUBLISHED-TTL:PT1H
BEGIN:VTIMEZONE
TZID:Europe/Paris
BEGIN:DAYLIGHT
TZOFFSETFROM:+0100
TZOFFSETTO:+0200
TZNAME:CEST
DTSTART:20210328T010000
END:DAYLIGHT
BEGIN:STANDARD
TZOFFSETFROM:+0200
TZOFFSETTO:+0100
TZNAME:CET
DTSTART:20211031T010000
END:STANDARD
END:VTIMEZONE
BEGIN:VEVENT
DTSTART;TZID=Europe/Paris:20210605T140000
DTEND;TZID=Europe/Paris:20210605T170000
DTSTAMP:20260422T165433
CREATED:20210602T083644Z
LAST-MODIFIED:20210602T083644Z
UID:376002-1622901600-1622912400@www.yvelines-infos.fr
SUMMARY:Atelier-initiation à la vannerie en forêt de Marly
DESCRIPTION:Laissez-vous surprendre par une promenade originale en forêt de Marly\, ancien espace naturel royal à quelques kilomètres de Paris\, afin d’enfiler ensemble le chapeau d’explorateur et partir en quête des trésors de la nature. \nLa vannerie sauvage\, un savoir-faire plus que millénaire\, permet à partir de plantes sauvages souples de tresser divers objets tels que des hochets\, des nichoirs\, des paniers\, des corbeilles et toute une nuance d’objets créatifs et décoratifs. De la ronce à la clématite en passant par le saule\, plante reine de la vannerie française\, vous aurez les clés pour les reconnaître dans leur environnement naturel\, les récolter et les transformer dans le respect de leur cycle\, avec des techniques ancestrales de vannier. En fin d’atelier\, vous récolterez quelques tiges de jonc et serez guidé dans la conception d’un magnifique hochet. Par l’association Le Temps des Savoir-Faire.\n\nInformations pratiques :\n– Durée : 3h.\n– Tarif : 39€ / personne – À partir de 10 ans.\n– Rendez-vous à la gare de Saint-Nom-la-Bretèche\, devant le local de la gare\, 78160 Marly-le-Roi\n– Réservation obligatoire auprès de l’Office de Tourisme Intercommunal Saint Germain Boucles de Seine\n– Le port du masque est obligatoire pendant toute la durée de la visite.\n– La distanciation sociale devra être respectée.\n– Du gel hydroalcoolique sera mis à disposition au début de la visite.
URL:https://www.yvelines-infos.fr/agenda/atelier-initiation-a-la-vannerie-en-foret-de-marly/
LOCATION:Gare de Saint-Nom-la-Bretèche\, Devant le local de la gare\, Marly-le-Roi\, 78160
ATTACH;FMTTYPE=image/jpeg:https://www.yvelines-infos.fr/content/uploads/2021/vannerie.jpg
ORGANIZER;CN="Office%20de%20Tourisme%20Saint%20Germain%20Boucles%20de%20Seine":MAILTO:info@seine-saintgermain.fr
END:VEVENT
END:VCALENDAR