BEGIN:VCALENDAR
VERSION:2.0
PRODID:-//Yvelines Infos - ECPv6.0.2//NONSGML v1.0//EN
CALSCALE:GREGORIAN
METHOD:PUBLISH
X-ORIGINAL-URL:https://www.yvelines-infos.fr
X-WR-CALDESC:Évènements pour Yvelines Infos
REFRESH-INTERVAL;VALUE=DURATION:PT1H
X-Robots-Tag:noindex
X-PUBLISHED-TTL:PT1H
BEGIN:VTIMEZONE
TZID:Europe/Paris
BEGIN:DAYLIGHT
TZOFFSETFROM:+0100
TZOFFSETTO:+0200
TZNAME:CEST
DTSTART:20220327T010000
END:DAYLIGHT
BEGIN:STANDARD
TZOFFSETFROM:+0200
TZOFFSETTO:+0100
TZNAME:CET
DTSTART:20221030T010000
END:STANDARD
END:VTIMEZONE
BEGIN:VEVENT
DTSTART;VALUE=DATE:20220129
DTEND;VALUE=DATE:20220206
DTSTAMP:20260423T012559
CREATED:20220124T105232Z
LAST-MODIFIED:20220124T105232Z
UID:383183-1643414400-1644105599@www.yvelines-infos.fr
SUMMARY:Semaine des services de l'automobile et de la mobilité à Guyancourt
DESCRIPTION:Le grand saut vers des métiers d’avenir : une semaine pour découvrir des métiers et des formations qui recrutent dans les Yvelines !  \nPilotée par l’ANFA\, la Semaine des services de l’automobile et de la mobilité est le grand rendez-vous de promotion des formations et des métiers du secteur. Du 29 janvier au 5 février\, les établissements de formation et les entreprises d’Ile-de-France sont mobilisés pour accueillir et rencontrer les jeunes\, mais aussi les personnes en reconversion professionnelle et les demandeurs d’emploi. Malgré un contexte sanitaire contraint\, les acteurs du secteur vont présenter la richesse des métiers et les formations qui y conduisent. \n\n\n\n\n« Les métiers des services de l’auto\, de la moto\, du camion et du vélo restent encore pour certains trop méconnus. Pourtant\, notre secteur offre des opportunités pour trouver un emploi et évoluer tout au long de sa carrière. A l’échelle nationale\, 72 % des apprentis issus de nos formations sont en emploi 7 mois après leur sortie de cursus. Cette semaine de découverte permet d’échanger avec des formateurs\, des recruteurs et des jeunes en formation pour pouvoir effectuer le grand saut vers une orientation réussie\,» souligne Anne Gonon\, responsable de la communication de l’ANFA. \n\n\n\n\n\nPour encourager ou confirmer une vocation\, rien de mieux que d’échanger avec des apprentis\, des formateurs et des professionnels en exercice et de voir ou tester concrètement un métier. Dans les Yvelines\, plusieurs évènements sont proposés : à Guyancourt avec un stage découverte des métiers de l’automobile\, les mercredis de l’apprentissage\, des visites d’entreprises\, et à la Verrière avec la visite de la concession de STA 78 pour découvrir les différents services autour de l’automobile. \n\n\n\n\n\nPlus d’information sur la Semaine des services de l’automobile et de la mobilité : https://www.semaine-services-auto.com/ #SSAM2022\n#metiersservicesauto
URL:https://www.yvelines-infos.fr/agenda/semaine-des-services-de-lautomobile-et-de-la-mobilite-a-guyancourt-2/
LOCATION:Garac\, 1 rue Robert Arnauld d'Andilly\, Guyancourt\, 78280
ATTACH;FMTTYPE=image/jpeg:https://www.yvelines-infos.fr/content/uploads/2022/affiche-ssam-2022.jpg
ORGANIZER;CN="ANFA":MAILTO:media@agenceapocope.com
END:VEVENT
END:VCALENDAR