BEGIN:VCALENDAR
VERSION:2.0
PRODID:-//Yvelines Infos - ECPv6.0.2//NONSGML v1.0//EN
CALSCALE:GREGORIAN
METHOD:PUBLISH
X-WR-CALNAME:Yvelines Infos
X-ORIGINAL-URL:https://www.yvelines-infos.fr
X-WR-CALDESC:Évènements pour Yvelines Infos
REFRESH-INTERVAL;VALUE=DURATION:PT1H
X-Robots-Tag:noindex
X-PUBLISHED-TTL:PT1H
BEGIN:VTIMEZONE
TZID:Europe/Paris
BEGIN:DAYLIGHT
TZOFFSETFROM:+0100
TZOFFSETTO:+0200
TZNAME:CEST
DTSTART:20180325T010000
END:DAYLIGHT
BEGIN:STANDARD
TZOFFSETFROM:+0200
TZOFFSETTO:+0100
TZNAME:CET
DTSTART:20181028T010000
END:STANDARD
END:VTIMEZONE
BEGIN:VEVENT
DTSTART;TZID=Europe/Paris:20180610T100000
DTEND;TZID=Europe/Paris:20180610T180000
DTSTAMP:20260423T031752
CREATED:20180604T130013Z
LAST-MODIFIED:20180604T130103Z
UID:350779-1528624800-1528653600@www.yvelines-infos.fr
SUMMARY:Journées Portes Ouvertes à la Ferme de Grignon
DESCRIPTION:Dimanche 10 juin\, la Ferme de Grignon ouvre ses portes au public pour découvrir\, apprendre\, jouer et déguster. Plein d’animations gratuites pour tous les âges. \n  \nDe 10h à 18h\, sans interruption\, la Ferme de Grignon organise dimanche 10 juin une journée riche en animations et découvertes. \nToute la journée\, s’y tiendra le marché des producteurs où producteurs locaux et lycées agricoles présenteront leurs spécialités\, à déguster sans modération…\nLes familles pourront se balader pour découvrir et approcher les animaux de la ferme.\nPar ailleurs\, un grand labyrinthe en paille sera créé : à vous de relever le défi pour en sortir en un minimum de temps ! \nDe 10h à 13h et de 14h à 18h :\n\nDémonstration de chiens de troupeaux (on découvre le travail du chien et de son maître au cours de démonstrations commentées)\,\nLes petits pourront faire un baptême de poney au gré d’une balade autour de la ferme\nLes grands et petits pourront aussi découvrir l’agriculture de précision au cours d’une balade en tracteur.\n\nÀ ne pas rater : la traite des vaches (de 15h à 16h30) et des visites guidées de cette grande ferme expérimentale (11h30\, 12h30\, 15h30\, 16h30 et 17h30). \nRestauration sur place et parking (gratuit).\nPlus d’informations sur le site de la ferme.
URL:https://www.yvelines-infos.fr/agenda/journees-portes-ouvertes-a-ferme-de-grignon/
LOCATION:Ferme de Grignon\, Route de la Ferme\, Thiverval-Grignon\, 78850\, France
ATTACH;FMTTYPE=image/jpeg:https://www.yvelines-infos.fr/content/uploads/2018/cache-2477465479.jpg
END:VEVENT
END:VCALENDAR