BEGIN:VCALENDAR
VERSION:2.0
PRODID:-//Yvelines Infos - ECPv6.0.2//NONSGML v1.0//EN
CALSCALE:GREGORIAN
METHOD:PUBLISH
X-ORIGINAL-URL:https://www.yvelines-infos.fr
X-WR-CALDESC:Évènements pour Yvelines Infos
REFRESH-INTERVAL;VALUE=DURATION:PT1H
X-Robots-Tag:noindex
X-PUBLISHED-TTL:PT1H
BEGIN:VTIMEZONE
TZID:Europe/Paris
BEGIN:DAYLIGHT
TZOFFSETFROM:+0100
TZOFFSETTO:+0200
TZNAME:CEST
DTSTART:20170326T010000
END:DAYLIGHT
BEGIN:STANDARD
TZOFFSETFROM:+0200
TZOFFSETTO:+0100
TZNAME:CET
DTSTART:20171029T010000
END:STANDARD
END:VTIMEZONE
BEGIN:VEVENT
DTSTART;TZID=Europe/Paris:20170421T203000
DTEND;TZID=Europe/Paris:20170421T203000
DTSTAMP:20260423T101200
CREATED:20170406T134957Z
LAST-MODIFIED:20170406T144443Z
UID:337849-1492806600-1492806600@www.yvelines-infos.fr
SUMMARY:Andrésy lance son 1er festival de jazz !
DESCRIPTION:Une chanteuse accompagnée de 35 musiciens\, âgés de 10 à 70 ans\, donnent rendez-vous\, avec l’association Jazz au Confluent\, aux amateurs et fans de musique.\n  \nCet événement unique\, marque le lancement d’un festival de jazz organisé par la ville d’Andrésy en partenariat avec les ateliers jazz des villes voisines. \nCrédit photo : service communication ville d’Andrésy \nSeront présents les élèves et professeurs de l’Ecole de Musique et de Danse Ivry-Gitlis\, les élèves d’Achères\, de Chanteloup-les-Vignes\, de Conflans-Sainte-Honorine\, de Maisons-Laffitte et de Maurecourt. \nLa soirée vibrera au rythme des saxos\, claviers\, batteries\, basses et contrebasses\, en improvisations et grands standards du jazz. \n  \n  \n  \n 
URL:https://www.yvelines-infos.fr/agenda/andresy-lance-1er-festival-de-jazz/
LOCATION:Espace Saint-Exupéry Andrésy\, 40 boulevard Noël-Marc\, Andrésy\, 78570\, France
ATTACH;FMTTYPE=image/jpeg:https://www.yvelines-infos.fr/content/uploads/2017/lesrencontresdujazz_avril2017-web.jpg
GEO:48.9783656;2.0575313
X-APPLE-STRUCTURED-LOCATION;VALUE=URI;X-ADDRESS=Espace Saint-Exupéry Andrésy 40 boulevard Noël-Marc Andrésy 78570 France;X-APPLE-RADIUS=500;X-TITLE=40 boulevard Noël-Marc:geo:2.0575313,48.9783656
END:VEVENT
END:VCALENDAR