BEGIN:VCALENDAR
VERSION:2.0
PRODID:-//Yvelines Infos - ECPv6.0.2//NONSGML v1.0//EN
CALSCALE:GREGORIAN
METHOD:PUBLISH
X-ORIGINAL-URL:https://www.yvelines-infos.fr
X-WR-CALDESC:Évènements pour Yvelines Infos
REFRESH-INTERVAL;VALUE=DURATION:PT1H
X-Robots-Tag:noindex
X-PUBLISHED-TTL:PT1H
BEGIN:VTIMEZONE
TZID:Europe/Paris
BEGIN:DAYLIGHT
TZOFFSETFROM:+0100
TZOFFSETTO:+0200
TZNAME:CEST
DTSTART:20170326T010000
END:DAYLIGHT
BEGIN:STANDARD
TZOFFSETFROM:+0200
TZOFFSETTO:+0100
TZNAME:CET
DTSTART:20171029T010000
END:STANDARD
BEGIN:DAYLIGHT
TZOFFSETFROM:+0100
TZOFFSETTO:+0200
TZNAME:CEST
DTSTART:20180325T010000
END:DAYLIGHT
BEGIN:STANDARD
TZOFFSETFROM:+0200
TZOFFSETTO:+0100
TZNAME:CET
DTSTART:20181028T010000
END:STANDARD
BEGIN:DAYLIGHT
TZOFFSETFROM:+0100
TZOFFSETTO:+0200
TZNAME:CEST
DTSTART:20190331T010000
END:DAYLIGHT
BEGIN:STANDARD
TZOFFSETFROM:+0200
TZOFFSETTO:+0100
TZNAME:CET
DTSTART:20191027T010000
END:STANDARD
BEGIN:DAYLIGHT
TZOFFSETFROM:+0100
TZOFFSETTO:+0200
TZNAME:CEST
DTSTART:20200329T010000
END:DAYLIGHT
BEGIN:STANDARD
TZOFFSETFROM:+0200
TZOFFSETTO:+0100
TZNAME:CET
DTSTART:20201025T010000
END:STANDARD
BEGIN:DAYLIGHT
TZOFFSETFROM:+0100
TZOFFSETTO:+0200
TZNAME:CEST
DTSTART:20210328T010000
END:DAYLIGHT
BEGIN:STANDARD
TZOFFSETFROM:+0200
TZOFFSETTO:+0100
TZNAME:CET
DTSTART:20211031T010000
END:STANDARD
END:VTIMEZONE
BEGIN:VEVENT
DTSTART;TZID=Europe/Paris:20170422T000000
DTEND;TZID=Europe/Paris:20170422T000000
DTSTAMP:20260423T032504
CREATED:20170323T140915Z
LAST-MODIFIED:20170323T141000Z
UID:337442-1492819200-1492819200@www.yvelines-infos.fr
SUMMARY:Piège à Matignon
DESCRIPTION:Avec Philippe Risoli et Nathalie Marquay-Pernaut\nFrançois est un brillant homme politique\, promis au poste de Premier Ministre. Mais un complot et des images volées diffusées en boucle sur Internet mettent un brusque coup d’arrêt à sa carrière. Loin de se laisser abattre\, il mène la contre-attaque avec l’aide de Claire\, son épouse\, de Louisa\, la femme de ménage… et d’un site Internet.
URL:https://www.yvelines-infos.fr/agenda/piege-a-matignon/
LOCATION:Espace Maurice-Béjart // Verneuil-sur-Seine\,  3 boulevard André-Malraux\, Verneuil-sur-Seine\, 78480\, France
ATTACH;FMTTYPE=image/jpeg:https://www.yvelines-infos.fr/content/uploads/2017/nathalie-marquay-pernaut-et-philippe-risoli-par-ludovic-baron-2016-web.jpg
GEO:48.9792125;1.9746104
X-APPLE-STRUCTURED-LOCATION;VALUE=URI;X-ADDRESS=Espace Maurice-Béjart // Verneuil-sur-Seine  3 boulevard André-Malraux Verneuil-sur-Seine 78480 France;X-APPLE-RADIUS=500;X-TITLE=3 boulevard André-Malraux:geo:1.9746104,48.9792125
END:VEVENT
BEGIN:VEVENT
DTSTART;TZID=Europe/Paris:20170505T000000
DTEND;TZID=Europe/Paris:20170505T000000
DTSTAMP:20260423T032504
CREATED:20170323T153210Z
LAST-MODIFIED:20170323T153210Z
UID:337480-1493942400-1493942400@www.yvelines-infos.fr
SUMMARY:Jeux de planches
DESCRIPTION:Alexandra et Sophie\, deux jeunes comédiennes\, débutent leur carrière avec engouement et passion\, mais vont devoir faire face aux terribles contradictions du métier qu’elles ont choisi. Concurrence\, solitude\, désorganisation\, craquages\, épuisements\, échecs\, ne feront pas le poids face à l’incommensurable plaisir que leur procure la scène. Entre rêve et sincérité\, avec talent et humour\, les comédiennes vous emmènent dans les méandres du théâtre.
URL:https://www.yvelines-infos.fr/agenda/jeux-de-planches/
LOCATION:Espace Maurice-Béjart // Verneuil-sur-Seine\,  3 boulevard André-Malraux\, Verneuil-sur-Seine\, 78480\, France
ATTACH;FMTTYPE=image/jpeg:https://www.yvelines-infos.fr/content/uploads/2017/repet-183.jpg
GEO:48.9792125;1.9746104
X-APPLE-STRUCTURED-LOCATION;VALUE=URI;X-ADDRESS=Espace Maurice-Béjart // Verneuil-sur-Seine  3 boulevard André-Malraux Verneuil-sur-Seine 78480 France;X-APPLE-RADIUS=500;X-TITLE=3 boulevard André-Malraux:geo:1.9746104,48.9792125
END:VEVENT
BEGIN:VEVENT
DTSTART;TZID=Europe/Paris:20211119T200000
DTEND;TZID=Europe/Paris:20211119T200000
DTSTAMP:20260423T032504
CREATED:20211104T152556Z
LAST-MODIFIED:20211104T152556Z
UID:380615-1637352000-1637352000@www.yvelines-infos.fr
SUMMARY:Les Images Vagabondes
DESCRIPTION:Une compétition de courts-métrages pour Les Images Vagabondes \nLe Festival Les Images Vagabondes se poursuit et met à l’honneur le court-métrage.Après une édition entièrement en ligne en début d’année\, le Festival Les Images Vagabondes revient en salle avec une compétition de courts-métrages autour de la thématique“Vive le cinéma !” Une sélection de 9 courts-métrages qui fait la part belle au 7e art\, avec notamment la découverte de jeunes talents. \nContrechamps en partenariat avec L’Espace Maurice Béjart de Verneuil-sur-Seine\, propose au public de venir à la rencontre des représentants des films et de voter pour leur film préféré levendredi 19 novembre à 20h. A l’issue de la projection sera remis le prix du jury professionnel et le prix du public. \nInfos pratiques :  \nEspace Maurice Béjart6\, boulevard André-Malraux78480 Verneuil-sur-Seine                                                                                                                                              contrechamps.asso@gmail.com06 58 50 92 07Facebook / @contrechamps.asso
URL:https://www.yvelines-infos.fr/agenda/les-images-vagabondes/
LOCATION:Espace Maurice-Béjart // Verneuil-sur-Seine\,  3 boulevard André-Malraux\, Verneuil-sur-Seine\, 78480\, France
ATTACH;FMTTYPE=image/jpeg:https://www.yvelines-infos.fr/content/uploads/2021/thumbnail-visuel-festival.jpg
ORGANIZER;CN="Association%20Contrechamps":MAILTO:contrechamps.asso@gmail.com
GEO:48.9792125;1.9746104
X-APPLE-STRUCTURED-LOCATION;VALUE=URI;X-ADDRESS=Espace Maurice-Béjart // Verneuil-sur-Seine  3 boulevard André-Malraux Verneuil-sur-Seine 78480 France;X-APPLE-RADIUS=500;X-TITLE=3 boulevard André-Malraux:geo:1.9746104,48.9792125
END:VEVENT
END:VCALENDAR