BEGIN:VCALENDAR
VERSION:2.0
PRODID:-//Yvelines Infos - ECPv6.0.2//NONSGML v1.0//EN
CALSCALE:GREGORIAN
METHOD:PUBLISH
X-ORIGINAL-URL:https://www.yvelines-infos.fr
X-WR-CALDESC:Évènements pour Yvelines Infos
REFRESH-INTERVAL;VALUE=DURATION:PT1H
X-Robots-Tag:noindex
X-PUBLISHED-TTL:PT1H
BEGIN:VTIMEZONE
TZID:Europe/Paris
BEGIN:DAYLIGHT
TZOFFSETFROM:+0100
TZOFFSETTO:+0200
TZNAME:CEST
DTSTART:20190331T010000
END:DAYLIGHT
BEGIN:STANDARD
TZOFFSETFROM:+0200
TZOFFSETTO:+0100
TZNAME:CET
DTSTART:20191027T010000
END:STANDARD
BEGIN:DAYLIGHT
TZOFFSETFROM:+0100
TZOFFSETTO:+0200
TZNAME:CEST
DTSTART:20200329T010000
END:DAYLIGHT
BEGIN:STANDARD
TZOFFSETFROM:+0200
TZOFFSETTO:+0100
TZNAME:CET
DTSTART:20201025T010000
END:STANDARD
BEGIN:DAYLIGHT
TZOFFSETFROM:+0100
TZOFFSETTO:+0200
TZNAME:CEST
DTSTART:20210328T010000
END:DAYLIGHT
BEGIN:STANDARD
TZOFFSETFROM:+0200
TZOFFSETTO:+0100
TZNAME:CET
DTSTART:20211031T010000
END:STANDARD
BEGIN:DAYLIGHT
TZOFFSETFROM:+0100
TZOFFSETTO:+0200
TZNAME:CEST
DTSTART:20220327T010000
END:DAYLIGHT
BEGIN:STANDARD
TZOFFSETFROM:+0200
TZOFFSETTO:+0100
TZNAME:CET
DTSTART:20221030T010000
END:STANDARD
END:VTIMEZONE
BEGIN:VEVENT
DTSTART;VALUE=DATE:20190914
DTEND;VALUE=DATE:20190916
DTSTAMP:20260423T023057
CREATED:20190805T102651Z
LAST-MODIFIED:20190805T102651Z
UID:360818-1568419200-1568591999@www.yvelines-infos.fr
SUMMARY:1er festival de la BD de Gally-Mauldre
DESCRIPTION:Le 1er Festival de BD organisé par l’intercommunalité Gally Mauldre réunira une trentaine d’auteurs les 14 et 15 septembre 2019 à l’Espace JKM de Saint-Nom-la-Bretêche. \nLE FESTIVAL BD DE GALLY-MAULDRE PREND SON ENVOL !\nL’Espace culturel Jacques Kosciusko-Morizet (JKM) de Saint-Nom-la-Bretêche recevra les 14 et 15 septembre prochains une trentaine de talentueux auteurs de bandes dessinées pour ce premier festival organisé par la Communauté de Communes Gally-Mauldre.\nAu programme : nombreux stands de BD neuves et d’occasion\, dédicaces\, ex-libris\, sérigraphies\, exposition d’affiches et de planches BD\, démonstrations\, élaboration de plaques de chocolat avec colorants alimentaires… \nAuteurs présents (ordre alphabétique) : \nMohamed Aouamri\, Claire Bigard\, Marc Bourgne\, Francis Carin\, Jocelyne Charrance\, Didier Crisse\, Pascal Davoz\, Cindy et Laura Derieux\, Serge Diantantu\, Cinzia Di Felice\, Brunon Di Sano\, Eriamel\, Bruno Gilson\, Thierry Girod\, Brice Goepfert\, André Houot\, Marc Jakubowski\, Kaya\, Bruno Lemaitre\, Patricia Lyfoung\, Hubert Maury\, Frédéric Marniquet\, Serge Mogère\, Christian Peultier\, Georges Ramaïoli\, Renaud\, Fred Roudier\, Eric Ruckstühl\, Jean Torton et Vincent Wagner. \nUn grand merci aux nombreux sponsors qui permettent la réalisation de cette première édition !
URL:https://www.yvelines-infos.fr/agenda/1er-festival-de-la-bd-de-gally-mauldre/
LOCATION:Espace JKM\, 10 Rue Arthur Rimbaud\, Saint-Nom-la-Bretêche\, 78860\, France
ATTACH;FMTTYPE=image/jpeg:https://www.yvelines-infos.fr/content/uploads/2019/diffusion-affiche1erfestivalgallymauldre01.jpg
END:VEVENT
BEGIN:VEVENT
DTSTART;TZID=Europe/Paris:20220128T190000
DTEND;TZID=Europe/Paris:20220128T190000
DTSTAMP:20260423T023057
CREATED:20220126T132357Z
LAST-MODIFIED:20220126T132357Z
UID:382979-1643396400-1643396400@www.yvelines-infos.fr
SUMMARY:Concert Duo KV.A
DESCRIPTION:Concert de Noël du Conservatoire de St-Nom-la-Bretèche à l’Espace JKM. \nDuo KV.A : Sung-Eun KIM-VIEILLE\, piano et Philippe ARESTAN\, violon. \nŒuvres de Mozart\, Franck\, Saint-Saëns\, Piazzolla.
URL:https://www.yvelines-infos.fr/agenda/concert-duo-kv-a/
LOCATION:Espace JKM\, 10 Rue Arthur Rimbaud\, Saint-Nom-la-Bretêche\, 78860\, France
ATTACH;FMTTYPE=image/png:https://www.yvelines-infos.fr/content/uploads/2022/kv-a-concert-28-01-2022.png
END:VEVENT
END:VCALENDAR