BEGIN:VCALENDAR
VERSION:2.0
PRODID:-//Yvelines Infos - ECPv6.0.2//NONSGML v1.0//EN
CALSCALE:GREGORIAN
METHOD:PUBLISH
X-WR-CALNAME:Yvelines Infos
X-ORIGINAL-URL:https://www.yvelines-infos.fr
X-WR-CALDESC:Évènements pour Yvelines Infos
REFRESH-INTERVAL;VALUE=DURATION:PT1H
X-Robots-Tag:noindex
X-PUBLISHED-TTL:PT1H
BEGIN:VTIMEZONE
TZID:Europe/Paris
BEGIN:DAYLIGHT
TZOFFSETFROM:+0100
TZOFFSETTO:+0200
TZNAME:CEST
DTSTART:20210328T010000
END:DAYLIGHT
BEGIN:STANDARD
TZOFFSETFROM:+0200
TZOFFSETTO:+0100
TZNAME:CET
DTSTART:20211031T010000
END:STANDARD
BEGIN:DAYLIGHT
TZOFFSETFROM:+0100
TZOFFSETTO:+0200
TZNAME:CEST
DTSTART:20220327T010000
END:DAYLIGHT
BEGIN:STANDARD
TZOFFSETFROM:+0200
TZOFFSETTO:+0100
TZNAME:CET
DTSTART:20221030T010000
END:STANDARD
END:VTIMEZONE
BEGIN:VEVENT
DTSTART;TZID=Europe/Paris:20211112T210000
DTEND;TZID=Europe/Paris:20211113T210000
DTSTAMP:20260422T231414
CREATED:20211104T153038Z
LAST-MODIFIED:20211104T153038Z
UID:380451-1636750800-1636837200@www.yvelines-infos.fr
SUMMARY:Un verre de sang\, Monsieur le Baron ?
DESCRIPTION:Un verre de sang\, Monsieur le Baron ? \nComédie tout public de Philippe Castaing. La nouvelle création de la troupe de Saint-Rémy-lès-Chevreuse\, le théâtre de l’Éphémère ! \nAprès le succès de “La fin des haricots”\, la troupe vous propose cette année un voyage comique et délirant dans l’Angleterre du 19e siècle… \nAu vieux et inquiétant manoir de Bloodcastle\, on se lamente…\nLe Baron Vladimir Parevim et son fidèle Majordome Nicusor cherchent désespérément le moyen d’attirer du « sang frais » au château.\nIl y va de leur survie. \nC’est alors qu’ils ont l’idée de jouer avec la rumeur de vampirisme qui court dans la région et de créer un concept innovant d’attraction touristique : un escape game sur le thème des vampires ! \n“Séjour inédit et amusant !\nPassez quelques nuits d’angoisse\, enfermés dans un manoir lugubre infesté de Vampires cruels et assoiffés de sang et tentez de vous en échapper avant qu’ils ne vous mordent !” \nDes clients imprudents en quête d’émotions fortes se présenteront-ils au château ? \nDurée: 1h45 \nplein tarif « adulte » : 15€ sans réservation / 12€ avec réservation.\nPour les 10-18 ans : 8€\n3€ pour les moins de 10 ans
URL:https://www.yvelines-infos.fr/agenda/un-verre-de-sang-monsieur-le-baron/
LOCATION:Espace Jean Racine\, Rue Ditte\, Saint Rémy les Chevreuse\, 78470
ATTACH;FMTTYPE=image/jpeg:https://www.yvelines-infos.fr/content/uploads/2021/affiche-vampires-master-rvb-pour-web-1-e1631206351103.jpg
ORGANIZER;CN="MLC":MAILTO:contact@mlcstremy.org
END:VEVENT
BEGIN:VEVENT
DTSTART;TZID=Europe/Paris:20220319T170000
DTEND;TZID=Europe/Paris:20220319T183000
DTSTAMP:20260422T231414
CREATED:20220322T141127Z
LAST-MODIFIED:20220322T141127Z
UID:384483-1647709200-1647714600@www.yvelines-infos.fr
SUMMARY:Ujjaya : conférence-concert Instruments mystiques et magiques d'Asie
DESCRIPTION:Après son sleep concert magique au 15bis rue Ditte\, à St Rémy-les-Chevreuse\, Ujjaya y fera une conférence-concert sur les instruments mystiques et magiques d’Asie. Le concert\, en guise de voyage musical mélangera la musique ambient avec des instruments rituels asiatiques : conque indienne\, veena d’Inde du Sud\, kangling (flûte en tibia tibétaine)\, qin chinois\, gong balinais\, tambour de temple tibétain\, etc… La conférence qui s’en suivra sera l’occasion d’exposer les croyances\, rites liés à ces instruments. \nRéservation conseillée à hery.ujjaya@gmail.com ou au 06.10.20.78.55
URL:https://www.yvelines-infos.fr/agenda/ujjaya-conference-concert-instruments-mystiques-et-magiques-dasie/
LOCATION:Espace Jean Racine\, Rue Ditte\, Saint Rémy les Chevreuse\, 78470
ATTACH;FMTTYPE=image/jpeg:https://www.yvelines-infos.fr/content/uploads/2022/2678377-ujjaya-conference-concert-instruments-mystiques-et-magiques-d-asie-135734.jpg
ORGANIZER;CN="Service%20culturel%20de%20Saint-R%C3%A9my-l%C3%A8s-Chevreuse":MAILTO:culture@ville-st-remy-chevreuse.fr
END:VEVENT
BEGIN:VEVENT
DTSTART;TZID=Europe/Paris:20220401T203000
DTEND;TZID=Europe/Paris:20220401T203000
DTSTAMP:20260422T231414
CREATED:20220322T140852Z
LAST-MODIFIED:20220322T140852Z
UID:384600-1648845000-1648845000@www.yvelines-infos.fr
SUMMARY:KAZ HAWKINS
DESCRIPTION:Le Blues dans toute sa splendeur et ses déchirements. Une histoire personnelle qui emporte tout sur son chemin\, l’énergie du désespoir qui est l’essence même du Blues\, tout se retrouve dans cette voix prenante\, envoûtante\, qui nous ramène à la grande Etta ! Amateurs d’émotions fortes\, ce concert est pour vous.\nQuand on découvre la voix de Kaz Hawkins\, on se retrouve immédiatement embarqué sur les rives du Mississippi\, dans les rues de Clarksdale ou de Memphis\, en compagnie de ces grandes chanteuses de blues\, de soul\, de folk\, de funk\, de rhythm’n’blues… qui ont débuté dans la ferveur des choeurs de gospel. Pourtant\, Kaz Hawkins a vu le jour en Irlande du Nord et elle a fait ses classes dans les bars de Belfast où l’emmenait son père. Dans le chaos d’un pays déchiré par la ségrégation et la guerre civile. \nKaz Hawkins a choisi de poser ses bagages en France : « Je suis tombée amoureuse de votre culture. Ici\, je ne porte pas d’étiquette. Je suis libre d’entamer un nouveau chapitre ». Une déclaration d’amour réciproque quand on sait le chaleureux accueil que lui a réservé le public de festivals français.\nUn nouveau chapitre qui commence…par un best-of intitulé « My Life and I »\, dont la sortie est annoncée le 8 avril prochain par le label Dixiefrog\, qui l’accompagne désormais. Car\, pour comprendre ces fêlures et cette émotion qui donnent à son chant une telle intensité\, il faut remonter dans le temps. Celui où\, petite fille\, elle écrivait des poésies en cachette pour tenter d’oublier la douleur d’une innocence bafouée. C’est aussi l’époque de son premier radio-crochet auquel elle participe en interprétant « Secret Love » de Doris Day. Impressionné\, le directeur artistique de l’émission l’oriente alors vers un autre répertoire : celui d’Etta James. Un conseil qui va bouleverser la vie de la fillette de 12 ans.\nEn écoutant la cassette « Saint-Louis Blues »\, rapportée du marché par sa grand-mère\, Kaz range sa jolie robe en forme de meringue\, ses partitions de « No\, no Nanette » ou de « Tea for Two » pour se plonger dans cette musique qui la console. « J’ai entendu son chagrin et je m’y suis retrouvée. Je voulais chanter comme elle\, mais sans chercher à l’imiter » se souvient-elle. Un héritage symbolique qui l’amènera plus tard à adopter le nom de celle qui l’inspire depuis toujours (pour l’état civil Etta James était née Jamesetta Hawkins). \nViendront ensuite les concerts avec des reprises d’Etta\, mais aussi d’Aretha Franklin ou de Joe Cocker. Des années marquées également par la violence dont elle porte encore les cicatrices. « La musique était une sorte de refuge\, comme un doudou ! Lorsque je chante je me sens en sécurité. C’est mon histoire qui a fait de moi l’artiste que je suis\, mais ce n’est pas ce qui me définit » confie-t’elle.\nAutodidacte Kaz Hawkins a commencé à jouer sur une guitare prêtée par des copains qui lui enseigneront quelques bases. Il n’en faut pas davantages pour qu’elle commence à écrire et composer ses propres chansons. \nAprès 4 albums\, 2 EP\, un live et une compilation\, « My Life and I »\, distribué pour la première fois à l’international\, apparaît comme un superbe trait d’union entre hier et aujourd’hui. Un pont franchi\, le regard tourné vers ces « jours meilleurs » qu’elle appelle dans un grand éclat de rire. En Irlande où elle anime une émission sur BBC Radio Ulster\, on l’a parfois qualifiée de diva. Sans doute parce qu’elle ne ressemble à aucune autre.\nMais Kaz Hawkins est une artiste authentique\, sans fard ni sophistication\, dont le timbre exceptionnel\, les mots et la musique touchent au plus près du coeur…
URL:https://www.yvelines-infos.fr/agenda/kaz-hawkins/
LOCATION:Espace Jean Racine\, Rue Ditte\, Saint Rémy les Chevreuse\, 78470
ATTACH;FMTTYPE=image/jpeg:https://www.yvelines-infos.fr/content/uploads/2022/591-227-kaz8973-raw-rtd220-cymk.jpg
ORGANIZER;CN="Service%20culturel%20de%20Saint-R%C3%A9my-l%C3%A8s-Chevreuse":MAILTO:culture@ville-st-remy-chevreuse.fr
END:VEVENT
BEGIN:VEVENT
DTSTART;TZID=Europe/Paris:20220402T203000
DTEND;TZID=Europe/Paris:20220402T203000
DTSTAMP:20260422T231414
CREATED:20220322T140843Z
LAST-MODIFIED:20220322T140843Z
UID:384605-1648931400-1648931400@www.yvelines-infos.fr
SUMMARY:THE BONGO HOP
DESCRIPTION:The Bongo Hop\, c’est le nouveau projet afro caribéen du trompettiste Etienne Sevet. Nappes rythmiques ultra efficaces\, croisement de genres habile\, richesse vocale et clairs obscurs mélodiques définissent ce mélange transatlantique\, aussi africain que sud américain.\nSur scène\, The Bongo Hop agit comme une tempête tropicale\, servie avec des cuivres chauds\, ses grooves afro\, ses sonorités électriques et des voix envoûtantes. \nGroupe à géométrie variable\, The Bongo Hop est une histoire de voyage\, de belles rencontres et d’affinités\, vécue par le trompettiste français Etienne Sevet\, entre la Colombie\, la Tanzanie\, le Cap Vert… et Lyon où il a jeté l’ancre. Il nous propose un concentré de musique latino et afrocaribéenne funky et prélassée. La production est moite comme la jungle\, la guitare précise et nerveuse\, les cuivres s’élèvent comme des ballons multicolores dans un ciel sans nuages.
URL:https://www.yvelines-infos.fr/agenda/the-bongo-hop/
LOCATION:Espace Jean Racine\, Rue Ditte\, Saint Rémy les Chevreuse\, 78470
ATTACH;FMTTYPE=image/jpeg:https://www.yvelines-infos.fr/content/uploads/2022/tbh-live-vertical-par-arnaud-emmanuel-veron-s2.jpg
ORGANIZER;CN="Service%20culturel%20de%20Saint-R%C3%A9my-l%C3%A8s-Chevreuse":MAILTO:culture@ville-st-remy-chevreuse.fr
END:VEVENT
BEGIN:VEVENT
DTSTART;TZID=Europe/Paris:20220409T210000
DTEND;TZID=Europe/Paris:20220409T210000
DTSTAMP:20260422T231414
CREATED:20220322T140810Z
LAST-MODIFIED:20220322T140810Z
UID:384687-1649538000-1649538000@www.yvelines-infos.fr
SUMMARY:FREDRIKA STAHL
DESCRIPTION:Fredrika Stahl nous entraîne dans des univers à la fois mystérieux\, épiques\, romantiques\, traversés de lumière\, à l’image de ce nouveau single Rescue Me ou l’on sent le vent scandinave flirter avec le feu d’une pop résolument moderne. Mêlant les envolées vocales d’une Kate Bush\, la dream pop de Bat for Lashes ou The Do et l’élégance musicale d’une Agnès Obel\, on découvre sur ce titre une sincérité bouleversante\, une ferveur et une fantaisie qui n’ont pas fini de nous faire chavirer.\nC’est sans doute l’album du tournant pour Fredrika Stahl\, artiste multi-facettes qui propose aujourd’hui son disque le plus personnel\, façonné tout au long des heures suspendues de la nuit. Fredrika continue à assembler les briques d’une oeuvre durable et profonde\, délicate\, et à se réinventer. Dans son nouvel album\, elle fait à nouveau de la démonstration de son talent protéiforme d’autrice\, de compositrice et d’interprète. \nNATTEN (nuit en suédois) est la concrétisation d’une nouvelle étape. Assurant elle-même la production du disque en compagnie du réalisateur Clément Ducol\, elle y a développé toute la diversité de son talent et ce\, après la tombée du jour. Comme elle le confie elle-même\, ce moment privilégié\, entre deux journées\, entre deux mondes est celui où elle peut « entrer en elle » le plus facilement. Aller puiser dans la mélancolie\, dans l’intimité et transformer cette matière en mots et en musiques.
URL:https://www.yvelines-infos.fr/agenda/fredrika-stahl/
LOCATION:Espace Jean Racine\, Rue Ditte\, Saint Rémy les Chevreuse\, 78470
ATTACH;FMTTYPE=image/jpeg:https://www.yvelines-infos.fr/content/uploads/2022/fredrika-stahl-cdld-1080x675-w-spectacle-1080x650-1.jpg
ORGANIZER;CN="Service%20culturel%20de%20Saint-R%C3%A9my-l%C3%A8s-Chevreuse":MAILTO:culture@ville-st-remy-chevreuse.fr
END:VEVENT
END:VCALENDAR