BEGIN:VCALENDAR
VERSION:2.0
PRODID:-//Yvelines Infos - ECPv6.0.2//NONSGML v1.0//EN
CALSCALE:GREGORIAN
METHOD:PUBLISH
X-WR-CALNAME:Yvelines Infos
X-ORIGINAL-URL:https://www.yvelines-infos.fr
X-WR-CALDESC:Évènements pour Yvelines Infos
REFRESH-INTERVAL;VALUE=DURATION:PT1H
X-Robots-Tag:noindex
X-PUBLISHED-TTL:PT1H
BEGIN:VTIMEZONE
TZID:Europe/Paris
BEGIN:DAYLIGHT
TZOFFSETFROM:+0100
TZOFFSETTO:+0200
TZNAME:CEST
DTSTART:20180325T010000
END:DAYLIGHT
BEGIN:STANDARD
TZOFFSETFROM:+0200
TZOFFSETTO:+0100
TZNAME:CET
DTSTART:20181028T010000
END:STANDARD
END:VTIMEZONE
BEGIN:VEVENT
DTSTART;TZID=Europe/Paris:20181201T100000
DTEND;TZID=Europe/Paris:20181202T190000
DTSTAMP:20260423T084054
CREATED:20181204T153531Z
LAST-MODIFIED:20181204T153531Z
UID:354129-1543658400-1543777200@www.yvelines-infos.fr
SUMMARY:5ème biennale Exposition-Vente Hélium
DESCRIPTION:Les 1er et 2 décembre prochains se tiendra la 5ème édition de l’exposition-vente des artistes de l’association Hélium au profit de SNL (antennes Pays de Limours et Vallée de Chevreuse). \nL’association Hélium\, qui regroupe une centaine d’artistes oeuvrant sur le territoire de la Vallée de Chevreuse\, connue pour le Parcours d’ateliers d’artistes qu’elle organise chaque année en octobre\, a également une vocation sociale et d’entraide : elle soutient l’association Solidarités Nouvelles pour le Logement depuis 2010. \nL’association Solidarités Nouvelles pour le Logement a pour vocation\, grâce à ses membres bénévoles\, de favoriser la création de logements destinés à des personnes seules ou des familles en situation précaire\, comme une transition avant une réinsertion dans le circuit locatif.\nSNL Pays de Limours oeuvre depuis 1998\, gère actuellement 14 logements (Limours et Les Molières) et en gèrera 26 supplémentaires d’ici 2020 (Gometz-la-Ville\, Fontenay-lès-Briis\, Briis-sous-Forges\, Forges-les-Bains et Les Molières).\nSNL Vallée de Chevreuse oeuvre depuis 2007\, gère actuellement 8 logements (Chevreuse et Saint-Rémy-lès-Chevreuse) et en gèrera 2 supplémentaires à Cernay-la-Ville d’ici la fin de l’année. \nL’Espace Fernand Léger\, Chemin des Regains à Chevreuse\, accueillera la manifestation à laquelle est associée une quarantaine d’artistes qui ont accepté de reverser tout ou partie de leurs gains à SNL.\nEn effet\, deux modes d’exposition sont proposés aux artistes :\n– une exposition collective : les artistes proposent 4 oeuvres maximum à la vente (et reverseront 50% de leurs gains à SNL) ;\n– une exposition thématique\, Parle-moi de toi(t) : les artistes proposent une oeuvre spécifique à la vente (et reverseront 100% de leurs gains à SNL). \nLe total des sommes récoltées à l’issue de cette manifestation servira à la création des nouveaux logements ou à l’entretien du parc existant. Lors des précédentes éditions\, les artistes ont pu remettre à chaque fois entre 4000 et 5000€ à SNL. \nLes artistes: \nValérie Anceaume Gutierrez – Anne-Marie Barboteau – Klasien Boulloud – Michel Brouand – Daniella Coelho – Raphaële Colombi – Cécile Dachary – Dorothée Delornoir – Michel Di Maggio – Nathalie Dubleumortier – CJ Dubreuil – Françoise Gomes – Claudine Guittet –Sophie Hamel-Galvao – Shelagh Hickman– Claude Laurent – Marie Lavault – Sunhee Lee – Valérie Loiseau – Coline Louber – Frédéric Marquis – Emmanuelle Mertian de Muller – Pascal Mollet – Fabienne Nuyttens-Perin – Jean-Paul Privat – Bruno Raoux – Caroline Regnaut – Marie Romain – Rudolph Rosch – Catherine Seznec – Chris Sharpe – Martine Swynghedauw – Marie Taklanti – Véronique Tiberge – « YaYa » K.
URL:https://www.yvelines-infos.fr/agenda/5eme-biennale-exposition-vente-helium/
LOCATION:espace Fernand Léger\, Chemin des Regains\, Chevreuse\, 78460
ATTACH;FMTTYPE=image/jpeg:https://www.yvelines-infos.fr/content/uploads/2018/affiche-snl-helium-2018.jpg
END:VEVENT
END:VCALENDAR