BEGIN:VCALENDAR
VERSION:2.0
PRODID:-//Yvelines Infos - ECPv6.0.2//NONSGML v1.0//EN
CALSCALE:GREGORIAN
METHOD:PUBLISH
X-WR-CALNAME:Yvelines Infos
X-ORIGINAL-URL:https://www.yvelines-infos.fr
X-WR-CALDESC:Évènements pour Yvelines Infos
REFRESH-INTERVAL;VALUE=DURATION:PT1H
X-Robots-Tag:noindex
X-PUBLISHED-TTL:PT1H
BEGIN:VTIMEZONE
TZID:Europe/Paris
BEGIN:DAYLIGHT
TZOFFSETFROM:+0100
TZOFFSETTO:+0200
TZNAME:CEST
DTSTART:20200329T010000
END:DAYLIGHT
BEGIN:STANDARD
TZOFFSETFROM:+0200
TZOFFSETTO:+0100
TZNAME:CET
DTSTART:20201025T010000
END:STANDARD
END:VTIMEZONE
BEGIN:VEVENT
DTSTART;TZID=Europe/Paris:20201121T203000
DTEND;TZID=Europe/Paris:20201121T220000
DTSTAMP:20260423T132022
CREATED:20201006T094500Z
LAST-MODIFIED:20201006T094500Z
UID:369641-1605990600-1605996000@www.yvelines-infos.fr
SUMMARY:7ème  Musicales d’Automne 7-29 Novembre 2020
DESCRIPTION:Jazz\, Pop Rock et Romantisme … un trio pas comme les autres \nRAFAEL DATO TRIO\n● Rafaêl Dato\, piano\, \n● Antoine Leiser\, contrebasse\, \n● Timothée Garson \, batterie \nCe trio recherche l’harmonie et l’équilibre entre les instruments. Le jeu\, axé essentiellement sur le live\, crée la surprise à chaque instant en particulier avec cette notion « d’interplay » chère au pianiste Bill Evans\, modèle incontournable du trio. \n  \nRéservation et renseignements : 06 07 79 19 53\nwww.arpegesetpatrimoine.fr\nRéservation et vente en ligne jusqu’à 48h avant le concert sur www.arpegesetpatrimoine.fr
URL:https://www.yvelines-infos.fr/agenda/7eme-musicales-dautomne-7-29-novembre-2020/
LOCATION:Espace du Plessis\, Avenue de l’Europe\, Toussus-le-Noble\, 78117
ATTACH;FMTTYPE=image/jpeg:https://www.yvelines-infos.fr/content/uploads/2020/21-novembre-2020.jpg
ORGANIZER;CN="Arp%C3%A8ges%20et%20Patrimoine":MAILTO:musiquenbievre@gmx.fr
END:VEVENT
END:VCALENDAR