BEGIN:VCALENDAR
VERSION:2.0
PRODID:-//Yvelines Infos - ECPv6.0.2//NONSGML v1.0//EN
CALSCALE:GREGORIAN
METHOD:PUBLISH
X-WR-CALNAME:Yvelines Infos
X-ORIGINAL-URL:https://www.yvelines-infos.fr
X-WR-CALDESC:Évènements pour Yvelines Infos
REFRESH-INTERVAL;VALUE=DURATION:PT1H
X-Robots-Tag:noindex
X-PUBLISHED-TTL:PT1H
BEGIN:VTIMEZONE
TZID:Europe/Paris
BEGIN:DAYLIGHT
TZOFFSETFROM:+0100
TZOFFSETTO:+0200
TZNAME:CEST
DTSTART:20180325T010000
END:DAYLIGHT
BEGIN:STANDARD
TZOFFSETFROM:+0200
TZOFFSETTO:+0100
TZNAME:CET
DTSTART:20181028T010000
END:STANDARD
END:VTIMEZONE
BEGIN:VEVENT
DTSTART;VALUE=DATE:20180210
DTEND;VALUE=DATE:20180211
DTSTAMP:20260423T151728
CREATED:20180119T153936Z
LAST-MODIFIED:20180119T153936Z
UID:346788-1518220800-1518307199@www.yvelines-infos.fr
SUMMARY:Journée du Vivre Ensemble : "L’éducation dans l’Histoire"
DESCRIPTION:Afin de permettre la rencontre interculturelle et d’amener le public à réfléchir sur la thématique de l’éducation dans l’Histoire\, le RACIVS organise la 3ème édition des Journées du Vivre Ensemble\, aux Mureaux\, le samedi 10 février. En partenariat avec A.S.A.H (Association au Service de l’Action Humanitaire) et ANVSC (Association nationale des anciens volontaires de service civique). \nAu programme de cette journée : \n– Exposition et présentations de projets d’associations de solidarité internationale ainsi que du travail d’acteurs de l’éducation dans les quartiers\n– Des temps de parole intergénérationnelle\n– Une table-ronde avec Annick Gouba (consultante en développement)\, François Durpaire (historien\, spécialiste de l’éducation dans les pays en développement) et Roland Colin (sociologue)\n– Spectacle de danse et one woman show avec Samia Orosemane\n– Apéritif solidaire et dîner “Saveurs du monde” \nInscription en ligne
URL:https://www.yvelines-infos.fr/agenda/journee-vivre-ensemble-leducation-lhistoire/
LOCATION:Espace des Habitants\, 49 avenue de la République\, Les Mureaux\, 78130\, France
ATTACH;FMTTYPE=image/png:https://www.yvelines-infos.fr/content/uploads/2018/1513449474.png
END:VEVENT
END:VCALENDAR