BEGIN:VCALENDAR
VERSION:2.0
PRODID:-//Yvelines Infos - ECPv6.0.2//NONSGML v1.0//EN
CALSCALE:GREGORIAN
METHOD:PUBLISH
X-ORIGINAL-URL:https://www.yvelines-infos.fr
X-WR-CALDESC:Évènements pour Yvelines Infos
REFRESH-INTERVAL;VALUE=DURATION:PT1H
X-Robots-Tag:noindex
X-PUBLISHED-TTL:PT1H
BEGIN:VTIMEZONE
TZID:Europe/Paris
BEGIN:DAYLIGHT
TZOFFSETFROM:+0100
TZOFFSETTO:+0200
TZNAME:CEST
DTSTART:20210328T010000
END:DAYLIGHT
BEGIN:STANDARD
TZOFFSETFROM:+0200
TZOFFSETTO:+0100
TZNAME:CET
DTSTART:20211031T010000
END:STANDARD
END:VTIMEZONE
BEGIN:VEVENT
DTSTART;TZID=Europe/Paris:20211120T203000
DTEND;TZID=Europe/Paris:20211120T203000
DTSTAMP:20260423T003221
CREATED:20211104T152024Z
LAST-MODIFIED:20211104T152024Z
UID:380635-1637440200-1637440200@www.yvelines-infos.fr
SUMMARY:Amicalement Vamp
DESCRIPTION:La Lucienne des Vamps et sa nièce Solange reviennent avec un nouveau spectacle\, une comédie policière ébouriffante ! \nLucienne se fait violemment attaquer en pleine rue et voler son sac à main. Choquée\, elle va tout faire pour retrouver ce précieux sac qui contient ses trésors personnels et embarquer Solange à la poursuite du voleur. \nLes neurones en ébullition\, la socquette frétillante et la gaine audacieuse\, ces drôles de dames vont mener l’enquête d’une façon très personnelle: indices\, poursuites\, vraies fausses pistes… \nEt si l’aventure se révélait plus dangereuse que prévue ? Du grand mystère\, une enquête XXL digne des « Experts » qui ferait pâlir d’envie Julie Lescaut et Capitaine Marleau. \nMise en scène : Jean-Claude Cotillard \nInfos pratiques :  \nOuverture des portes à partir de 19h45                                                                                                                                                                    Accès handicapés                                                                                                                                                                                                      Parking gratuit \nTarif réduit : 18€                                                                                                                                                                                                                  Tarif plein : 21€
URL:https://www.yvelines-infos.fr/agenda/amicalement-vamp/
LOCATION:Espace Albert Camus\, 4 Rue de la Beauce\, Maurepas\, 78310
ATTACH;FMTTYPE=image/jpeg:https://www.yvelines-infos.fr/content/uploads/2021/amicalement-vamp-4788545517513661616.jpg
END:VEVENT
BEGIN:VEVENT
DTSTART;TZID=Europe/Paris:20211211T203000
DTEND;TZID=Europe/Paris:20211211T203000
DTSTAMP:20260423T003221
CREATED:20211104T152012Z
LAST-MODIFIED:20211104T152012Z
UID:380641-1639254600-1639254600@www.yvelines-infos.fr
SUMMARY:CATCH D'IMPRO
DESCRIPTION:Encadrés par un arbitre qui s’octroie tous les pouvoirs\, deux équipes de deux catcheurs improvisateurs s’affrontent dans un combat théâtral sans merci. Une ambiance survoltée\, des comédiens ruisselants\, une énergie explosive\, des costumes improbables\, des improvisations inoubliables\, et peut-être\, qui sait\, la rencontre de votre vie au bar après le spectacle parce que comme disent les philosophes : « ce n’est pas en restant assis chez soi que… bon voilà\, quoi… ». « Si vous avez aimé ce spectacle revenez puisqu’il est à chaque fois différent. Si vous n’avez pas aimé ce spectacle revenez puisqu’on vous dit qu’il est à chaque fois différent. ». \nTarif plein : 16€                                                                                                                                                                                                                    Tarif réduit : 10€
URL:https://www.yvelines-infos.fr/agenda/catch-dimpro/
LOCATION:Espace Albert Camus\, 4 Rue de la Beauce\, Maurepas\, 78310
ATTACH;FMTTYPE=image/jpeg:https://www.yvelines-infos.fr/content/uploads/2021/thumbnail-2-scaled.jpeg
END:VEVENT
END:VCALENDAR