BEGIN:VCALENDAR
VERSION:2.0
PRODID:-//Yvelines Infos - ECPv6.0.2//NONSGML v1.0//EN
CALSCALE:GREGORIAN
METHOD:PUBLISH
X-ORIGINAL-URL:https://www.yvelines-infos.fr
X-WR-CALDESC:Évènements pour Yvelines Infos
REFRESH-INTERVAL;VALUE=DURATION:PT1H
X-Robots-Tag:noindex
X-PUBLISHED-TTL:PT1H
BEGIN:VTIMEZONE
TZID:Europe/Paris
BEGIN:DAYLIGHT
TZOFFSETFROM:+0100
TZOFFSETTO:+0200
TZNAME:CEST
DTSTART:20180325T010000
END:DAYLIGHT
BEGIN:STANDARD
TZOFFSETFROM:+0200
TZOFFSETTO:+0100
TZNAME:CET
DTSTART:20181028T010000
END:STANDARD
BEGIN:DAYLIGHT
TZOFFSETFROM:+0100
TZOFFSETTO:+0200
TZNAME:CEST
DTSTART:20190331T010000
END:DAYLIGHT
BEGIN:STANDARD
TZOFFSETFROM:+0200
TZOFFSETTO:+0100
TZNAME:CET
DTSTART:20191027T010000
END:STANDARD
BEGIN:DAYLIGHT
TZOFFSETFROM:+0100
TZOFFSETTO:+0200
TZNAME:CEST
DTSTART:20200329T010000
END:DAYLIGHT
BEGIN:STANDARD
TZOFFSETFROM:+0200
TZOFFSETTO:+0100
TZNAME:CET
DTSTART:20201025T010000
END:STANDARD
END:VTIMEZONE
BEGIN:VEVENT
DTSTART;TZID=Europe/Paris:20180505T080000
DTEND;TZID=Europe/Paris:20180506T170000
DTSTAMP:20260423T044839
CREATED:20180124T162557Z
LAST-MODIFIED:20180124T162557Z
UID:346455-1525507200-1525626000@www.yvelines-infos.fr
SUMMARY:Compétition canine "Championnat de France obeïssance" 5-6 mai 2018
DESCRIPTION:Les 90 meilleures équipes « maitre & chien » venues de toute la France se disputeront le titre suprême et seront départagées par un jury international composé de 3 juges français – 1 juge suédois – 1 juge Allemand. Ouverte aux chiens de toutes races comme de toutes tailles et basée sur la complicité entre le chien et son maître\, cette discipline est pratiquée par près de 3200 licenciés sur les 22000 compétiteurs de sport canins recensés au niveau national\, sous l’égide de la Société Centrale Canine.
URL:https://www.yvelines-infos.fr/agenda/competition-canine-championnat-de-france-obeissance-5-6-mai-2018/
LOCATION:EPONE\, 1 CHEMIN DE MEULAN\, EPONE\, 78680
ATTACH;FMTTYPE=image/jpeg:https://www.yvelines-infos.fr/content/uploads/2018/affiche-cfobe-2018.jpg
ORGANIZER;CN="Soci%C3%A9t%C3%A9%20Canine%20d%27Ile%20de%20France":MAILTO:scif@wanadoo.fr
GEO:48.9680891;1.8288831
X-APPLE-STRUCTURED-LOCATION;VALUE=URI;X-ADDRESS=EPONE 1 CHEMIN DE MEULAN EPONE 78680;X-APPLE-RADIUS=500;X-TITLE=1 CHEMIN DE MEULAN:geo:1.8288831,48.9680891
END:VEVENT
BEGIN:VEVENT
DTSTART;VALUE=DATE:20200229
DTEND;VALUE=DATE:20200301
DTSTAMP:20260423T044839
CREATED:20200226T151109Z
LAST-MODIFIED:20200226T151109Z
UID:365621-1582934400-1583020799@www.yvelines-infos.fr
SUMMARY:Fresh date !
DESCRIPTION:Bonjour à tous ! \nJe vous invite à venir découvrir une nouvelle gamme de produits cosmétiques et compléments alimentaires basés sur un concept unique ! Si vous aimez le naturel\, le bio\, le Vegan et l’eco responsabilité … venez nous rencontrer !
URL:https://www.yvelines-infos.fr/agenda/fresh-date/
LOCATION:EPONE\, 1 CHEMIN DE MEULAN\, EPONE\, 78680
ATTACH;FMTTYPE=image/jpeg:https://www.yvelines-infos.fr/content/uploads/2020/54927737-a742-4d4d-8db5-2c1fba80a756.jpeg
GEO:48.9680891;1.8288831
X-APPLE-STRUCTURED-LOCATION;VALUE=URI;X-ADDRESS=EPONE 1 CHEMIN DE MEULAN EPONE 78680;X-APPLE-RADIUS=500;X-TITLE=1 CHEMIN DE MEULAN:geo:1.8288831,48.9680891
END:VEVENT
END:VCALENDAR