BEGIN:VCALENDAR
VERSION:2.0
PRODID:-//Yvelines Infos - ECPv6.0.2//NONSGML v1.0//EN
CALSCALE:GREGORIAN
METHOD:PUBLISH
X-ORIGINAL-URL:https://www.yvelines-infos.fr
X-WR-CALDESC:Évènements pour Yvelines Infos
REFRESH-INTERVAL;VALUE=DURATION:PT1H
X-Robots-Tag:noindex
X-PUBLISHED-TTL:PT1H
BEGIN:VTIMEZONE
TZID:Europe/Paris
BEGIN:DAYLIGHT
TZOFFSETFROM:+0100
TZOFFSETTO:+0200
TZNAME:CEST
DTSTART:20200329T010000
END:DAYLIGHT
BEGIN:STANDARD
TZOFFSETFROM:+0200
TZOFFSETTO:+0100
TZNAME:CET
DTSTART:20201025T010000
END:STANDARD
END:VTIMEZONE
BEGIN:VEVENT
DTSTART;TZID=Europe/Paris:20201212T100000
DTEND;TZID=Europe/Paris:20201212T113000
DTSTAMP:20260423T092622
CREATED:20201209T102333Z
LAST-MODIFIED:20201209T210629Z
UID:371953-1607767200-1607772600@www.yvelines-infos.fr
SUMMARY:"Quelles transitions pour les pratiques sportives de demain ?"
DESCRIPTION:Afin d’encourager les acteurs du sport à une pratique plus responsable\, le CDOS des Yvelines met en place un label à destination des organisateurs sportifs du département. \nEn cette période de changements sociaux\, le sport se doit d’être un modèle. C’est pourquoi le Comité Départemental Olympique et Sportif des Yvelines (CDOS 78) a lancé la création d’un label « Sport citoyen\, sport responsable ». Ce label a pour objectif de faciliter la démarche des organisateurs\, assurer un accompagnement sur le long terme et l’engagement continu de l’organisateur sur la tenue des événements sportifs sur le territoire \nParticipez à la réunion Zoom via ce lien \nID de réunion : 933 5141 3864\nCode secret : 599278\nRenseignements complémentaires à l’adresse suivante : developpementdurable.yvelines@franceolympique.com \n\n 
URL:https://www.yvelines-infos.fr/agenda/quelles-transitions-pour-les-pratiques-sportives-de-demain/
LOCATION:En ligne\, France
ATTACH;FMTTYPE=image/jpeg:https://www.yvelines-infos.fr/content/uploads/2018/26-e1517849249619.jpg
END:VEVENT
END:VCALENDAR