BEGIN:VCALENDAR
VERSION:2.0
PRODID:-//Yvelines Infos - ECPv6.0.2//NONSGML v1.0//EN
CALSCALE:GREGORIAN
METHOD:PUBLISH
X-ORIGINAL-URL:https://www.yvelines-infos.fr
X-WR-CALDESC:Évènements pour Yvelines Infos
REFRESH-INTERVAL;VALUE=DURATION:PT1H
X-Robots-Tag:noindex
X-PUBLISHED-TTL:PT1H
BEGIN:VTIMEZONE
TZID:Europe/Paris
BEGIN:DAYLIGHT
TZOFFSETFROM:+0100
TZOFFSETTO:+0200
TZNAME:CEST
DTSTART:20200329T010000
END:DAYLIGHT
BEGIN:STANDARD
TZOFFSETFROM:+0200
TZOFFSETTO:+0100
TZNAME:CET
DTSTART:20201025T010000
END:STANDARD
BEGIN:DAYLIGHT
TZOFFSETFROM:+0100
TZOFFSETTO:+0200
TZNAME:CEST
DTSTART:20210328T010000
END:DAYLIGHT
BEGIN:STANDARD
TZOFFSETFROM:+0200
TZOFFSETTO:+0100
TZNAME:CET
DTSTART:20211031T010000
END:STANDARD
END:VTIMEZONE
BEGIN:VEVENT
DTSTART;TZID=Europe/Paris:20200613T143000
DTEND;TZID=Europe/Paris:20200613T170000
DTSTAMP:20260423T033755
CREATED:20200608T095635Z
LAST-MODIFIED:20200608T095635Z
UID:367577-1592058600-1592067600@www.yvelines-infos.fr
SUMMARY:Conférence en ligne - Marly\, le palais du Soleil
DESCRIPTION:Grâce à nos passionnés d’histoire\, nos amoureux des arts : nos guides-conférenciers\, nous vous proposons des conférences en ligne. De nouveaux « rendez-vous…chez vous! » \n\nMARLY\, LE PALAIS DU SOLEIL \nLe château de Marly fut l’une des plus belles constructions de Louis XIV. Bien que détruit sous Napoléon Ier\, cette résidence influença de nombreux monuments à travers le monde.\nCe château qui devait tout à Louis XIV était aussi important que Versailles dans le cœur du roi-soleil et son architecture\, conçue aussi par Hardouin-Mansart\, était une d’une grande originalité pour la France avec ses façades peintes\, avec des couleurs vives\, sur le thème de soleil. A l’époque\, être sur la liste des invités était un grand honneur.\nNous vous proposons de découvrir l’histoire de ce château disparu ainsi que de sa célèbre machine considérée en son temps comme la « huitième merveille du monde » mais aussi des gracieuses statues qui ornaient son jardin.\nPar Marouane Ouled-Amor\, guide-conférencier \n\n\n\nTarif : 5€ / connexion \nRéservation obligatoire auprès de l’Office de Tourisme Intercommunal Saint Germain Boucles de Seine. \nPRÉCISIONS POUR ACCÉDER A LA CONFÉRENCE :\n– Cette conférence est en direct\, via l’application Zoom.\nSi vous n’avez jamais utilisé l’application Zoom\, vous pouvez consulter le « tuto » en pdf ci-dessus.\n– Après votre réservation vous recevrez 2 mails :\n– La confirmation de votre commande\n– Votre e-billet : DESSUS LE LIEN POUR ACCEDER A LA CONFÉRENCE SUR ZOOM.\n– Ne vous inquiétez pas un mail de rappel vous sera envoyé 1 jour avant la conférence.\n– Durant la conférence vous pourrez poser vos questions à la conférencière\, qui les traitera à la fin. Pour se faire vous devez utiliser :\n– L’onglet « Q. et R. ». Il se trouve en bas de votre écran lorsque vous accédez à la conférence. Vous pourrez poser vos questions à l’écrit par ce biais.\n– Si vous rencontrez des difficultés techniques\, vous pourrez discuter directement avec l’animatrice de l’Office de Tourisme via l’onglet « Converser » \, qui se trouve également en bas de votre écran durant la conférence en ligne.
URL:https://www.yvelines-infos.fr/agenda/conference-en-ligne-marly-le-palais-du-soleil/
LOCATION:En ligne\, via la plateforme Zoom
ATTACH;FMTTYPE=image/jpeg:https://www.yvelines-infos.fr/content/uploads/2020/img-3591-bdd.jpg
ORGANIZER;CN="Office%20de%20Tourisme%20Saint%20Germain%20Boucles%20de%20Seine":MAILTO:info@seine-saintgermain.fr
END:VEVENT
BEGIN:VEVENT
DTSTART;TZID=Europe/Paris:20201205T143000
DTEND;TZID=Europe/Paris:20201205T160000
DTSTAMP:20260423T033755
CREATED:20201126T112651Z
LAST-MODIFIED:20201204T091417Z
UID:371589-1607178600-1607184000@www.yvelines-infos.fr
SUMMARY:Conférence en ligne - "Alexandre Dumas\, le gastronome"
DESCRIPTION:Mais qui était Alexandre Dumas? Saviez-vous qu’il était fils d’un général\, que sa devise était « aime qui m’aime » et qu’au delà de l’écrivain prolifique\, Dumas était aussi un amoureux inconditionnel de la vie\, de l’amour et…de la cuisine ! \nA l’occasion des 150 ans de sa disparition\, nous vous invitons à venir découvrir Dumas\, le gastronome\, le cuisinier\, l’épicurien…\nA la fin du printemps de 1844\, l’écrivain se réfugie dans la ville royale\, à deux pas du château et de la terrasse\, au Pavillon Henri IV\, chez le restaurateur Collinet\, son compère en art culinaire « propagateur\, sinon inventeur\, des côtelettes à la béarnaise ». Découvrez comment lui est venue sa passion pour la bonne chère et l’inventivité de ses recettes. Il imagina\, entre autres\, le poulet à la ficelle et le potage aux queues de crevettes ou encore les pieds d’éléphants et la queue de kangourou.Par Irène Gintzburger\, conférencière et fervente admiratrice de Dumas.INFORMATIONS PRATIQUES\nCes conférences sont dispensées via la plateforme Zoom.\nAprès avoir effectué votre réservation via le lien « réserver » ci-dessus\, le lien d’inscription à Zoom vous sera envoyé dans votre e-billet (pièce jointe PDF) pour pouvoir accéder à la conférence.\nDes mails de rappel vous seront envoyés avec le lien d’accès la veille\, et 1h avant le début de la conférence. \n\n\nTarif : 5€ / connexion\nRéservation obligatoire.\nPour plus d’informations\, contactez l’Office de Tourisme\, durant les horaires de permanence\, du mardi au samedi de 10h à 12h30 et de 14h à 15h.
URL:https://www.yvelines-infos.fr/agenda/conference-en-ligne-alexandre-dumas-le-gastronome/
LOCATION:En ligne\, via la plateforme Zoom
ATTACH;FMTTYPE=image/jpeg:https://www.yvelines-infos.fr/content/uploads/2020/interieur.jpg
ORGANIZER;CN="Office%20de%20Tourisme%20Saint%20Germain%20Boucles%20de%20Seine":MAILTO:info@seine-saintgermain.fr
END:VEVENT
BEGIN:VEVENT
DTSTART;TZID=Europe/Paris:20201212T143000
DTEND;TZID=Europe/Paris:20201212T160000
DTSTAMP:20260423T033755
CREATED:20201126T112730Z
LAST-MODIFIED:20201126T112730Z
UID:371591-1607783400-1607788800@www.yvelines-infos.fr
SUMMARY:Conférence en ligne - Coutumes de Noël et traditions du Nouvel An
DESCRIPTION:Période merveilleuse\, le temps de Noël et du Nouvel An illumine les yeux des petits et réchauffe le cœur des grands. Mais d’où viennent toutes ces traditions qui l’accompagnent ? \n\nEnsemble\, nous allons\, de l’Avent à l’Epiphanie\, évoquer leur histoire et nous chercherons aussi pourquoi la bûche\, les treize desserts ou la galette entre autres sont associés à ces fêtes ? Enfin\, à la suite de St Nicolas\, du Père Noël et de St Sylvestre\, nous partirons pour un vaste tour du monde des coutumes gastronomiques qui célèbrent la fin de l’année… \nPar Martine Anstett\, conférencière. \nINFORMATIONS PRATIQUES\nCette conférence est dispensée via la plateforme Zoom. Après votre réservation via le site Internet de l’Office de Tourisme Saint Germain Boucles de Seine\, le lien d’inscription à Zoom vous est envoyé dans votre e-billet en PDF par mail. Une fois cette seconde inscription faite vous recevrez le lien pour accéder à la conférence le jour J. \n\n\nTarif : 5€ / connexion\nRéservation obligatoire.\nPour plus d’informations\, contactez l’Office de Tourisme\, durant les horaires de permanence\, du mardi au samedi de 10h à 12h30 et de 14h à 15h.
URL:https://www.yvelines-infos.fr/agenda/conference-en-ligne-coutumes-de-noel-et-traditions-du-nouvel-an/
LOCATION:En ligne\, via la plateforme Zoom
ATTACH;FMTTYPE=image/jpeg:https://www.yvelines-infos.fr/content/uploads/2020/christmas-table-served-with-turkey-decorated-with-bright-tinsel-candles-e1607687630178.jpg
ORGANIZER;CN="Office%20de%20Tourisme%20Saint%20Germain%20Boucles%20de%20Seine":MAILTO:info@seine-saintgermain.fr
END:VEVENT
BEGIN:VEVENT
DTSTART;TZID=Europe/Paris:20210213T173000
DTEND;TZID=Europe/Paris:20210213T190000
DTSTAMP:20260423T033755
CREATED:20210202T091331Z
LAST-MODIFIED:20210202T091331Z
UID:372824-1613237400-1613242800@www.yvelines-infos.fr
SUMMARY:13 février - Conférence en ligne : Les Amours de Louis XIV
DESCRIPTION:Louis XIV eut une vie amoureuse tumultueuse. Ces amours se déroulèrent souvent à Saint-Germain-en-Laye et nous vous proposons de les découvrir avec cette conférence\, en cette veille de Saint-Valentin. \nLouis XIV eut une vie amoureuse tumultueuse. Marié à l’âge de 21 ans à sa cousine l’infante Marie-Thérèse d’Espagne\, il fut un mari volage collectionnant les maîtresses dont les plus célèbres furent Louise de la Vallière et Françoise de Montespan. Le roi eut ainsi 6 enfants légitimes et une dizaine bâtards parfois de « petites » maîtresses méconnues.\nDevenu dévot et fidèle une fois la quarantaine passée\, le Roi Soleil épousa secrètement\, à la mort de la reine\, la gouvernante de ses bâtards\, Françoise de Maintenon dont la vie est digne d’un conte de fées.\nCes amours se déroulèrent souvent à Saint-Germain-en-Laye et nous vous proposons de les découvrir avec cette conférence\, en cette veille de Saint-Valentin.- Par Marouane OULED AMOR\, guide-conférencier\n– De 17h30 à 19h \n\n– Tarif : 5€ / connexion\nINFORMATIONS PRATIQUES\nCes conférences sont dispensées via la plateforme Zoom.\nAprès avoir effectué votre réservation via le lien « réserver » ci-dessus\, le lien d’inscription à Zoom vous sera envoyé dans votre e-billet (pièce jointe PDF) pour pouvoir accéder à la conférence.\nDes mails de rappel vous seront envoyés avec le lien d’accès la veille\, et 1h avant le début de la conférence.Réservation obligatoire.\nPour plus d’informations\, contactez l’Office de Tourisme\, durant les horaires de permanence\, du mardi au samedi de 10h à 12h30 et de 14h à 17h au 01 30 87 20 63 ou par mail à info@seine-saintgermain.fr
URL:https://www.yvelines-infos.fr/agenda/13-fevrier-conference-en-ligne-les-amours-de-louis-xiv/
LOCATION:En ligne\, via la plateforme Zoom
ATTACH;FMTTYPE=image/jpeg:https://www.yvelines-infos.fr/content/uploads/2021/800x600-69-000260-2857.jpg
ORGANIZER;CN="Office%20de%20Tourisme%20Saint%20Germain%20Boucles%20de%20Seine":MAILTO:info@seine-saintgermain.fr
END:VEVENT
END:VCALENDAR