BEGIN:VCALENDAR
VERSION:2.0
PRODID:-//Yvelines Infos - ECPv6.0.2//NONSGML v1.0//EN
CALSCALE:GREGORIAN
METHOD:PUBLISH
X-WR-CALNAME:Yvelines Infos
X-ORIGINAL-URL:https://www.yvelines-infos.fr
X-WR-CALDESC:Évènements pour Yvelines Infos
REFRESH-INTERVAL;VALUE=DURATION:PT1H
X-Robots-Tag:noindex
X-PUBLISHED-TTL:PT1H
BEGIN:VTIMEZONE
TZID:Europe/Paris
BEGIN:DAYLIGHT
TZOFFSETFROM:+0100
TZOFFSETTO:+0200
TZNAME:CEST
DTSTART:20170326T010000
END:DAYLIGHT
BEGIN:STANDARD
TZOFFSETFROM:+0200
TZOFFSETTO:+0100
TZNAME:CET
DTSTART:20171029T010000
END:STANDARD
END:VTIMEZONE
BEGIN:VEVENT
DTSTART;TZID=Europe/Paris:20170512T000000
DTEND;TZID=Europe/Paris:20170512T000000
DTSTAMP:20260423T125622
CREATED:20170323T155725Z
LAST-MODIFIED:20170323T160122Z
UID:337493-1494547200-1494547200@www.yvelines-infos.fr
SUMMARY:Concerts romantiques choeur et cors
DESCRIPTION:Très beaux concerts Romantiques Chœur et 4 cors dans les Yvelines : \n\n Vendredi 12 mai 2017 à 20h45 en l’église Saint Nicolas de Maisons Laffitte\n Dimanche 21 mai 2017 à 16h30 en l’église Saint Vincent de Le Mesnil Le Roi\n Vendredi 23 juin 2017 à 20h30 en la Collégiale Notre Dame de Poissy\n\nIl s’agit d’un répertoire romantique et sacré inspirant\, avec parfois une pointe d’humour. Les œuvres sont expliquées au public pendant le concert\, alternance de pièces a cappella\, d’œuvres très plaisantes pour quatuor de cors\, et surtout d’œuvres majestueuses pour chœur (sopranes\, alti\, ténor\, basses) et quatuor de cor (4 voix distinctes).\nLibre participation – sans réservation. \nContact :\nMatthieu Arnaud\n06 32 22 99 33
URL:https://www.yvelines-infos.fr/agenda/concerts-romantiques-choeur-cors/
LOCATION:Eglise Saint Nicolas // Maisons-Laffitte\, rue de la Muette\,  Maisons-Laffitte\, 78600\, France
ATTACH;FMTTYPE=image/gif:https://www.yvelines-infos.fr/content/uploads/2017/affiche_edited-171.gif
GEO:48.9510049;2.1413186
X-APPLE-STRUCTURED-LOCATION;VALUE=URI;X-ADDRESS=Eglise Saint Nicolas // Maisons-Laffitte rue de la Muette  Maisons-Laffitte 78600 France;X-APPLE-RADIUS=500;X-TITLE=rue de la Muette:geo:2.1413186,48.9510049
END:VEVENT
END:VCALENDAR