BEGIN:VCALENDAR
VERSION:2.0
PRODID:-//Yvelines Infos - ECPv6.0.2//NONSGML v1.0//EN
CALSCALE:GREGORIAN
METHOD:PUBLISH
X-ORIGINAL-URL:https://www.yvelines-infos.fr
X-WR-CALDESC:Évènements pour Yvelines Infos
REFRESH-INTERVAL;VALUE=DURATION:PT1H
X-Robots-Tag:noindex
X-PUBLISHED-TTL:PT1H
BEGIN:VTIMEZONE
TZID:Europe/Paris
BEGIN:DAYLIGHT
TZOFFSETFROM:+0100
TZOFFSETTO:+0200
TZNAME:CEST
DTSTART:20210328T010000
END:DAYLIGHT
BEGIN:STANDARD
TZOFFSETFROM:+0200
TZOFFSETTO:+0100
TZNAME:CET
DTSTART:20211031T010000
END:STANDARD
END:VTIMEZONE
BEGIN:VEVENT
DTSTART;TZID=Europe/Paris:20210919T140000
DTEND;TZID=Europe/Paris:20210919T150000
DTSTAMP:20260423T080438
CREATED:20210916T081042Z
LAST-MODIFIED:20210916T081042Z
UID:379027-1632060000-1632063600@www.yvelines-infos.fr
SUMMARY:Conférence : "Les restaurations de l'église St-Nicolas de Maulette"
DESCRIPTION:L’église Saint-Nicolas de Maulette\, dans le hameau de Thionville-sur-Opton\, a fait l’objet d’une importante campagne de restauration de 2017 à 2019\, avec l’aide du Département des Yvelines. Pendant la restauration de l’édifice\, les boiseries et sculptures ont eux aussi été restaurés\, rendant toute sa majesté à cette petite église.\nLa conférence exposant ces différentes restaurations sera donnée par Mme Catherine Crnokrak\, conservateur des antiquités et objets d’art.
URL:https://www.yvelines-infos.fr/agenda/conference-les-restaurations-de-leglise-st-nicolas-de-maulette/
LOCATION:Eglise Saint-Nicolas\, route de champagne (Thonville sur Opton)\, Maulette\, 78550
ATTACH;FMTTYPE=image/jpeg:https://www.yvelines-infos.fr/content/uploads/2021/20210112-154629.jpg
END:VEVENT
END:VCALENDAR