BEGIN:VCALENDAR
VERSION:2.0
PRODID:-//Yvelines Infos - ECPv6.0.2//NONSGML v1.0//EN
CALSCALE:GREGORIAN
METHOD:PUBLISH
X-WR-CALNAME:Yvelines Infos
X-ORIGINAL-URL:https://www.yvelines-infos.fr
X-WR-CALDESC:Évènements pour Yvelines Infos
REFRESH-INTERVAL;VALUE=DURATION:PT1H
X-Robots-Tag:noindex
X-PUBLISHED-TTL:PT1H
BEGIN:VTIMEZONE
TZID:Europe/Paris
BEGIN:DAYLIGHT
TZOFFSETFROM:+0100
TZOFFSETTO:+0200
TZNAME:CEST
DTSTART:20180325T010000
END:DAYLIGHT
BEGIN:STANDARD
TZOFFSETFROM:+0200
TZOFFSETTO:+0100
TZNAME:CET
DTSTART:20181028T010000
END:STANDARD
BEGIN:DAYLIGHT
TZOFFSETFROM:+0100
TZOFFSETTO:+0200
TZNAME:CEST
DTSTART:20190331T010000
END:DAYLIGHT
BEGIN:STANDARD
TZOFFSETFROM:+0200
TZOFFSETTO:+0100
TZNAME:CET
DTSTART:20191027T010000
END:STANDARD
BEGIN:DAYLIGHT
TZOFFSETFROM:+0100
TZOFFSETTO:+0200
TZNAME:CEST
DTSTART:20200329T010000
END:DAYLIGHT
BEGIN:STANDARD
TZOFFSETFROM:+0200
TZOFFSETTO:+0100
TZNAME:CET
DTSTART:20201025T010000
END:STANDARD
BEGIN:DAYLIGHT
TZOFFSETFROM:+0100
TZOFFSETTO:+0200
TZNAME:CEST
DTSTART:20210328T010000
END:DAYLIGHT
BEGIN:STANDARD
TZOFFSETFROM:+0200
TZOFFSETTO:+0100
TZNAME:CET
DTSTART:20211031T010000
END:STANDARD
BEGIN:DAYLIGHT
TZOFFSETFROM:+0100
TZOFFSETTO:+0200
TZNAME:CEST
DTSTART:20220327T010000
END:DAYLIGHT
BEGIN:STANDARD
TZOFFSETFROM:+0200
TZOFFSETTO:+0100
TZNAME:CET
DTSTART:20221030T010000
END:STANDARD
END:VTIMEZONE
BEGIN:VEVENT
DTSTART;TZID=Europe/Paris:20180325T170000
DTEND;TZID=Europe/Paris:20180325T183000
DTSTAMP:20260423T040227
CREATED:20180213T165355Z
LAST-MODIFIED:20180223T134954Z
UID:347593-1521997200-1522002600@www.yvelines-infos.fr
SUMMARY:Ensemble IL FESTINO - L'Europe galante au XVII° siècle
DESCRIPTION:L’Ensemble IL FESTINO\, à Houdan le Dimanche 25 mars 2018 à 17h00\, Eglise Saint-Jacques \nL’Ensemble baroque ‘Il Festino’ nous fera revivre tout le raffinement musical de l’Europe galante du XVII° siècle. \nDirigé par le luthiste Manuel de Grange\, ‘Il Festino’ est fidèle à l’esthétique et aux règles déclamatoires du XVII° siècle\, pour le chant et le récit\, mais aussi pour la musique instrumentale jouée sur instruments d’époque. \nDans un esprit presque théâtral\, une soprano et un ténor se promènent et dialoguent en quatre langues dans l’Europe galante du XVII° siècle. Des musiciens les accompagnent (viole de gambe\, luth\, théorbe\, harpe) et renforcent par leur jeu ce que le chant évoque : amour\, joie\, désillusion… \nIls interprèteront ainsi des chansons écrites par les plus grands musiciens de leur temps : Cavalli\, Monteverdi\, Boesset\, Moulinié\, Purcell.. \nDepuis sa création en 2009\, ‘Il Festino’ se produit sur des scènes nationales de renom et dans d’importants festivals en France et à l’étranger. \nNe manquez pas l’occasion de vous plonger dans cette atmosphère raffinée de chansons\, arias\, canciones et songs ! \nConcert organisé par RITMY et l’Ecole de Musique de Houdan dans le cadre des 28° Saisons Musicales RITMY. \nTarifs : Normal : 20€ – Réduit (jeune de 12 à 25 ans\, famille nombreuse\, demandeur d’emploi) : 13€ – Groupe (minimum de 10 personnes) : 15€ – Gratuit pour les enfants de moins de 12 ans accompagnés. \nInformations et réservations : www.ritmy.fr  /  contact.ritmy@gmail.com  / 06-08-02-22-22
URL:https://www.yvelines-infos.fr/agenda/ensemble-festino-leurope-galante-xvii-siecle/
LOCATION:Eglise Saint Jacques // Houdan\, Grande rue\, Houdan\, 78550
ATTACH;FMTTYPE=image/jpeg:https://www.yvelines-infos.fr/content/uploads/2018/il-festino-retenue-prog-copie.jpg
ORGANIZER;CN="Association%20RITMY":MAILTO:contact.ritmy@gmail.com
GEO:48.7904148;1.6013481
X-APPLE-STRUCTURED-LOCATION;VALUE=URI;X-ADDRESS=Eglise Saint Jacques // Houdan Grande rue Houdan 78550;X-APPLE-RADIUS=500;X-TITLE=Grande rue:geo:1.6013481,48.7904148
END:VEVENT
BEGIN:VEVENT
DTSTART;TZID=Europe/Paris:20181118T170000
DTEND;TZID=Europe/Paris:20181118T183000
DTSTAMP:20260423T040227
CREATED:20181017T093716Z
LAST-MODIFIED:20181017T093716Z
UID:353243-1542560400-1542565800@www.yvelines-infos.fr
SUMMARY:Le 'Rossfelder Guitar Quartet'
DESCRIPTION:Les Saisons Musicales RITMY accueillent à Houdan le ‘ROSSFELDER Guitar Quartet’\, un exceptionnel quatuor de guitares emmené par Emmanuel Rossfelder\, ‘Victoire de la Musique’ en 2004 et chef de file de la guitare classique en France. \nQuatre musiciens issus du CNSM de Paris\, où ils se sont imprégné des leçons de leur professeur et ‘maître’ Alexandre Lagoya ! \nEmmanuel Rossfelder\, Philippe Mariotti et Pascal Polidori perpétuent par leur art cette puissance sonore particulière permettant à la guitare de se faire entendre dans les plus grandes salles de concerts. \nLa très talentueuse Ekaterina Khoreva\, venue de Saint Pétersbourg\, lauréate de nombreux concours internationaux\, ajoute par sa sensibilité musicale et son charisme un souffle pétillant à ce cocktail artistique. \nAvec une virtuosité impressionnante et un plaisir évident à partager la scène\, ils nous interprèteront des œuvres de Vivaldi\, Bizet\, Ravel\, De Falla\, Carlos Gardel\, Piazzolla… \nConcert organisé par RITMY et l’Ecole de Musique de Houdan dans le cadre des 29° Saisons Musicales Ritmy. \nInformations et réservations : www.ritmy.fr / contact.ritmy@gmail.com / 06-08-02-22-22 \nTarifs : Normal : 20€ – Réduit (jeune de 12 à 25 ans\, famille nombreuse\, demandeur d’emploi) : 13€ – Groupe (minimum de 10 personnes) : 15€ – Gratuit pour les enfants de moins de 12 ans accompagnés.
URL:https://www.yvelines-infos.fr/agenda/le-rossfelder-guitar-quartet/
LOCATION:Eglise Saint Jacques // Houdan\, Grande rue\, Houdan\, 78550
ATTACH;FMTTYPE=image/jpeg:https://www.yvelines-infos.fr/content/uploads/2018/guitar-5-copie.jpg
ORGANIZER;CN="RITMY":MAILTO:contact.ritmy@gmail.com
GEO:48.7904148;1.6013481
X-APPLE-STRUCTURED-LOCATION;VALUE=URI;X-ADDRESS=Eglise Saint Jacques // Houdan Grande rue Houdan 78550;X-APPLE-RADIUS=500;X-TITLE=Grande rue:geo:1.6013481,48.7904148
END:VEVENT
BEGIN:VEVENT
DTSTART;TZID=Europe/Paris:20191006T170000
DTEND;TZID=Europe/Paris:20191006T183000
DTSTAMP:20260423T040227
CREATED:20190923T083805Z
LAST-MODIFIED:20190923T083805Z
UID:361852-1570381200-1570386600@www.yvelines-infos.fr
SUMMARY:Orchestre de Chambre ‘Nouvelle Europe’ - MOZART
DESCRIPTION:Orchestre de Chambre ‘Nouvelle Europe’\, dans un programme Mozart \nCréé en 2003 par Nicolas Krauze\, l’Orchestre de Chambre ‘Nouvelle Europe’ est une formation originale à la frontière entre musique de chambre et orchestre (12 à 35 musiciens selon les programmes)\, elle s’est produite plus de 400 fois sur certaines des plus grandes scènes françaises\, européennes\, ainsi qu’en Amérique latine et Corée du sud. \nL’orchestre rassemble des jeunes solistes et chambristes européens résidant en France. Des solistes internationaux s’y joignent régulièrement\, comme Kotaro Fukuma\, Alexandra Soumm\, Romain Leleu\, Alexandre Kantorow… \nPour notre concert\, l’Orchestre de Chambre sera dirigé par son chef Nicolas Krauze et composé de 14 musiciens (10 cordes\, 2 hautbois\, 2 cors)\, auxquels se joindront 4 formidables solistes : Valeria Kafelnikov (Harpe)\, Romuald Grimbert-Barré (Violon)\, Luc Urbain (Flûte)\, et Makoto Yoshida (Clarinette). \nIls interprèteront un programme « Cent pour cent Mozart »\, avec 3 magnifiques concertos : le Concerto pour violon n°5\, le Concerto pour clarinette en la majeur (que l’on peut entendre dans le film ‘Out of Africa’)\, et le célèbre Concerto pour flûte et harpe en ut majeur. \nAvec tout son génie Mozart fait dialoguer l’orchestre et l’instrument soliste pour que chacun des concertos soit une grande émotion esthétique. Venez profiter de cette merveilleuse alchimie ! \nConcert organisé par RITMY et l’Ecole de Musique de Houdan\, dans le cadre des 30° Saisons Musicales RITMY. \nTarifs : Normal : 20€ – Réduit (jeune de 12 à 25 ans\, famille nombreuse\, demandeur d’emploi) : 13€ – Groupe (minimum de 10 personnes) : 15€ – Gratuit pour les enfants de moins de 12 ans accompagnés. \nInformations et réservations : www.ritmy.fr / contact.ritmy@gmail.com / 06-08-02-22-22
URL:https://www.yvelines-infos.fr/agenda/orchestre-de-chambre-nouvelle-europe-mozart/
LOCATION:Eglise Saint Jacques // Houdan\, Grande rue\, Houdan\, 78550
ATTACH;FMTTYPE=image/jpeg:https://www.yvelines-infos.fr/content/uploads/2019/nouvelle-europe-1-reduit.jpg
ORGANIZER;CN="RITMY":MAILTO:contact.ritmy@gmail.com
GEO:48.7904148;1.6013481
X-APPLE-STRUCTURED-LOCATION;VALUE=URI;X-ADDRESS=Eglise Saint Jacques // Houdan Grande rue Houdan 78550;X-APPLE-RADIUS=500;X-TITLE=Grande rue:geo:1.6013481,48.7904148
END:VEVENT
BEGIN:VEVENT
DTSTART;TZID=Europe/Paris:20220515T170000
DTEND;TZID=Europe/Paris:20220515T170000
DTSTAMP:20260423T040227
CREATED:20220413T120001Z
LAST-MODIFIED:20220413T120001Z
UID:385758-1652634000-1652634000@www.yvelines-infos.fr
SUMMARY:Magali LÉGER et l’Ensemble RosaSolis
DESCRIPTION:La soprano Magali LÉGER est une habituée des plus grandes scènes de concert et d’opéra dans le monde\, où elle aborde aussi bien le répertoire baroque et la création contemporaine que les chefs-d’œuvre classiques et romantiques. \nL’Ensemble RosaSolis se consacre à la musique vocale et instrumentale des XVIIe et XVIIIe siècles\, ses membres collaborent avec les plus prestigieux ensembles de musique ancienne européens. \nPour notre concert\, Magali LÉGER sera accompagnée par Julie Blais au clavecin et Nicolas Crnanjski au violoncelle. \nLeurs interprétations sincères\, vivantes et sensuelles ont su\, au fil des années\, gagner l’estime et la confiance de nombreux festivals et de leurs publics. \nIls nous proposent « La Passion de l’Âme »\, des cantates de Haendel\, sonates de Vivaldi pour violoncelle et clavecin\, et pièces instrumentales de J.S. Bach.
URL:https://www.yvelines-infos.fr/agenda/magali-leger-et-lensemble-rosasolis/
LOCATION:Eglise Saint Jacques // Houdan\, Grande rue\, Houdan\, 78550
ATTACH;FMTTYPE=image/jpeg:https://www.yvelines-infos.fr/content/uploads/2022/364-magali-0123-1866x1400-1.jpg
ORGANIZER;CN="RITMY":MAILTO:contact.ritmy@gmail.com
GEO:48.7904148;1.6013481
X-APPLE-STRUCTURED-LOCATION;VALUE=URI;X-ADDRESS=Eglise Saint Jacques // Houdan Grande rue Houdan 78550;X-APPLE-RADIUS=500;X-TITLE=Grande rue:geo:1.6013481,48.7904148
END:VEVENT
END:VCALENDAR