BEGIN:VCALENDAR
VERSION:2.0
PRODID:-//Yvelines Infos - ECPv6.0.2//NONSGML v1.0//EN
CALSCALE:GREGORIAN
METHOD:PUBLISH
X-ORIGINAL-URL:https://www.yvelines-infos.fr
X-WR-CALDESC:Évènements pour Yvelines Infos
REFRESH-INTERVAL;VALUE=DURATION:PT1H
X-Robots-Tag:noindex
X-PUBLISHED-TTL:PT1H
BEGIN:VTIMEZONE
TZID:Europe/Paris
BEGIN:DAYLIGHT
TZOFFSETFROM:+0100
TZOFFSETTO:+0200
TZNAME:CEST
DTSTART:20190331T010000
END:DAYLIGHT
BEGIN:STANDARD
TZOFFSETFROM:+0200
TZOFFSETTO:+0100
TZNAME:CET
DTSTART:20191027T010000
END:STANDARD
END:VTIMEZONE
BEGIN:VEVENT
DTSTART;TZID=Europe/Paris:20190210T170000
DTEND;TZID=Europe/Paris:20190210T183000
DTSTAMP:20260423T081353
CREATED:20190123T103739Z
LAST-MODIFIED:20190123T103739Z
UID:355034-1549818000-1549823400@www.yvelines-infos.fr
SUMMARY:Le TRIO BOHÈME - Les Saisons\, de Tchaïkovki à Piazzolla
DESCRIPTION:Trois musiciens talentueux et complices pour une évasion musicale au fil des saisons et de leurs métamorphoses : Jasmina Kulaglich (piano)\, Lev Maslovsky (violon) et Igor Kiritchenko (violoncelle). \nLe ‘Trio Bohème’nous interprètera un programme de transcriptions pour piano\, violon et violoncelle : ‘Les Saisons’ de Tchaïkovski\, et ‘Les Quatre Saisons à Buenos Aires’ d’Astor Piazzolla. \nLa première escale\, teintée de sensibilité et de nostalgie slave\, nous conduira de la douceur au coin du feu de l’hiver aux folles moissons de l’été. La seconde\, nous transportera dans la fougueuse Argentine de Piazzolla. \nAvec le ‘Trio Bohème’ la musique est un éternel voyage… que nous partagerons avec beaucoup de bonheur ! \nConcert organisé par RITMY et l’association GRAL de Richebourg\, dans le cadre des 29° Saisons Musicales RITMY. \nVidéo :  https://www.youtube.com/watch?time_continue=3&v=PjA9xg8wrTM \nTarifs : Normal : 20€ – Réduit (jeune de 12 à 25 ans\, famille nombreuse\, demandeur d’emploi) : 13€ – Groupe (minimum de 10 personnes) : 15€ – Gratuit pour les enfants de moins de 12 ans accompagnés. \nInformations et réservations : www.ritmy.fr  /  contact.ritmy@gmail.com  / 06-48-69-21-89
URL:https://www.yvelines-infos.fr/agenda/le-trio-boheme-les-saisons-de-tchaikovki-a-piazzolla/
LOCATION:Eglise Saint-Georges // Richebourg\, Rue Saint Georges\, Richebourg\, 78550
ATTACH;FMTTYPE=image/jpeg:https://www.yvelines-infos.fr/content/uploads/2019/trio-boheme-trio-4-copie.jpg
ORGANIZER;CN="Association%20RITMY":MAILTO:contact.ritmy@gmail.com
END:VEVENT
END:VCALENDAR