BEGIN:VCALENDAR
VERSION:2.0
PRODID:-//Yvelines Infos - ECPv6.0.2//NONSGML v1.0//EN
CALSCALE:GREGORIAN
METHOD:PUBLISH
X-ORIGINAL-URL:https://www.yvelines-infos.fr
X-WR-CALDESC:Évènements pour Yvelines Infos
REFRESH-INTERVAL;VALUE=DURATION:PT1H
X-Robots-Tag:noindex
X-PUBLISHED-TTL:PT1H
BEGIN:VTIMEZONE
TZID:Europe/Paris
BEGIN:DAYLIGHT
TZOFFSETFROM:+0100
TZOFFSETTO:+0200
TZNAME:CEST
DTSTART:20170326T010000
END:DAYLIGHT
BEGIN:STANDARD
TZOFFSETFROM:+0200
TZOFFSETTO:+0100
TZNAME:CET
DTSTART:20171029T010000
END:STANDARD
END:VTIMEZONE
BEGIN:VEVENT
DTSTART;TZID=Europe/Paris:20170917T170000
DTEND;TZID=Europe/Paris:20170917T190000
DTSTAMP:20260423T113250
CREATED:20170904T130905Z
LAST-MODIFIED:20170911T082420Z
UID:343003-1505667600-1505674800@www.yvelines-infos.fr
SUMMARY:JEP à l'église Saint-Béat d’Épône
DESCRIPTION:A l’occasion de la 34è édition des Journées européennes du patrimoine\, le Conseil départemental des Yvelines invite le public à découvrir des propriétés départementales à travers de nombreuses animations. Découvrez le programme de l’église Saint-Béat d’Épône. \nClassée en 1988 cette église est remarquable puisqu’elle abrite trois cloches dont la Béate\, datant de la fin du 16e siècle et qui a survécu à la \nLa rencontre d’Eliezer et Rebecca au puits. La rencontre CD78 / D.Balloud \nRévolution Français. A l’occasion des Journées européennes du patrimoine vous pourrez assister à la présentation de la restauration d’un tableau du 17e siècle\, classé au titre des monuments historiques\, par Catherine Cernokrak\, conservateur des Antiquités et objets d’art. \nL’iconographie de ce tableau dite « Rebecca au puits« \, ou « La rencontre d’Eliezer et Rebecca »\, ou encore « Le mariage d’Isaac » est inspirée d’un épisode biblique de l’histoire d’Isaac. Elle était appréciée comme symbole du mariage. L’intervention importante réalisée\, grâce à l’aide du département\, sur cette belle œuvre italienne lui a rendu sa lisibilité. Elle a été\, à cette occasion attribuée à un peintre gênois\, par un spécialiste de la peinture italienne\, de l’Institut national d’Histoire de l’Art.
URL:https://www.yvelines-infos.fr/agenda/jep-a-leglise-saint-beat-depone/
LOCATION:Eglise Saint-Béat\, 4! rue Charles de Gaulle\, Épône \, 78680\, France
ATTACH;FMTTYPE=image/jpeg:https://www.yvelines-infos.fr/content/uploads/2017/JEP-2017-c-MC-Atelier-25.jpg
GEO:48.9550299;1.8166264
X-APPLE-STRUCTURED-LOCATION;VALUE=URI;X-ADDRESS=Eglise Saint-Béat 4! rue Charles de Gaulle Épône  78680 France;X-APPLE-RADIUS=500;X-TITLE=4! rue Charles de Gaulle:geo:1.8166264,48.9550299
END:VEVENT
END:VCALENDAR