BEGIN:VCALENDAR
VERSION:2.0
PRODID:-//Yvelines Infos - ECPv6.0.2//NONSGML v1.0//EN
CALSCALE:GREGORIAN
METHOD:PUBLISH
X-ORIGINAL-URL:https://www.yvelines-infos.fr
X-WR-CALDESC:Évènements pour Yvelines Infos
REFRESH-INTERVAL;VALUE=DURATION:PT1H
X-Robots-Tag:noindex
X-PUBLISHED-TTL:PT1H
BEGIN:VTIMEZONE
TZID:Europe/Paris
BEGIN:DAYLIGHT
TZOFFSETFROM:+0100
TZOFFSETTO:+0200
TZNAME:CEST
DTSTART:20180325T010000
END:DAYLIGHT
BEGIN:STANDARD
TZOFFSETFROM:+0200
TZOFFSETTO:+0100
TZNAME:CET
DTSTART:20181028T010000
END:STANDARD
END:VTIMEZONE
BEGIN:VEVENT
DTSTART;TZID=Europe/Paris:20180612T210000
DTEND;TZID=Europe/Paris:20180612T230000
DTSTAMP:20260423T053434
CREATED:20180514T084919Z
LAST-MODIFIED:20180514T084919Z
UID:350025-1528837200-1528844400@www.yvelines-infos.fr
SUMMARY:F. SCHUBERT : Messe en mi bémol Majeur
DESCRIPTION:Concert d’été 2018 de l’Orchestre symphonique Les Pléiades\, le Chœur Polycantus de Viroflay et le Chœur Saint-Germain : Messe en mi bémol majeur (D950) de Franz Schubert.  \n Digne des pièces maîtresses de Bach\, Mozart et Beethoven\, cette dernière page grandiose et émouvante de Schubert atteint une puissance musicale et témoigne d’une profondeur de pensée exceptionnelles. \nEn complément de programme\, la Symphonie « La chasse » de FJ Gossec. \n Les chœurs et l’orchestre Les Pléiades seront placés sous la direction de Philippe Lerat.
URL:https://www.yvelines-infos.fr/agenda/f-schubert-messe-mi-bemol-majeur-3/
LOCATION:Eglise Notre Dame du Liban\, 17 rue d'Ulm\, Paris\, 75005
ATTACH;FMTTYPE=image/jpeg:https://www.yvelines-infos.fr/content/uploads/2018/affiche-schubert-2018-paysage6-red-2.jpg
ORGANIZER;CN="Choeur%20POLYCANTUS":MAILTO:polycantus@gmail.com
GEO:48.8440154;2.3452929
X-APPLE-STRUCTURED-LOCATION;VALUE=URI;X-ADDRESS=Eglise Notre Dame du Liban 17 rue d'Ulm Paris 75005;X-APPLE-RADIUS=500;X-TITLE=17 rue d'Ulm:geo:2.3452929,48.8440154
END:VEVENT
END:VCALENDAR