BEGIN:VCALENDAR
VERSION:2.0
PRODID:-//Yvelines Infos - ECPv6.0.2//NONSGML v1.0//EN
CALSCALE:GREGORIAN
METHOD:PUBLISH
X-ORIGINAL-URL:https://www.yvelines-infos.fr
X-WR-CALDESC:Évènements pour Yvelines Infos
REFRESH-INTERVAL;VALUE=DURATION:PT1H
X-Robots-Tag:noindex
X-PUBLISHED-TTL:PT1H
BEGIN:VTIMEZONE
TZID:Europe/Paris
BEGIN:DAYLIGHT
TZOFFSETFROM:+0100
TZOFFSETTO:+0200
TZNAME:CEST
DTSTART:20180325T010000
END:DAYLIGHT
BEGIN:STANDARD
TZOFFSETFROM:+0200
TZOFFSETTO:+0100
TZNAME:CET
DTSTART:20181028T010000
END:STANDARD
END:VTIMEZONE
BEGIN:VEVENT
DTSTART;TZID=Europe/Paris:20180321T090000
DTEND;TZID=Europe/Paris:20180321T173000
DTSTAMP:20260423T132239
CREATED:20180314T135705Z
LAST-MODIFIED:20180319T141724Z
UID:348266-1521622800-1521653400@www.yvelines-infos.fr
SUMMARY:Colloque : penser le nouveau collège\, comment révéler le potentiel de tous ?
DESCRIPTION:A partir de l’exemple du futur collège de Mantes-la-Jolie\, l’objectif de ce colloque est d’ouvrir une réflexion d’ensemble autour du quartier apprenant\, de l’architecture au service des nouvelles méthodes d’apprentissage et des perspectives de pédagogie innovante. \nDeux tables rondes suivies de débats\, animées par Jérôme Saltet\, fondateur et président du groupe de concepts éducatifs et de presse pour les jeunes publics PlayBac. \n\nDe 9h à 12h30 : « Urbanisme et éducation : un lien indispensable ». L’architecture au service de l’éducation alternative : quelles ambitions ? Le collège au cœur du quartier : une idée de co-construction ? Écologie et éducation : quelle place et quel intérêt ?\nDe 14h30 à 17h15 : « Repenser la pédagogie au collège » Les problématiques actuelles ayant conduit à la réflexion sur les nouvelles formes de pédagogie. Le fonctionnement des pédagogies innovantes et leur mise en application. Les bénéfices et changements pour l’enfant.\nDe 17h15 à 17h30 : conclusions\n\nInscription obligatoire : lenouveaucollege@gmail.com \nCe colloque sera suivi d’une journée d’ateliers et jeux ouverts à tous organisés à Mantes-La-Jolie le samedi 24 mars.
URL:https://www.yvelines-infos.fr/agenda/colloque-penser-nouveau-college-reveler-potentiel-de/
LOCATION:Editions Playbac\, 14 bis rue des Minimes\, Paris\, 75003\, France
ATTACH;FMTTYPE=image/jpeg:https://www.yvelines-infos.fr/content/uploads/2018/flyercolloque-page-001.jpg
END:VEVENT
END:VCALENDAR