BEGIN:VCALENDAR
VERSION:2.0
PRODID:-//Yvelines Infos - ECPv6.0.2//NONSGML v1.0//EN
CALSCALE:GREGORIAN
METHOD:PUBLISH
X-ORIGINAL-URL:https://www.yvelines-infos.fr
X-WR-CALDESC:Évènements pour Yvelines Infos
REFRESH-INTERVAL;VALUE=DURATION:PT1H
X-Robots-Tag:noindex
X-PUBLISHED-TTL:PT1H
BEGIN:VTIMEZONE
TZID:Europe/Paris
BEGIN:DAYLIGHT
TZOFFSETFROM:+0100
TZOFFSETTO:+0200
TZNAME:CEST
DTSTART:20170326T010000
END:DAYLIGHT
BEGIN:STANDARD
TZOFFSETFROM:+0200
TZOFFSETTO:+0100
TZNAME:CET
DTSTART:20171029T010000
END:STANDARD
END:VTIMEZONE
BEGIN:VEVENT
DTSTART;TZID=Europe/Paris:20171108T180000
DTEND;TZID=Europe/Paris:20171108T200000
DTSTAMP:20260423T092813
CREATED:20171024T075844Z
LAST-MODIFIED:20171024T094123Z
UID:344989-1510164000-1510171200@www.yvelines-infos.fr
SUMMARY:Les Assises de la Mobilité dans les Yvelines
DESCRIPTION:Le 19 septembre dernier étaient lancées par Édouard Philippe\, Premier ministre\, et Michel Cadot\, ministre des transports\, les Assises Nationales de la Mobilité. L’objectif : préparer la loi sur les mobilités qui sera débattue début 2018.  \nEn ce sens\, les Assises visent à cibler les besoins des citoyens en termes de transports\, de mobilité et de nouveaux usages. Les usagers sont donc invités à venir participer à huit ateliers territoriaux répartis en Ile-de-France. \nDans les Yvelines\, sous la direction du préfet\, l’atelier aura lieu à Versailles le mercredi 8 novembre 2017 à 18h. Deux thèmes seront à l’honneur: \n\nLes mobilités plus connectées\nLes mobilités plus solidaires\n\nPour y participer\, inscription obligatoire par mail uniquement à l’adresse suivante : pref-ateliersterritoriaux78@yvelines.gouv.fr\nMerci d’indiquer :\n– nom\, prénom\n– commune de résidence\n– adresse courriel\n– qualité (particulier / association /collectivité / organisation) \nPlus d’informations sur le site de la Préfecture des Yvelines.
URL:https://www.yvelines-infos.fr/agenda/assises-de-mobilite-yvelines/
LOCATION:Ecole Nationale Supérieure d’Architecture\, 5 avenue de Sceaux\, Versailles\, 78000\, France
ATTACH;FMTTYPE=image/jpeg:https://www.yvelines-infos.fr/content/uploads/2017/xIMAGE_20170919_34826506-644x365.jpg.pagespeed.ic_.uAHabWaw1F.jpg
GEO:48.8019314;2.1268502
X-APPLE-STRUCTURED-LOCATION;VALUE=URI;X-ADDRESS=Ecole Nationale Supérieure d’Architecture 5 avenue de Sceaux Versailles 78000 France;X-APPLE-RADIUS=500;X-TITLE=5 avenue de Sceaux:geo:2.1268502,48.8019314
END:VEVENT
END:VCALENDAR