BEGIN:VCALENDAR
VERSION:2.0
PRODID:-//Yvelines Infos - ECPv6.0.2//NONSGML v1.0//EN
CALSCALE:GREGORIAN
METHOD:PUBLISH
X-ORIGINAL-URL:https://www.yvelines-infos.fr
X-WR-CALDESC:Évènements pour Yvelines Infos
REFRESH-INTERVAL;VALUE=DURATION:PT1H
X-Robots-Tag:noindex
X-PUBLISHED-TTL:PT1H
BEGIN:VTIMEZONE
TZID:Europe/Paris
BEGIN:DAYLIGHT
TZOFFSETFROM:+0100
TZOFFSETTO:+0200
TZNAME:CEST
DTSTART:20190331T010000
END:DAYLIGHT
BEGIN:STANDARD
TZOFFSETFROM:+0200
TZOFFSETTO:+0100
TZNAME:CET
DTSTART:20191027T010000
END:STANDARD
END:VTIMEZONE
BEGIN:VEVENT
DTSTART;TZID=Europe/Paris:20190316T110000
DTEND;TZID=Europe/Paris:20190324T190000
DTSTAMP:20260423T085402
CREATED:20190320T140042Z
LAST-MODIFIED:20190320T140042Z
UID:356366-1552734000-1553454000@www.yvelines-infos.fr
SUMMARY:La fécondité
DESCRIPTION:L’association Hélium présente une nouvelle exposition\, collective et thématique\, qui aura lieu \nà Fontenay-lès-Briis\, en partenariat avec la Communauté de Communes du Pays de Limours\, du 16 au 24 mars 2019. \n  \nL’exposition La Fécondité est le prolongement d’un fil rouge qui s’est tenu sur le Parcours d’Artistes Hélium en 2018. Les artistes qui le souhaitaient étaient invités à présenter\, dans leur lieu d’exposition\, une oeuvre sur ce thème. \nL’exposition présentée à la Chapelle de Soucy réunit 23 d’entre eux (peintres\, photographes\, \nplasticiens et sculpteurs). \n  \nL’association Hélium participe\, depuis 14 ans au sein du Parc naturel régional de la Haute Vallée de Chevreuse à la la promotion de l’art et est connue jusque-là pour être à l’origine d’un Parcours d’Artistes\, qui a lieu chaque année en octobre. \n  \nEn organisant une exposition collective réunissant un groupe d’artistes\, elle permet à ces derniers\, dispersés aux quatre coins du PNR et pour certains\, en dehors\, de se rencontrer\, de se retrouver et pourquoi pas\, de se rapprocher pour de futures collaborations. En créant cet événement\, Hélium cherche à développer son audience et son rayonnement sur son territoire et offre au public l’opportunité de découvrir la grande diversité des talents de ses artistes membres. \n  \n  \nLes 23 artistes \nVéronique Arnault – Juliette Berny – Klasien Boulloud – Bus – Muriel Chéné – Dorothée \nDelornoir- Corinne Delusseau-Rouxel – Dominique Ducouret – Ross Gash – K-rol Cordier – \nClaude Laurent – Sylviane Le Boulc’h – Bruno Madelaine – Pascale Marchesini-Arnal – \nFrédéric Marquis – Joël Migneaux – Caroline Regnaut – Marie Romain – Catherine Seznec – \nVéronique Tiberge – Camille Toutée – Sophie Vincent – « Yaya » K. \n  \nLes artistes seront présents sur l’exposition\, en alternance. \nContact Exposition (Hélium) : Bus\, 06 88 12 42 16 – sebastien71@gmail.com
URL:https://www.yvelines-infos.fr/agenda/la-fecondite/
LOCATION:Domaine de Soucy\, Chapelle St Eloi\, Domaine de Soucy\, 2-4 Mont-Louvet\, Fontenay-lès-Briis\, 91640
ATTACH;FMTTYPE=image/jpeg:https://www.yvelines-infos.fr/content/uploads/2019/affiche-fecondite2.jpg
END:VEVENT
END:VCALENDAR