BEGIN:VCALENDAR
VERSION:2.0
PRODID:-//Yvelines Infos - ECPv6.0.2//NONSGML v1.0//EN
CALSCALE:GREGORIAN
METHOD:PUBLISH
X-WR-CALNAME:Yvelines Infos
X-ORIGINAL-URL:https://www.yvelines-infos.fr
X-WR-CALDESC:Évènements pour Yvelines Infos
REFRESH-INTERVAL;VALUE=DURATION:PT1H
X-Robots-Tag:noindex
X-PUBLISHED-TTL:PT1H
BEGIN:VTIMEZONE
TZID:Europe/Paris
BEGIN:DAYLIGHT
TZOFFSETFROM:+0100
TZOFFSETTO:+0200
TZNAME:CEST
DTSTART:20190331T010000
END:DAYLIGHT
BEGIN:STANDARD
TZOFFSETFROM:+0200
TZOFFSETTO:+0100
TZNAME:CET
DTSTART:20191027T010000
END:STANDARD
BEGIN:DAYLIGHT
TZOFFSETFROM:+0100
TZOFFSETTO:+0200
TZNAME:CEST
DTSTART:20200329T010000
END:DAYLIGHT
BEGIN:STANDARD
TZOFFSETFROM:+0200
TZOFFSETTO:+0100
TZNAME:CET
DTSTART:20201025T010000
END:STANDARD
BEGIN:DAYLIGHT
TZOFFSETFROM:+0100
TZOFFSETTO:+0200
TZNAME:CEST
DTSTART:20210328T010000
END:DAYLIGHT
BEGIN:STANDARD
TZOFFSETFROM:+0200
TZOFFSETTO:+0100
TZNAME:CET
DTSTART:20211031T010000
END:STANDARD
BEGIN:DAYLIGHT
TZOFFSETFROM:+0100
TZOFFSETTO:+0200
TZNAME:CEST
DTSTART:20220327T010000
END:DAYLIGHT
BEGIN:STANDARD
TZOFFSETFROM:+0200
TZOFFSETTO:+0100
TZNAME:CET
DTSTART:20221030T010000
END:STANDARD
END:VTIMEZONE
BEGIN:VEVENT
DTSTART;TZID=Europe/Paris:20191005T143000
DTEND;TZID=Europe/Paris:20191005T170000
DTSTAMP:20260423T033030
CREATED:20190905T081955Z
LAST-MODIFIED:20190905T081955Z
UID:361236-1570285800-1570294800@www.yvelines-infos.fr
SUMMARY:Randonnée culturelle au Mesnil-le-Roi
DESCRIPTION:Entre Seine et forêt\, vous découvrirez le charme d’un village rural et son histoire millénaire. « Le petit domaine Royal du Mesnil »\, à proximité du château de Saint-Germain-en-Laye\, est un héritage des premiers Capétiens. \n\nVous partirez de L’église Saint-Vincent\, consacrée en 1587\, et sillonnerez les ruelles anciennes jusqu’au hameau de Carrières-sous-Bois. Pendant la visite sera évoquée l’activité agricole sur les bords de Seine\, terre nourricière dont le patrimoine historique et géographique a séduit de nombreuses personnalités\, dès l’arrivée du chemin de fer au XIXe\, d’Emile Littré à Elina Labourdette. \nPar Sylvie Dubois\, guide de l’association Rando’thèmes. \n\nA partir de 12 ans.\nRéservation obligatoire auprès de l’Office de Tourisme Saint Germain Boucles de Seine.
URL:https://www.yvelines-infos.fr/agenda/randonnee-culturelle-au-mesnil-le-roi/
LOCATION:Devant l’Eglise Saint-Vincent\, 6 rue de Romilly\, Le Mesnil-le-Roi\, 78600
ATTACH;FMTTYPE=image/jpeg:https://www.yvelines-infos.fr/content/uploads/2019/dsc-2611-bd.jpg
ORGANIZER;CN="Office%20de%20Tourisme%20Saint%20Germain%20Boucles%20de%20Seine":MAILTO:info@seine-saintgermain.fr
END:VEVENT
BEGIN:VEVENT
DTSTART;TZID=Europe/Paris:20220327T143000
DTEND;TZID=Europe/Paris:20220327T173000
DTSTAMP:20260423T033030
CREATED:20211227T100041Z
LAST-MODIFIED:20211227T100041Z
UID:382636-1648391400-1648402200@www.yvelines-infos.fr
SUMMARY:RANDONNEE CULTURELLE AU MESNIL-LE-ROI
DESCRIPTION:Entre Seine et forêt\, vous découvrirez le charme d’un village et son histoire millénaire. Le petit domaine Royal du Mesnil est un héritage des premiers Capétiens. Au départ de l’église Saint-Vincent\, consacrée en 1587\, sillonnez les ruelles anciennes jusqu’au hameau de Carrières-sous-Bois. Pendant la visite sera évoquée l’activité agricole sur les bords de Seine\, dont le patrimoine historique et géographique a séduit de nombreuses personnalités\, dès l’arrivée du chemin de fer au XIXème siècle\, d’Emile Littré à Elina Labourdette. \nInformations pratiques \n\nDurée : 3h / 8-10 km\nTarif : 10€/personne – A partir de 12 ans\nDépart et arrivée devant l’église Saint-Vincent\, 6 rue de Romilly\, 78600 Le Mesnil-le-Roi\nPar Sylvie Dubois\, guide de l’association Rando’thèmes\nRéservation obligatoire auprès de l’Office de Tourisme Intercommunal Saint Germain Boucles de Seine
URL:https://www.yvelines-infos.fr/agenda/randonnee-culturelle-au-mesnil-le-roi-2/
LOCATION:Devant l’Eglise Saint-Vincent\, 6 rue de Romilly\, Le Mesnil-le-Roi\, 78600
ATTACH;FMTTYPE=image/jpeg:https://www.yvelines-infos.fr/content/uploads/2021/randolemesnilleroiotisgbs2021-bd.jpg
ORGANIZER;CN="Office%20de%20Tourisme%20Saint%20Germain%20Boucles%20de%20Seine":MAILTO:info@seine-saintgermain.fr
END:VEVENT
END:VCALENDAR