BEGIN:VCALENDAR
VERSION:2.0
PRODID:-//Yvelines Infos - ECPv6.0.2//NONSGML v1.0//EN
CALSCALE:GREGORIAN
METHOD:PUBLISH
X-ORIGINAL-URL:https://www.yvelines-infos.fr
X-WR-CALDESC:Évènements pour Yvelines Infos
REFRESH-INTERVAL;VALUE=DURATION:PT1H
X-Robots-Tag:noindex
X-PUBLISHED-TTL:PT1H
BEGIN:VTIMEZONE
TZID:Europe/Paris
BEGIN:DAYLIGHT
TZOFFSETFROM:+0100
TZOFFSETTO:+0200
TZNAME:CEST
DTSTART:20190331T010000
END:DAYLIGHT
BEGIN:STANDARD
TZOFFSETFROM:+0200
TZOFFSETTO:+0100
TZNAME:CET
DTSTART:20191027T010000
END:STANDARD
END:VTIMEZONE
BEGIN:VEVENT
DTSTART;TZID=Europe/Paris:20190826T203000
DTEND;TZID=Europe/Paris:20190826T233000
DTSTAMP:20260423T134652
CREATED:20190703T101749Z
LAST-MODIFIED:20190703T101749Z
UID:360160-1566851400-1566862200@www.yvelines-infos.fr
SUMMARY:La guerre des boutons
DESCRIPTION:Date de sortie 14 septembre 2011 (1h 49min) \nDe Yann Samuell \n1960\, un village dans le sud de la France. Une bande de garçons\, âgés de 7 à 14 ans\, menée par l’intrépide Lebrac\, est en guerre contre les enfants du village voisin\, leurs ennemis jurés. Une guerre sans merci\, qui dure depuis des générations. On se bat pour l’honneur et la fidélité et\, pour gagner\, tous les moyens sont bons. Même\, s’il le faut\, combattre nu comme un ver\, ou pire\, accepter l’aide de Lanterne – une fille ! – la nouvelle recrue de la bande\, pleine de panache et d’ingéniosité. Mais il n’est pas facile d’être une armée de petits hommes sans se faire attraper par Papa et Maman ! Quand\, après la bataille\, on rentre à la maison\, les vêtements en lambeaux et des boutons en moins\, mieux vaut se faire discret… \nÀ partir de 6 ans \nEntrée libre
URL:https://www.yvelines-infos.fr/agenda/la-guerre-des-boutons/
LOCATION:Cour de l’école de Jumeauville\, 64 Grande Rue\, Jumeauville\, 78580\, France
CATEGORIES:les-yvelines-font-leur-cinema-2019
ATTACH;FMTTYPE=image/jpeg:https://www.yvelines-infos.fr/content/uploads/2019/19775518-r-1280-720-f-jpg-q-x-xxyxx.jpg
END:VEVENT
END:VCALENDAR