BEGIN:VCALENDAR
VERSION:2.0
PRODID:-//Yvelines Infos - ECPv6.0.2//NONSGML v1.0//EN
CALSCALE:GREGORIAN
METHOD:PUBLISH
X-WR-CALNAME:Yvelines Infos
X-ORIGINAL-URL:https://www.yvelines-infos.fr
X-WR-CALDESC:Évènements pour Yvelines Infos
REFRESH-INTERVAL;VALUE=DURATION:PT1H
X-Robots-Tag:noindex
X-PUBLISHED-TTL:PT1H
BEGIN:VTIMEZONE
TZID:Europe/Paris
BEGIN:DAYLIGHT
TZOFFSETFROM:+0100
TZOFFSETTO:+0200
TZNAME:CEST
DTSTART:20200329T010000
END:DAYLIGHT
BEGIN:STANDARD
TZOFFSETFROM:+0200
TZOFFSETTO:+0100
TZNAME:CET
DTSTART:20201025T010000
END:STANDARD
END:VTIMEZONE
BEGIN:VEVENT
DTSTART;TZID=Europe/Paris:20200718T143000
DTEND;TZID=Europe/Paris:20200829T160000
DTSTAMP:20260424T005629
CREATED:20200715T130905Z
LAST-MODIFIED:20200715T130905Z
UID:368295-1595082600-1598716800@www.yvelines-infos.fr
SUMMARY:Conférence en ligne "La Seine vient à vous"
DESCRIPTION:– Partie 1 : Samedi 18 juillet à 14h30\n– Partie 2 : Samedi 29 août à 14h30\nGrâce à nos passionnés d’histoire\, nos amoureux des arts : nos guides-conférenciers\, nous vous proposons des conférences en ligne. De nouveaux « rendez-vous…chez vous! » \nD’Argenteuil jusqu’au Pecq\, embarquez à bord de cette croisière en visio-conférence et laissez vous porter par la Seine le long de cette célèbre boucle.\nEn deux étapes\, nous évoquerons ce territoire déjà prisé des rois et devenu destination touristique au 19ème siècle.\nBienvenue au fil de l’eau en compagnie de Bizet\, Maupassant\, Monet et leurs amis pour partager leurs joyeuses heures chez Fournaise et à la Grenouillère ! »\nPar Martine ANSTETT\, guide-conférencière.\n\n\nRéservation obligatoire auprès de l’Office de Tourisme Intercommunal Saint Germain Boucles de Seine. \nPRÉCISIONS POUR ACCÉDER A LA CONFÉRENCE :\n– Cette conférence est en direct\, via l’application Zoom.\nSi vous n’avez jamais utilisé l’application Zoom\, vous pouvez consulter le « tuto » en pdf ci-dessus.\n– Après votre réservation vous recevrez 2 mails :\n– La confirmation de votre commande\n– Votre e-billet : DESSUS LE LIEN POUR VOUS INSCRIRE A LA CONFÉRENCE SUR ZOOM. Une fois que votre inscription est finalisée sur Zoom vous aurez un dernier mail avec le LIEN POUR ACCÉDER A LA CONFÉRENCE. Ne vous inquiétez pas ce dernier vous sera renvoyé 1 jour avant et également 1h avant la conférence.\n– Durant la conférence vous pourrez poser vos questions à la conférencière\, qui les traitera à la fin. Pour se faire vous devez utiliser :\n– L’onglet « Q. et R. ». Il se trouve en bas de votre écran lorsque vous accédez à la conférence. Vous pourrez poser vos questions à l’écrit par ce biais.\n– Si vous rencontrez des difficultés techniques\, vous pourrez discuter directement avec l’animatrice de l’Office de Tourisme via l’onglet « Converser » \, qui se trouve également en bas de votre écran durant la conférence en ligne.
URL:https://www.yvelines-infos.fr/agenda/conference-en-ligne-la-seine-vient-a-vous/
LOCATION:Conférence en ligne sur la plateforme Zoom\, En ligne
ATTACH;FMTTYPE=image/jpeg:https://www.yvelines-infos.fr/content/uploads/2020/croisieresbougivalotisgbs.jpg
ORGANIZER;CN="Office%20de%20Tourisme%20Saint%20Germain%20Boucles%20de%20Seine":MAILTO:info@seine-saintgermain.fr
END:VEVENT
BEGIN:VEVENT
DTSTART;TZID=Europe/Paris:20201114T143000
DTEND;TZID=Europe/Paris:20201114T160000
DTSTAMP:20260424T005629
CREATED:20201112T121519Z
LAST-MODIFIED:20201112T121519Z
UID:370891-1605364200-1605369600@www.yvelines-infos.fr
SUMMARY:Conférence en ligne : rencontre avec le fauve André Derain
DESCRIPTION:L’été 1935\, André Derain (1880-1954) s’installe avec sa famille à la « Roseraie »\, une jolie maison du XVIIIème siècle située dans le petit village de Chambourcy\, à quelques kilomètres seulement de Paris. \n\n\n\n\n\n\nPendant presque vingt ans\, il va y façonner une œuvre colossale présentée aujourd’hui dans les plus grands musées du monde.\nMais connait-on vraiment les multiples talents de cet artiste hors du commun ? \nUne conférence on-line sur Zoom vous permettra de découvrir ou de redécouvrir ce géant du XXème siècle.\nPar Béatrice Montfort\, guide-conférencière \nINFORMATIONS PRATIQUES \nTarif : 5€ / connexion\nCes conférences sont dispensées via la plateforme Zoom.\nAprès avoir effectué votre réservation via le lien « réserver » ci-dessus\, le lien d’inscription à Zoom vous sera envoyé dans votre e-billet (pièce jointe PDF) pour pouvoir accéder à la conférence.\nDes mails de rappel vous seront envoyés avec le lien d’accès la veille\, et 1h avant le début de la conférence. \nRéservation obligatoire.\nPour plus d’informations\, contactez l’Office de Tourisme\, durant les horaires de permanence\, du mardi au samedi de 10h à 12h30 et de 14h à 15h.
URL:https://www.yvelines-infos.fr/agenda/conference-en-ligne-rencontre-avec-le-fauve-andre-derain/
LOCATION:Conférence en ligne sur la plateforme Zoom\, En ligne
ATTACH;FMTTYPE=image/png:https://www.yvelines-infos.fr/content/uploads/2020/andre-derain-2.png
ORGANIZER;CN="Office%20de%20Tourisme%20Saint%20Germain%20Boucles%20de%20Seine":MAILTO:info@seine-saintgermain.fr
END:VEVENT
BEGIN:VEVENT
DTSTART;TZID=Europe/Paris:20201121T143000
DTEND;TZID=Europe/Paris:20201121T160000
DTSTAMP:20260424T005629
CREATED:20201112T121528Z
LAST-MODIFIED:20201112T121528Z
UID:370893-1605969000-1605974400@www.yvelines-infos.fr
SUMMARY:Conférence en ligne - "Napoléon\, chef de guerre\, chef d'état"
DESCRIPTION:Découvrez comment le consul puis l’Empereur s’est progressivement légitimé de celui d’un chef de guerre à celui de chef d’Etat\, grâce au pouvoir de l’imagerie\, à la propagande et au récit divulgué dans les villages de France. \n\n\n\n\n\n\nPar Marouane Ouled-Amor\, guide-conférencier \nINFORMATIONS PRATIQUES \nTarif : 5€ / connexion\nCes conférences sont dispensées via la plateforme Zoom.\nAprès avoir effectué votre réservation via le lien « réserver » ci-dessus\, le lien d’inscription à Zoom vous sera envoyé dans votre e-billet (pièce jointe PDF) pour pouvoir accéder à la conférence.\nDes mails de rappel vous seront envoyés avec le lien d’accès la veille\, et 1h avant le début de la conférence. \nRéservation obligatoire.\nPour plus d’informations\, contactez l’Office de Tourisme\, durant les horaires de permanence\, du mardi au samedi de 10h à 12h30 et de 14h à 15h.
URL:https://www.yvelines-infos.fr/agenda/conference-en-ligne-napoleon-chef-de-guerre-chef-detat/
LOCATION:Conférence en ligne sur la plateforme Zoom\, En ligne
ATTACH;FMTTYPE=image/jpeg:https://www.yvelines-infos.fr/content/uploads/2020/napoleon.jpg
ORGANIZER;CN="Office%20de%20Tourisme%20Saint%20Germain%20Boucles%20de%20Seine":MAILTO:info@seine-saintgermain.fr
END:VEVENT
BEGIN:VEVENT
DTSTART;TZID=Europe/Paris:20201128T143000
DTEND;TZID=Europe/Paris:20201128T160000
DTSTAMP:20260424T005629
CREATED:20201112T121535Z
LAST-MODIFIED:20201112T121535Z
UID:370895-1606573800-1606579200@www.yvelines-infos.fr
SUMMARY:Conférence en ligne : PSG 50ans d'histoire
DESCRIPTION:Le club du Paris Saint-Germain fête cette année ses 50 ans mais son histoire est en fait plus ancienne et trouve ses origines chez nous avec le Stade saint-germanois fondé en 1904 ! \n\n\n\n\n\n\nSous sa forme actuelle depuis 1970\, le PSG est devenu le club français ayant gagné le plus de trophées et a attiré de grands footballeurs du monde entier qui s’entrainent toujours en forêt de Saint-Germain. \nNous vous proposons de découvrir l’histoire de ce grand club qui contribue à la renommée internationale de notre ville. \nPar Marouane Ouled-Amor\, guide-conférencier \nINFORMATIONS PRATIQUES \nTarif : 5€ /connexion\nCes conférences sont dispensées via la plateforme Zoom.\nAprès avoir effectué votre réservation via le lien « réserver » ci-dessus\, le lien d’inscription à Zoom vous sera envoyé dans votre e-billet (pièce jointe PDF) pour pouvoir accéder à la conférence.\nDes mails de rappel vous seront envoyés avec le lien d’accès la veille\, et 1h avant le début de la conférence. \nRéservation obligatoire.\nPour plus d’informations\, contactez l’Office de Tourisme\, durant les horaires de permanence\, du mardi au samedi de 10h à 12h30 et de 14h à 15h.
URL:https://www.yvelines-infos.fr/agenda/conference-en-ligne-psg-50ans-dhistoire/
LOCATION:Conférence en ligne sur la plateforme Zoom\, En ligne
ATTACH;FMTTYPE=image/png:https://www.yvelines-infos.fr/content/uploads/2020/logo-50-psg.png
ORGANIZER;CN="Office%20de%20Tourisme%20Saint%20Germain%20Boucles%20de%20Seine":MAILTO:info@seine-saintgermain.fr
END:VEVENT
END:VCALENDAR