BEGIN:VCALENDAR
VERSION:2.0
PRODID:-//Yvelines Infos - ECPv6.0.2//NONSGML v1.0//EN
CALSCALE:GREGORIAN
METHOD:PUBLISH
X-ORIGINAL-URL:https://www.yvelines-infos.fr
X-WR-CALDESC:Évènements pour Yvelines Infos
REFRESH-INTERVAL;VALUE=DURATION:PT1H
X-Robots-Tag:noindex
X-PUBLISHED-TTL:PT1H
BEGIN:VTIMEZONE
TZID:Europe/Paris
BEGIN:DAYLIGHT
TZOFFSETFROM:+0100
TZOFFSETTO:+0200
TZNAME:CEST
DTSTART:20190331T010000
END:DAYLIGHT
BEGIN:STANDARD
TZOFFSETFROM:+0200
TZOFFSETTO:+0100
TZNAME:CET
DTSTART:20191027T010000
END:STANDARD
END:VTIMEZONE
BEGIN:VEVENT
DTSTART;VALUE=DATE:20190519
DTEND;VALUE=DATE:20190520
DTSTAMP:20260423T061926
CREATED:20190131T145638Z
LAST-MODIFIED:20190131T150028Z
UID:355393-1558224000-1558310399@www.yvelines-infos.fr
SUMMARY:7ème édition du Trail de l’Orangerie de Bonnelles
DESCRIPTION:La 7ème édition du Trail de l’Orangerie de Bonnelles se déroulera le dimanche 19 mai 2019 et les inscriptions sont ouvertes depuis 07 janvier.\n \nC’est l’occasion de découvrir la vallée de Chevreuse avec plusieurs distances aux choix\, 39km\, 18km\, Marche Nordique et marche à allure libre\, 800 participants max.\nChallenge Trail Nature\, CDCHS78.\n\nDépart Arrivée : Complexe sportif\, rue de la fontaine Saint Symphorien\, Bonnelles 78830\n\n Le Trail de l’Orangerie est organisé par la Mairie de Bonnelles et les bénéfices sont intégralement reversés à la Caisse des Ecoles de Bonnelles.\n \n « Le principe de la caisse des écoles est tout d’abord d’apporter un soutien financier pour la scolarisation des enfants par l’aide\n \nà la rentrée scolaire\, la participation aux tickets de cantine mais également de financer en partie ou en totalité des projets initiés\npar les enseignants du groupe scolaire telles que des sorties éducatives\, des classes transplantées\, des interventions extérieures\n(éveil musical\, arts plastiques\, théâtre…) ».\n\n\nInscription sur le site internet du Trail
URL:https://www.yvelines-infos.fr/agenda/7eme-edition-du-trail-de-lorangerie-de-bonnelles/
LOCATION:Complexe sportif\, rue de la fontaine Saint Symphorien\, Bonnelles\, 78830\, France
ATTACH;FMTTYPE=image/jpeg:https://www.yvelines-infos.fr/content/uploads/2019/affiche-2019-v4.jpg
ORGANIZER;CN="Mairie%20de%20Bonnelles":MAILTO:trailorangeriedebonnelles@gmail.com
END:VEVENT
END:VCALENDAR