BEGIN:VCALENDAR
VERSION:2.0
PRODID:-//Yvelines Infos - ECPv6.0.2//NONSGML v1.0//EN
CALSCALE:GREGORIAN
METHOD:PUBLISH
X-ORIGINAL-URL:https://www.yvelines-infos.fr
X-WR-CALDESC:Évènements pour Yvelines Infos
REFRESH-INTERVAL;VALUE=DURATION:PT1H
X-Robots-Tag:noindex
X-PUBLISHED-TTL:PT1H
BEGIN:VTIMEZONE
TZID:Europe/Paris
BEGIN:DAYLIGHT
TZOFFSETFROM:+0100
TZOFFSETTO:+0200
TZNAME:CEST
DTSTART:20190331T010000
END:DAYLIGHT
BEGIN:STANDARD
TZOFFSETFROM:+0200
TZOFFSETTO:+0100
TZNAME:CET
DTSTART:20191027T010000
END:STANDARD
BEGIN:DAYLIGHT
TZOFFSETFROM:+0100
TZOFFSETTO:+0200
TZNAME:CEST
DTSTART:20200329T010000
END:DAYLIGHT
BEGIN:STANDARD
TZOFFSETFROM:+0200
TZOFFSETTO:+0100
TZNAME:CET
DTSTART:20201025T010000
END:STANDARD
END:VTIMEZONE
BEGIN:VEVENT
DTSTART;TZID=Europe/Paris:20190330T203000
DTEND;TZID=Europe/Paris:20190330T223000
DTSTAMP:20260423T054401
CREATED:20181217T135330Z
LAST-MODIFIED:20181217T135330Z
UID:354375-1553977800-1553985000@www.yvelines-infos.fr
SUMMARY:Concert Exceptionnel de Trompes
DESCRIPTION:À l’occasion du salon de chasse qui se tiendra à Mantes-la-Jolie du 29 au 31 Mars 2019 \, un concert de cet instrument séculaire sera donné le samedi 30 Mars à 20 h 30 en la Collégiale de Mantes la Jolie. \nLe Bien Aller Parisien\, une association œuvrant pour le rayonnement de la trompe de chasse en est l’organisateur. « Pour l’occasion\, les spectateurs pourront assister à une présentation de grands morceaux traditionnels et de fantaisies\, des fanfares de vénerie et chants de chasse »\, indique le communiqué de presse de l’événement. De nombreux champions de trompe de chasse y seront également présents pour interpréter des morceaux en Solo\, Duo Trio et groupe. \nLes tarifs sont compris entre 10 et 15 euros. Pour obtenir les meilleurs tarifs\, préférez la prévente en commandant vos places sur billetreduc.com ou fnacspectacle.com par mail à postmaster@lebienallerparisien.com. Il est également possible de téléphoner aux organisateurs au 06 43 61 29 62. \nÀ noter que l’entrée est gratuite pour les enfants de moins de 15 ans.
URL:https://www.yvelines-infos.fr/agenda/concert-exceptionnel-de-trompes/
LOCATION:Collégiale Notre-Dame\, Mantes-la-Jolie\, 78200\, France
ATTACH;FMTTYPE=image/jpeg:https://www.yvelines-infos.fr/content/uploads/2018/affiche-concert-mantes-2019-final.jpg
ORGANIZER;CN="Bien%20Aller%20%20Parisien":MAILTO:postmaster@lebienallerparisien.com
GEO:48.989323;1.714958
END:VEVENT
BEGIN:VEVENT
DTSTART;TZID=Europe/Paris:20200111T183000
DTEND;TZID=Europe/Paris:20200111T203000
DTSTAMP:20260423T054401
CREATED:20200110T090849Z
LAST-MODIFIED:20200110T090849Z
UID:364537-1578767400-1578774600@www.yvelines-infos.fr
SUMMARY:Trail urbain de la galette 2020
DESCRIPTION:La première édition l’an dernier avait rencontré un franc succès. La municipalité a donc décidé de renouveler cette course de 12 km à travers les rues de la ville. \nCette deuxième édition partira à 18h30 depuis le parvis de la collégiale et passera cette année par la rue Monteclair avant de traverser la nouvelle passerelle\, mais aussi les nombreux lieux emblématiques de Mantes-la-Jolie. \nPour participer\, il faut avoir au moins 16 ans et s’inscrire sur le site du Trail de la galette ou directement sur place le jour-même à partir de 16h30. \nPlus d’infos au 01 34 78 99 20 ou auprès du service sports de la mairie de Mantes-la-Jolie.
URL:https://www.yvelines-infos.fr/agenda/trail-urbain-de-la-galette-2020/
LOCATION:Collégiale Notre-Dame\, Mantes-la-Jolie\, 78200\, France
ATTACH;FMTTYPE=image/png:https://www.yvelines-infos.fr/content/uploads/2020/trail-de-la-galette-2020.png
GEO:48.989323;1.714958
END:VEVENT
BEGIN:VEVENT
DTSTART;TZID=Europe/Paris:20200515T200000
DTEND;TZID=Europe/Paris:20200515T220000
DTSTAMP:20260423T054401
CREATED:20200312T125849Z
LAST-MODIFIED:20200312T125849Z
UID:365895-1589572800-1589580000@www.yvelines-infos.fr
SUMMARY:Exsultate\, Jubilate !
DESCRIPTION:Le nouvel Orchestre de Paris & Saint Germain en Laye vous présente ses premiers Concerts. Ses musiciens expliqueront au public un magnifique programme sur la joie qui inspira les grands maîtres classiques. L’orchestre donnera la Plaisanterie Musicale où Mozart se moque habilement des mauvais compositeurs\, une pièce brillante où Beethoven fait rire les cors\, un célèbre motet de Mozart et un air sacré de Haydn éclatants avec soprane soliste\, et pour finir la Symphonie Le Départ de ce dernier avec le jeu de scène tel qu’à l’origine: en 1772\, leur séjour au palais d’été se prolongeant\, la cour et ses musiciens en particulier se languissent de leurs familles. Le compositeur suggère au Prince Nicolas 1er Esterházy par sa musique de leur permettre de rentrer : lors du concert\, chaque musicien\, l’un après l’autre\, s’arrêta de jouer\, souffla la chandelle de son pupitre et quitta la salle. A la fin\, seuls le premier violon et le compositeur lui même terminèrent la Symphonie dans une nuance de plus en plus piano . Le lendemain dit on\, le prince prit la décision attendue.
URL:https://www.yvelines-infos.fr/agenda/exsultate-jubilate-2/
LOCATION:Collégiale Notre-Dame\, Mantes-la-Jolie\, 78200\, France
ATTACH;FMTTYPE=image/jpeg:https://www.yvelines-infos.fr/content/uploads/2020/pb-p.jpg
GEO:48.989323;1.714958
END:VEVENT
END:VCALENDAR