BEGIN:VCALENDAR
VERSION:2.0
PRODID:-//Yvelines Infos - ECPv6.0.2//NONSGML v1.0//EN
CALSCALE:GREGORIAN
METHOD:PUBLISH
X-WR-CALNAME:Yvelines Infos
X-ORIGINAL-URL:https://www.yvelines-infos.fr
X-WR-CALDESC:Évènements pour Yvelines Infos
REFRESH-INTERVAL;VALUE=DURATION:PT1H
X-Robots-Tag:noindex
X-PUBLISHED-TTL:PT1H
BEGIN:VTIMEZONE
TZID:Europe/Paris
BEGIN:DAYLIGHT
TZOFFSETFROM:+0100
TZOFFSETTO:+0200
TZNAME:CEST
DTSTART:20170326T010000
END:DAYLIGHT
BEGIN:STANDARD
TZOFFSETFROM:+0200
TZOFFSETTO:+0100
TZNAME:CET
DTSTART:20171029T010000
END:STANDARD
BEGIN:DAYLIGHT
TZOFFSETFROM:+0100
TZOFFSETTO:+0200
TZNAME:CEST
DTSTART:20180325T010000
END:DAYLIGHT
BEGIN:STANDARD
TZOFFSETFROM:+0200
TZOFFSETTO:+0100
TZNAME:CET
DTSTART:20181028T010000
END:STANDARD
END:VTIMEZONE
BEGIN:VEVENT
DTSTART;TZID=Europe/Paris:20171007T183000
DTEND;TZID=Europe/Paris:20171007T233000
DTSTAMP:20260423T080150
CREATED:20170628T123349Z
LAST-MODIFIED:20170628T123349Z
UID:341099-1507401000-1507419000@www.yvelines-infos.fr
SUMMARY:Nuit du conte : Légendes urbaines\, Brazza-Mantes aller-retour
DESCRIPTION:L’une est en Afrique\, équatoriale\, l’autre en Europe\, normande. L’une est la capitale du Congo\, l’autre une ville de la banlieue de Paris\nL’une et l’autre bercées par leur fleuve\, l’une et l’autre racontées en tant de langues\nLe festival Rumeurs Urbaines et le Collectif 12 décident d’en croiser des histoires :\nDes conteurs d’ici et de là-bas dessinent des parallèles : façon de parler\, de se vêtir ou de se mouvoir. Ces habiles tailleurs de mots\, sapeurs en phrases\, métissent les espoirs\, les luttes et les paraboles dans une soirée bouillonnante et jubilatoire. Une invitation à rêver ensemble la relation de deux villes insoumises. \nLa soirée se déroule en trois parties\, avec une pause restauration : \n\nde 18h30 à 19h30 : contes pour les enfants\nde 20h30 à 21h30 : contes pour tous\nde 21h45 à 22h45 : contes pour les grands\n\nTout public à partir de 8 ans \nUne programmation commune du Collectif 12 et du festival Rumeurs Urbaines\, festival du conte et des arts du récit\, 18ème édition du 28 septembre au 27 octobre 2017\, programme complet sur le site internet. \nDistribution : \nAvec : Rachid Akbal\, Abdon Fortuné Koumbha Kaf\, Marcel Mankita.\nAvec la participation de : Tonton Badou et d’autres conteurs mantais. \nUn stage d’initiation au conte est prévu le dimanche 1er octobre de 11h à 17h\, plus d’infos au 01.30.33.22.65 ou contact@collectif12.org
URL:https://www.yvelines-infos.fr/agenda/nuit-conte-legendes-urbaines-brazza-mantes-aller-retour/
LOCATION:Collectif 12\, 174 boulevard du Maréchal Juin\, Mantes-la-Jolie\, 78200\, France
ATTACH;FMTTYPE=image/jpeg:https://www.yvelines-infos.fr/content/uploads/2017/dsc_0862-e1498653152921.jpg
GEO:48.9940911;1.6983974
X-APPLE-STRUCTURED-LOCATION;VALUE=URI;X-ADDRESS=Collectif 12 174 boulevard du Maréchal Juin Mantes-la-Jolie 78200 France;X-APPLE-RADIUS=500;X-TITLE=174 boulevard du Maréchal Juin:geo:1.6983974,48.9940911
END:VEVENT
BEGIN:VEVENT
DTSTART;TZID=Europe/Paris:20180310T200000
DTEND;TZID=Europe/Paris:20180310T220000
DTSTAMP:20260423T080150
CREATED:20180112T090532Z
LAST-MODIFIED:20180223T140551Z
UID:346635-1520712000-1520719200@www.yvelines-infos.fr
SUMMARY:Pavane… Miniature et miroir Compagnie Gramma • Aurélie Berland
DESCRIPTION:José Limon (1908-72)\, fut l’inventeur\nd’une technique qui a révolutionné\nla danse contemporaine et reste\ntoujours très enseignée\, c’était aussi\nun chorégraphe qui su allier rigueur\nformelle et tension dramatique.\nCela est particulièrement vrai dans sa pièce The noor’s\npavane (1949) qu’Aurélie Berland va déconstruire ce soir\npuisque originellement elle est une mise en danse de\nla tragédie d’Othello et de quatre de ses personnages\nprincipaux.\nPavane… est composée de deux parties\, la première\n« miniature » est une traversée du quatuor d’origine mais\ndansée par Aurélie seule\, puis dans « miroir » la partition\ndu solo se redéploie dans un quatuor inédit. Il ne restera ni\nnarration\, ni personnages\, mais des mouvements à l’origine\nmystérieuse\, fantômes que quatre femmes vont visiter avec\nl’élégance de la distance. Les mouvements des danseuses\nsemblent naître d’une impulsion secrète et de l’attraction\nmagnétique du mouvement d’une autre.\nAurélie Berland interprète remarquable et remarquée\npour de nombreux chorégraphes contemporains (Daniel\nDobbels\, Ben Aïm\, Christine Gérard\, Nacera Belaza)\, signe\navec Pavane… sa première pièce longue\, accueillie en\nrésidence de création au Collectif 12 qui en est coproducteur.\nElle est praticienne de la notation Laban\, qui permet d’écrire\nle mouvement sur une partition\, et donc de le lire\, l’analyser\net le transmettre. La pièce inaugure la série Miniatures et\nmiroirs qui explorera l’histoire de la danse.
URL:https://www.yvelines-infos.fr/agenda/pavane-miniature-miroir-compagnie-gramma-%e2%80%a2-aurelie-berland/
LOCATION:Collectif 12\, 174 boulevard du Maréchal Juin\, Mantes-la-Jolie\, 78200\, France
ATTACH;FMTTYPE=image/jpeg:https://www.yvelines-infos.fr/content/uploads/2018/ber16120966.jpg
GEO:48.9940911;1.6983974
X-APPLE-STRUCTURED-LOCATION;VALUE=URI;X-ADDRESS=Collectif 12 174 boulevard du Maréchal Juin Mantes-la-Jolie 78200 France;X-APPLE-RADIUS=500;X-TITLE=174 boulevard du Maréchal Juin:geo:1.6983974,48.9940911
END:VEVENT
END:VCALENDAR