BEGIN:VCALENDAR
VERSION:2.0
PRODID:-//Yvelines Infos - ECPv6.0.2//NONSGML v1.0//EN
CALSCALE:GREGORIAN
METHOD:PUBLISH
X-WR-CALNAME:Yvelines Infos
X-ORIGINAL-URL:https://www.yvelines-infos.fr
X-WR-CALDESC:Évènements pour Yvelines Infos
REFRESH-INTERVAL;VALUE=DURATION:PT1H
X-Robots-Tag:noindex
X-PUBLISHED-TTL:PT1H
BEGIN:VTIMEZONE
TZID:Europe/Paris
BEGIN:DAYLIGHT
TZOFFSETFROM:+0100
TZOFFSETTO:+0200
TZNAME:CEST
DTSTART:20210328T010000
END:DAYLIGHT
BEGIN:STANDARD
TZOFFSETFROM:+0200
TZOFFSETTO:+0100
TZNAME:CET
DTSTART:20211031T010000
END:STANDARD
END:VTIMEZONE
BEGIN:VEVENT
DTSTART;TZID=Europe/Paris:20210626T140000
DTEND;TZID=Europe/Paris:20210626T180000
DTSTAMP:20260423T013100
CREATED:20210614T080504Z
LAST-MODIFIED:20210614T080504Z
UID:376349-1624716000-1624730400@www.yvelines-infos.fr
SUMMARY:Journées Portes Ouvertes - 3P Tennis Coaching
DESCRIPTION:Le centre d’entraînement de tennis fondé par Eddy Truffaut il y a deux ans organise deux journées portes ouvertes du 27 au 28 juin prochain\, de 14h à 18h\, à Morainvilliers. \nL’occasion pour les parents des joueuses et des joueurs de tennis des Yvelines de venir échanger avec les entraîneurs du 3P Tennis Coaching et de découvrir une nouvelle manière d’enseigner le tennis. Des créneaux compris entre 45 minutes et 1 heure seront proposés aux parents. Voici le lien pour réserver son rendez-vous : https://3p-tennis-coaching.reservio.com/. \nIl reste encore des places au sein de notre centre pour l’année prochaine. Il n’y a pas de formules préétablies car le 3P Tennis croit en l’hyperpersonnalisation des projets. C’est pourquoi il est important d’échanger pour adapter au mieux les réponses à chacun. \nUn centre d’entraînement tourné vers la préparation au haut-niveau \n3P Tennis Coaching est un centre d’entraînement au haut-niveau installé dans les Yvelines. La structure encadre et accompagne des joueuses et des joueurs qui ont des projets forts. La vision du centre repose sur les 3P : Progrès\, Plaisir et Performance. Ces trois notions sont complémentaires et indispensables pour espérer atteindre le monde professionnel. \nLa conviction du centre est que l’aspect mental est primordial pour espérer progresser et s’épanouir en tant qu’athlète. C’est pourquoi\, le 3P Tennis Coaching\, intègre une véritable préparation mentale aux entraînements. Tous les entraîneurs sont formés à la préparation mentale et à même d’accompagner les jeunes dans leur épanouissement. « Nous développons chez nos jeunes les qualités suivantes : l’écoute\, la gestion de leurs émotions\, la respiration et le relâchement\, l’estime de soi… Et plein d’autres thèmes nécessaires au progrès\, au plaisir et à la performance » détaille Eddy Truffaut\, responsable de la structure. \nLe centre dispose de 4 courts\, dont 2 terrains couverts en résine\, et d’un terrain de padel. Venez échanger avec eux le week-end du 26 et 27 juin prochain au chemin de la bisaille à Morainvilliers ! \nCoordonnées :  \nEddy Truffaut (Fondateur du 3P): 06.14.17.54.99 \nValentin Desanges (Responsable communication et RP) : 06.50.15.22.40 \nAdresse : Chemin de la Bichaille\, 78630 Morainvilliers \n 
URL:https://www.yvelines-infos.fr/agenda/journees-portes-ouvertes-3p-tennis-coaching/2021-06-26/
LOCATION:chemin de la bichaille\, morainvilliers\, Allée des peupliers\, Morainvilliers\, 78 630\, France
ATTACH;FMTTYPE=image/png:https://www.yvelines-infos.fr/content/uploads/2021/2021.png
ORGANIZER;CN="3P%20Tennis%20Coaching":MAILTO:eddy.truffaut@wanadoo.fr
END:VEVENT
BEGIN:VEVENT
DTSTART;TZID=Europe/Paris:20210627T140000
DTEND;TZID=Europe/Paris:20210627T180000
DTSTAMP:20260423T013100
CREATED:20210614T080505Z
LAST-MODIFIED:20210614T080505Z
UID:376352-1624802400-1624816800@www.yvelines-infos.fr
SUMMARY:Journées Portes Ouvertes - 3P Tennis Coaching
DESCRIPTION:Le centre d’entraînement de tennis fondé par Eddy Truffaut il y a deux ans organise deux journées portes ouvertes du 27 au 28 juin prochain\, de 14h à 18h\, à Morainvilliers. \nL’occasion pour les parents des joueuses et des joueurs de tennis des Yvelines de venir échanger avec les entraîneurs du 3P Tennis Coaching et de découvrir une nouvelle manière d’enseigner le tennis. Des créneaux compris entre 45 minutes et 1 heure seront proposés aux parents. Voici le lien pour réserver son rendez-vous : https://3p-tennis-coaching.reservio.com/. \nIl reste encore des places au sein de notre centre pour l’année prochaine. Il n’y a pas de formules préétablies car le 3P Tennis croit en l’hyperpersonnalisation des projets. C’est pourquoi il est important d’échanger pour adapter au mieux les réponses à chacun. \nUn centre d’entraînement tourné vers la préparation au haut-niveau \n3P Tennis Coaching est un centre d’entraînement au haut-niveau installé dans les Yvelines. La structure encadre et accompagne des joueuses et des joueurs qui ont des projets forts. La vision du centre repose sur les 3P : Progrès\, Plaisir et Performance. Ces trois notions sont complémentaires et indispensables pour espérer atteindre le monde professionnel. \nLa conviction du centre est que l’aspect mental est primordial pour espérer progresser et s’épanouir en tant qu’athlète. C’est pourquoi\, le 3P Tennis Coaching\, intègre une véritable préparation mentale aux entraînements. Tous les entraîneurs sont formés à la préparation mentale et à même d’accompagner les jeunes dans leur épanouissement. « Nous développons chez nos jeunes les qualités suivantes : l’écoute\, la gestion de leurs émotions\, la respiration et le relâchement\, l’estime de soi… Et plein d’autres thèmes nécessaires au progrès\, au plaisir et à la performance » détaille Eddy Truffaut\, responsable de la structure. \nLe centre dispose de 4 courts\, dont 2 terrains couverts en résine\, et d’un terrain de padel. Venez échanger avec eux le week-end du 26 et 27 juin prochain au chemin de la bisaille à Morainvilliers ! \nCoordonnées :  \nEddy Truffaut (Fondateur du 3P): 06.14.17.54.99 \nValentin Desanges (Responsable communication et RP) : 06.50.15.22.40 \nAdresse : Chemin de la Bichaille\, 78630 Morainvilliers \n 
URL:https://www.yvelines-infos.fr/agenda/journees-portes-ouvertes-3p-tennis-coaching/2021-06-27/
LOCATION:chemin de la bichaille\, morainvilliers\, Allée des peupliers\, Morainvilliers\, 78 630\, France
ATTACH;FMTTYPE=image/png:https://www.yvelines-infos.fr/content/uploads/2021/2021.png
ORGANIZER;CN="3P%20Tennis%20Coaching":MAILTO:eddy.truffaut@wanadoo.fr
END:VEVENT
END:VCALENDAR