BEGIN:VCALENDAR
VERSION:2.0
PRODID:-//Yvelines Infos - ECPv6.0.2//NONSGML v1.0//EN
CALSCALE:GREGORIAN
METHOD:PUBLISH
X-WR-CALNAME:Yvelines Infos
X-ORIGINAL-URL:https://www.yvelines-infos.fr
X-WR-CALDESC:Évènements pour Yvelines Infos
REFRESH-INTERVAL;VALUE=DURATION:PT1H
X-Robots-Tag:noindex
X-PUBLISHED-TTL:PT1H
BEGIN:VTIMEZONE
TZID:Europe/Paris
BEGIN:DAYLIGHT
TZOFFSETFROM:+0100
TZOFFSETTO:+0200
TZNAME:CEST
DTSTART:20170326T010000
END:DAYLIGHT
BEGIN:STANDARD
TZOFFSETFROM:+0200
TZOFFSETTO:+0100
TZNAME:CET
DTSTART:20171029T010000
END:STANDARD
BEGIN:DAYLIGHT
TZOFFSETFROM:+0100
TZOFFSETTO:+0200
TZNAME:CEST
DTSTART:20180325T010000
END:DAYLIGHT
BEGIN:STANDARD
TZOFFSETFROM:+0200
TZOFFSETTO:+0100
TZNAME:CET
DTSTART:20181028T010000
END:STANDARD
BEGIN:DAYLIGHT
TZOFFSETFROM:+0100
TZOFFSETTO:+0200
TZNAME:CEST
DTSTART:20190331T010000
END:DAYLIGHT
BEGIN:STANDARD
TZOFFSETFROM:+0200
TZOFFSETTO:+0100
TZNAME:CET
DTSTART:20191027T010000
END:STANDARD
BEGIN:DAYLIGHT
TZOFFSETFROM:+0100
TZOFFSETTO:+0200
TZNAME:CEST
DTSTART:20200329T010000
END:DAYLIGHT
BEGIN:STANDARD
TZOFFSETFROM:+0200
TZOFFSETTO:+0100
TZNAME:CET
DTSTART:20201025T010000
END:STANDARD
BEGIN:DAYLIGHT
TZOFFSETFROM:+0100
TZOFFSETTO:+0200
TZNAME:CEST
DTSTART:20210328T010000
END:DAYLIGHT
BEGIN:STANDARD
TZOFFSETFROM:+0200
TZOFFSETTO:+0100
TZNAME:CET
DTSTART:20211031T010000
END:STANDARD
END:VTIMEZONE
BEGIN:VEVENT
DTSTART;TZID=Europe/Paris:20170923T140000
DTEND;TZID=Europe/Paris:20170923T170000
DTSTAMP:20260423T095847
CREATED:20170719T095553Z
LAST-MODIFIED:20170719T095553Z
UID:342077-1506175200-1506186000@www.yvelines-infos.fr
SUMMARY:La Grande Dictée
DESCRIPTION:Le 23 septembre 2017 à 14h\, dans le parc du château Monte Cristo du Port-Marly\, la ville organise la deuxième édition de la Grande Dictée. Inscrivez-vous dès maintenant pour cet événement convivial ouvert à tous. Les inscriptions sont clôturées le 4 septembre 2017. Cette année\, petits et grands se confronteront au même texte. A l’issue de cette dictée\, une seconde sera proposée pour ceux qui le souhaitent.
URL:https://www.yvelines-infos.fr/agenda/la-grande-dictee/
LOCATION:Château Monte Cristo\, Chemin du hauts des Ormes\, Le Port-Marly\, 78560 \, France
ATTACH;FMTTYPE=image/jpeg:https://www.yvelines-infos.fr/content/uploads/2017/Affiche_Dictee_2017-e1500457762772.jpg
GEO:48.8810546;2.1056062
X-APPLE-STRUCTURED-LOCATION;VALUE=URI;X-ADDRESS=Château Monte Cristo Chemin du hauts des Ormes Le Port-Marly 78560  France;X-APPLE-RADIUS=500;X-TITLE=Chemin du hauts des Ormes:geo:2.1056062,48.8810546
END:VEVENT
BEGIN:VEVENT
DTSTART;TZID=Europe/Paris:20200208T143000
DTEND;TZID=Europe/Paris:20200208T160000
DTSTAMP:20260423T095847
CREATED:20200106T113042Z
LAST-MODIFIED:20200106T113042Z
UID:364417-1581172200-1581177600@www.yvelines-infos.fr
SUMMARY:Visite-Atelier "Mon rêve de pierre" au Château de Monte-Cristo
DESCRIPTION:Alexandre Dumas est peut-être l’écrivain romantique le plus populaire. Il laisse derrière lui une œuvre littéraire colossale et une maison\, Monte-Cristo. Et quelle maison ! Cette élégante demeure du XIXème siècle ressemble trait pour trait à son propriétaire. Le portrait de l’écrivain\, ses initiales\, sa devise\, ses passions sont en effet gravés dans la pierre\, de telle sorte que l’un et l’autre se confondent. Monte-Cristo\, c’est Dumas. Visite guidée du site pendant 1h suivie d’un atelier créatif. \nPar Béatrice Montfort\, guide-conférencière \nDurée : 1h30
URL:https://www.yvelines-infos.fr/agenda/visite-atelier-mon-reve-de-pierre-au-chateau-de-monte-cristo/
LOCATION:Château Monte Cristo\, Chemin du hauts des Ormes\, Le Port-Marly\, 78560 \, France
ATTACH;FMTTYPE=image/jpeg:https://www.yvelines-infos.fr/content/uploads/2020/chateau-monte-cristo-2017.jpg
ORGANIZER;CN="Office%20de%20Tourisme%20Saint%20Germain%20Boucles%20de%20Seine":MAILTO:info@seine-saintgermain.fr
GEO:48.8810546;2.1056062
X-APPLE-STRUCTURED-LOCATION;VALUE=URI;X-ADDRESS=Château Monte Cristo Chemin du hauts des Ormes Le Port-Marly 78560  France;X-APPLE-RADIUS=500;X-TITLE=Chemin du hauts des Ormes:geo:2.1056062,48.8810546
END:VEVENT
BEGIN:VEVENT
DTSTART;TZID=Europe/Paris:20210925T190000
DTEND;TZID=Europe/Paris:20210925T233000
DTSTAMP:20260423T095847
CREATED:20210712T091924Z
LAST-MODIFIED:20210712T091924Z
UID:377265-1632596400-1632612600@www.yvelines-infos.fr
SUMMARY:Le barbier de Séville au Port-Marly
DESCRIPTION:Tous les samedis de septembre\, des opéras et des ballets du répertoire classique seront projetés sur grand écran\, en plein air\, dans 12 villes des Yvelines.  \nCette opération gratuite a remporté un vif succès l’an dernier. Cette troisième édition\, plus riche encore\, saura sans aucun doute ravir les amateurs d’opéra et de danse et attirer de nouveaux spectateurs\, c’est là l’objectif premier de cette opération grand public.\nCes séances sont l’occasion pour tous de profiter d’un moment de détente sous les étoiles. \nLe barbier de Séville \nOpera buffa en deux actes (1816) \nMusique : Gioacchino Rossini \nLivret : Cesare Sterbini d’après la comédie de Pierre-Augustin Caron De Beaumarchais / Direction musicale : Carlo Montanaro / Mise en scène : Damiano Michieletto              \nOrchestre et Chœur de l’Opéra national de Paris / Réalisateur : François GOETGHEBEUR   \nDurée : 2h35’ \n Ce bouillonnant opera buffa\, inspiré de la comédie de Beaumarchais\, a été créé par Rossini en 1816. Plus d’un siècle après\, le metteur en scène Damiano Michieletto\, sensible à la veine burlesque de la musique rossinienne\, transpose l’action dans une Séville contemporaine inspirée du cinéma d’Almodóvar. Sur scène l’immeuble monumental de Bartolo\, au sein duquel Figaro tourbillonne en électron libre\, illustre cette vision déjantée. \n© Opéra national de Paris – A Prime Group – France 2015
URL:https://www.yvelines-infos.fr/agenda/le-barbier-de-seville-au-port-marly/
LOCATION:Château Monte Cristo\, Chemin du hauts des Ormes\, Le Port-Marly\, 78560 \, France
ATTACH;FMTTYPE=image/jpeg:https://www.yvelines-infos.fr/content/uploads/2021/rs-web-1080x1080.jpg
GEO:48.8810546;2.1056062
X-APPLE-STRUCTURED-LOCATION;VALUE=URI;X-ADDRESS=Château Monte Cristo Chemin du hauts des Ormes Le Port-Marly 78560  France;X-APPLE-RADIUS=500;X-TITLE=Chemin du hauts des Ormes:geo:2.1056062,48.8810546
END:VEVENT
END:VCALENDAR