BEGIN:VCALENDAR
VERSION:2.0
PRODID:-//Yvelines Infos - ECPv6.0.2//NONSGML v1.0//EN
CALSCALE:GREGORIAN
METHOD:PUBLISH
X-WR-CALNAME:Yvelines Infos
X-ORIGINAL-URL:https://www.yvelines-infos.fr
X-WR-CALDESC:Évènements pour Yvelines Infos
REFRESH-INTERVAL;VALUE=DURATION:PT1H
X-Robots-Tag:noindex
X-PUBLISHED-TTL:PT1H
BEGIN:VTIMEZONE
TZID:Europe/Paris
BEGIN:DAYLIGHT
TZOFFSETFROM:+0100
TZOFFSETTO:+0200
TZNAME:CEST
DTSTART:20170326T010000
END:DAYLIGHT
BEGIN:STANDARD
TZOFFSETFROM:+0200
TZOFFSETTO:+0100
TZNAME:CET
DTSTART:20171029T010000
END:STANDARD
BEGIN:DAYLIGHT
TZOFFSETFROM:+0100
TZOFFSETTO:+0200
TZNAME:CEST
DTSTART:20180325T010000
END:DAYLIGHT
BEGIN:STANDARD
TZOFFSETFROM:+0200
TZOFFSETTO:+0100
TZNAME:CET
DTSTART:20181028T010000
END:STANDARD
END:VTIMEZONE
BEGIN:VEVENT
DTSTART;TZID=Europe/Paris:20170401T100000
DTEND;TZID=Europe/Paris:20170930T190000
DTSTAMP:20260423T073921
CREATED:20170420T123057Z
LAST-MODIFIED:20170420T124331Z
UID:338276-1491040800-1506798000@www.yvelines-infos.fr
SUMMARY:DinoZOOre II\, safari exceptionnel au temps des dinosaures
DESCRIPTION:DinoZOOre II est une aventure unique proposée par le Zoo de Thoiry jusqu’au 30 septembre 2017 : la téléportation en réalité virtuelle 125 millions d’années en arrière\, à l’ère des dinosaures. Un Dino-Safari pour petits et grands explorateurs. Frissons garantis ! \nUn voyage dans le temps plus vrai que nature vous attend au Domaine de Thoiry. Grâce à un procédé de réalité virtuelle\, vous êtes téléportés à l’ère du Crétacé inférieur\, au milieu de la faune sauvage. \nAu campement DinoZOOre II\, un opérateur-ranger vous équipe et l’exploration commence. Vous « atterrissez » dans une vallée enneigée dans les confins de la Chine. Un site qui abrite plusieurs espèces de dinosaures et de ptérosaures (reptiles volants)\, certains carnivores\, dont le Yutyrannus\, ancêtre du terrible T.Rex\, long de 9 mètres et couvert de plumes. \nCe voyage est minuté pour assurer votre « sécurité »\, il ne faudrait pas que ces créatures vous repèrent… Mais pas d’inquiétude\, le système vous rend invisibles\, vous devriez donc pouvoir observer les animaux en toute discrétion. \nCrédit photo : Arthus Boutin / Safari Zoo Domaine de Thoiry \nAprès cette immersion à 360°\, vous revenez sains et saufs en 2017 pour poursuivre l’aventure. A pied\, vous circulez au milieu de la végétation du parc où sont disséminés 16 dinosaures animés\, de taille réelle. \nDes ateliers de fouilles archéologiques sont aussi proposés pour que les enfants puissent s’initier à la recherche de fossiles ! \nLudique et pédagogique\, cette visite façon « Jurassic Parc »\, spécialement créée pour le Safari Zoo de Thoiry\, enchantera les enfants. \nPrincipe de la téléportation : vous prenez place sur un « Pod »\, une unité de téléportation\, et portez un casque de réalité virtuelle. La reconstitution des dinosaures a été élaborée avec des paléontologues mondialement réputés. Tarif : 5€ ; Attraction accessible aux personnes à mobilité réduite.\nchateau@thoiry.net\n01 34 87 49 26
URL:https://www.yvelines-infos.fr/agenda/dinozoore-ii-safari-exceptionnel-temps-dinosaures/
LOCATION:Château de Thoiry\, Rue du Pavillon de Montreuil\, Thoiry\, 78770\, France
ATTACH;FMTTYPE=image/jpeg:https://www.yvelines-infos.fr/content/uploads/2017/dino-2017_23-e1492690072369.jpg
GEO:48.862842;1.798275
X-APPLE-STRUCTURED-LOCATION;VALUE=URI;X-ADDRESS=Château de Thoiry Rue du Pavillon de Montreuil Thoiry 78770 France;X-APPLE-RADIUS=500;X-TITLE=Rue du Pavillon de Montreuil:geo:1.798275,48.862842
END:VEVENT
BEGIN:VEVENT
DTSTART;TZID=Europe/Paris:20180621T051500
DTEND;TZID=Europe/Paris:20180623T093000
DTSTAMP:20260423T073921
CREATED:20180604T093551Z
LAST-MODIFIED:20180604T093551Z
UID:350715-1529558100-1529746200@www.yvelines-infos.fr
SUMMARY:Fête du solstice 2018 du Château de Thoiry
DESCRIPTION:Thoiry: la Fête du Solstice revient avec une nouvelle formule ! \nLe château de Thoiry fête l’arrivée de l’été autour d’une formule inédite de l’évènement Solstice. Pour la première fois\, la célébration aura lieu sur deux jours : les 21 et 23 juin 2018. L’occasion de découvrir l’architecture ésotérique du château ainsi que les jardins via une visite orchestrée par Monsieur le Comte en personne. \nLe château de Thoiry\, demeure historique et véritable monument solaire\, célèbre comme chaque année le solstice d’été. Si la famille de la Panouse vous accueille habituellement dans ses salons d’apparat\, elle vous propose aujourd’hui de découvrir la bâtisse sous un angle différent. À cette occasion\, Monsieur le comte de la Panouse vous attend à l’Aube pour une visite exclusive de sa propriété. \nDès 5h49 et si la météo le permet\, le lever du soleil illuminera l’axe central du château. Un véritable spectacle lumineux accompagné des plus belles musiques classiques de notre époque. Au petit matin\, la gouvernante du château vous aura préparé un brunch mêlant saveurs sucrées et salées dans le salon de la tapisserie. D’anciennes recettes de famille seront mises à l’honneur pour votre plus grand plaisir.\nUne fois la dégustation terminée\, Monsieur le Comte vous donnera une conférence sur le thème de l’ésotérisme dans l’architecture.\nPour finir en beauté\, notre guide spécialisée vous fera découvrir les milles et une facettes de l’histoire du château et des jardins. \nProgramme de la mâtinée :\n5 h 15 : Accueil par Mr le Comte de la Panouse sur la terrasse et premières explications sur l’architecture ésotérique du château.\n5 h 49 : Lever du soleil dans l’axe central du vestibule\n6 h 30 : Petit-déjeuner et conférence de Monsieur le comte.\n8 h 00 : Visite du château et des jardins.
URL:https://www.yvelines-infos.fr/agenda/fete-solstice-2018-chateau-de-thoiry/
LOCATION:Château de Thoiry\, Rue du Pavillon de Montreuil\, Thoiry\, 78770\, France
ATTACH;FMTTYPE=image/jpeg:https://www.yvelines-infos.fr/content/uploads/2018/solstice-affiche-a4.jpg
GEO:48.862842;1.798275
X-APPLE-STRUCTURED-LOCATION;VALUE=URI;X-ADDRESS=Château de Thoiry Rue du Pavillon de Montreuil Thoiry 78770 France;X-APPLE-RADIUS=500;X-TITLE=Rue du Pavillon de Montreuil:geo:1.798275,48.862842
END:VEVENT
BEGIN:VEVENT
DTSTART;VALUE=DATE:20181214
DTEND;VALUE=DATE:20181215
DTSTAMP:20260423T073921
CREATED:20181204T153536Z
LAST-MODIFIED:20181204T153536Z
UID:354012-1544745600-1544831999@www.yvelines-infos.fr
SUMMARY:Les Mystères du Solstice
DESCRIPTION:Le Château de Thoiry fête l’arrivée imminente du solstice d’hiver. Le 14 décembre\, le public a l’occasion de découvrir le Parc Zoologique et l’architecture ésotérique de Château au cours d’une journée inoubliable !  \nLe Château de Thoiry est un monument extraordinaire et ésotérique de la Renaissance Française.  Si la famille de La Panouse accueille habituellement les visiteurs dans ses salons d’apparat\, elle propose aujourd’hui de découvrir cette bâtisse et son parc d’une manière inédite ! Elle confiera ses nombreux secrets transmis par une nature sauvage au fil des saison…  \nProgramme : \n\n11h : ouverture du Parc Zoologique\n17h : Lumières sauvages\n18h30 : Conférence de Paul de La Panouse sur les mystères du solstice\n20h : verre de l’amitié\n20h30 : diner gastronomique aux chandelles\n\nSur Réservation Uniquement (Places limitées)
URL:https://www.yvelines-infos.fr/agenda/les-mysteres-du-solstice/
LOCATION:Château de Thoiry\, Rue du Pavillon de Montreuil\, Thoiry\, 78770\, France
ATTACH;FMTTYPE=image/jpeg:https://www.yvelines-infos.fr/content/uploads/2018/mystere-du-solstice.jpg
ORGANIZER;CN="Ch%C3%A2teau%20de%20Thoiry":MAILTO:chateau@thoiry.net
GEO:48.862842;1.798275
X-APPLE-STRUCTURED-LOCATION;VALUE=URI;X-ADDRESS=Château de Thoiry Rue du Pavillon de Montreuil Thoiry 78770 France;X-APPLE-RADIUS=500;X-TITLE=Rue du Pavillon de Montreuil:geo:1.798275,48.862842
END:VEVENT
END:VCALENDAR