BEGIN:VCALENDAR
VERSION:2.0
PRODID:-//Yvelines Infos - ECPv6.0.2//NONSGML v1.0//EN
CALSCALE:GREGORIAN
METHOD:PUBLISH
X-WR-CALNAME:Yvelines Infos
X-ORIGINAL-URL:https://www.yvelines-infos.fr
X-WR-CALDESC:Évènements pour Yvelines Infos
REFRESH-INTERVAL;VALUE=DURATION:PT1H
X-Robots-Tag:noindex
X-PUBLISHED-TTL:PT1H
BEGIN:VTIMEZONE
TZID:Europe/Paris
BEGIN:DAYLIGHT
TZOFFSETFROM:+0100
TZOFFSETTO:+0200
TZNAME:CEST
DTSTART:20180325T010000
END:DAYLIGHT
BEGIN:STANDARD
TZOFFSETFROM:+0200
TZOFFSETTO:+0100
TZNAME:CET
DTSTART:20181028T010000
END:STANDARD
BEGIN:DAYLIGHT
TZOFFSETFROM:+0100
TZOFFSETTO:+0200
TZNAME:CEST
DTSTART:20190331T010000
END:DAYLIGHT
BEGIN:STANDARD
TZOFFSETFROM:+0200
TZOFFSETTO:+0100
TZNAME:CET
DTSTART:20191027T010000
END:STANDARD
BEGIN:DAYLIGHT
TZOFFSETFROM:+0100
TZOFFSETTO:+0200
TZNAME:CEST
DTSTART:20200329T010000
END:DAYLIGHT
BEGIN:STANDARD
TZOFFSETFROM:+0200
TZOFFSETTO:+0100
TZNAME:CET
DTSTART:20201025T010000
END:STANDARD
BEGIN:DAYLIGHT
TZOFFSETFROM:+0100
TZOFFSETTO:+0200
TZNAME:CEST
DTSTART:20210328T010000
END:DAYLIGHT
BEGIN:STANDARD
TZOFFSETFROM:+0200
TZOFFSETTO:+0100
TZNAME:CET
DTSTART:20211031T010000
END:STANDARD
END:VTIMEZONE
BEGIN:VEVENT
DTSTART;TZID=Europe/Paris:20180831T203000
DTEND;TZID=Europe/Paris:20180831T233000
DTSTAMP:20260423T105015
CREATED:20180614T151522Z
LAST-MODIFIED:20180830T084513Z
UID:350617-1535747400-1535758200@www.yvelines-infos.fr
SUMMARY:Sully
DESCRIPTION:Sully\nDate de sortie 30 novembre 2016 (1h36) \nDe Clint Eastwood \nL’histoire vraie du pilote d’US Airways qui sauva ses passagers en amerrissant sur l’Hudson en 2009. \nLe 15 janvier 2009\, le monde a assisté au « miracle sur l’Hudson » accompli par le commandant « Sully » Sullenberger : en effet\, celui-ci a réussi à poser son appareil sur les eaux glacées du fleuve Hudson\, sauvant ainsi la vie des 155 passagers à bord. Cependant\, alors que Sully était salué par l’opinion publique et les médias pour son exploit inédit dans l’histoire de l’aviation\, une enquête a été ouverte\, menaçant de détruire sa réputation et sa carrière. \nPour vous restaurer\, un food truck d’aliments sucrés sera installé sur place.
URL:https://www.yvelines-infos.fr/agenda/sully/
LOCATION:Château de Plaisir\, 282 rue de la Bretechelle\, Plaisir\, 78370\, France
CATEGORIES:Les Yvelines font leur cinéma 2018
ATTACH;FMTTYPE=image/jpeg:https://www.yvelines-infos.fr/content/uploads/2018/sully-poster-teaser.jpg
END:VEVENT
BEGIN:VEVENT
DTSTART;VALUE=DATE:20181013
DTEND;VALUE=DATE:20181014
DTSTAMP:20260423T105015
CREATED:20180919T091736Z
LAST-MODIFIED:20180919T091736Z
UID:352699-1539388800-1539475199@www.yvelines-infos.fr
SUMMARY:Run & Bike de Plaisir 2018
DESCRIPTION:RUN & BIKE IS BACK ! \nPlace à la 4e édition le 13 octobre prochain ! En couple\, en famille ou bien entre ami(e)s et pourquoi pas entre collègues… composez votre duo et venez-vous éclater sur la distance de votre choix ! Du sport\, du fun\, quatre distances\, forcément une course pour vous ! \nINSCRIVEZ-VOUS ICI \nÉVÉNEMENT VILLE DE PLAISIR\nEN COLLABORATION AVEC SES ASSOCIATIONS SPORTIVES\nSamedi 13 octobre – Château de Plaisir\nParking du Parc des sports – 227/229 rue de la Bretéchelle \nMODE D’EMPLOI LE « RUN & BIKE » C’EST QUOI ?\nCourez et pédalez avec un vélo pour deux ! Une course ouverte à toute personne licenciée ou non qui consiste à alterner course à pied et vélo par équipe de deux en ne disposant que d’un seul vélo\, en suivant le parcours mis en place par l’organisation. La pratique du Run & Bike permet de combiner « effort physique et stratégie de course ». À noter : les changements entre équipiers sont libres. Ces derniers doivent être ensemble au moment de l’échange du VTT. Ils doivent obligatoirement passer ensemble aux points de contrôle désignés au début de l’épreuve (à chaque point et à l’arrivée). La tolérance est de 2 mètres. Il est interdit de monter à deux sur le vélo. \nQUEL BINÔME ?\nPour les courses des 15 et 8 kms\, les inscriptions doivent s’effectuer par équipe de deux : femmes\, hommes et mixtes.\nLa course 15 km est ouverte pour les triathlètes dans le cadre du championnat régional Ile-de-France. A noter que cette course fait partie des 7 courses régionales. Deux classements seront mis en place : amateurs et championnat régional.\nPour les courses 4 et 2 kms\, les inscriptions doivent s’effectuer par équipe de deux : filles\, garçons et mixtes.\nAYEZ L’ESPRIT D’ÉQUIPE !\nSur une distance donnée\, les deux partenaires s’échangent librement le vélo comme bon leur semble\, le but étant de franchir la ligne d’arrivée obligatoirement ensemble. A travers cette formule\, les participants développent leur esprit d’équipe et renforcent la cohésion du binôme. Entre voisins\, entre amis\, entre collègues ou en famille\, vivez l’expérience : moments de complicité et de solidarité garantis ! \nPRENEZ UN BOL D’AIR !\nLe « Run & Bike » se pratique en pleine nature\, sur un circuit tout terrain dans un cadre exceptionnel. Investissez le parc du Château et le Bois de la Cranne en foulées et à coups de pédales. Une belle occasion de garder la pêche même en automne ! \nLe port du casque homologué à coque dure (Norme CE) et sanglé est obligatoire pour les 2 co-équipiers pendant toute la durée de l’épreuve. Seuls les vélos sans assistance électrique seront acceptés. \nLa difficulté des parcours est adaptée pour chaque catégorie : \n1re course – 15 km : \n+ 18 ans (nés avant 2000)\nChampionnat régional IDF \n2e course – 8 km :\n14-17 ans (nés entre 2001 et 2004)\n+18 ans (nés avant 2000) \n3e course – 4 km :\n10-13 ans (nés entre 2005 et 2008) 4e course – 2 km\n6-9 ans (nés entre 2009 et 2012) \nLICENCES ET CERTIFICATS MÉDICAUX\nLes licenciés FFTRI doivent présenter leur licence au moment du retrait du dossard. Les doubles licenciés FFC et FFA doivent présenter leurs licences et s’acquitter d’une licence journée (assurance). \nPour tous les autres participants\, ceux-ci doivent présenter un certificat médical d’aptitude à un sport en compétition de moins d’un an ou d’une licence sportive compétition en cours de validité et s’acquitter d’une licence journée en supplément de l’inscription. \nAucun pratiquant ne sera accepté sans ces modalités. \nTARIFS 2018\nDe 6 à 17 ans : 6 € par personne tout compris (4 € pour les licenciés FFTRI)\nAdultes + 18 ans : 13 € par personne tout compris (11 € pour les licenciés FFTRI) Ce tarif comprend 0\,5 € pour les frais d’inscription pour les 6 à 17 ans\, 0\,65 € pour les adultes + 18 ans et 2 € pour la licence journée (sauf pour les licenciés FFTRI). \nUne course solidaire ! 1 € par inscription sera reversé à « l’Association Petits Princes »\, dont l’objectif majeur est de réaliser les rêves des enfants et des adolescents gravement malades. \nInfo + : le nombre d’inscriptions est limité à 250 équipes par course longue (8 km et 15 km)\, à 100 équipes pour la course des 4 km et à 60 équipes pour la course des 2 km. Les Licences et/ou certificat médical seront à présenter au secrétariat le jour de l’épreuve. \nTOUR D’HORIZON DE VOTRE JOURNÉE :\n08h30 : Accueil des participants et remise des dossards de la 1r e course – 15km (adultes + 18 ans et championnat régional IDF)\n09h15 : Briefing : consignes précises et rappel du règlement\n09h30 : Départ de la première course\n10h45 : Accueil des participants et remise des dossards de la 2e course – 8km (14-17 ans et adultes + 18 ans) 11h30 : Briefing : consignes précises et rappel du règlement – Remise des récompenses de la 1re course\n11h45 : Départ de la 2e course\n13h00 : Remise des récompenses de la 2e course\n13h30 : Accueil des participants et remise des dossards de la 3e course – 4 km (10-13 ans)\n14h00 : Briefing : consignes précises et rappel du règlement\n14h15 : Départ de la 3e course\n14h45 : Accueil des participants et remise des dossards de la 4e course – 2 km (6-9 ans)\n15h15 : Remise des récompenses de la 3e course\n15h30 : Briefing : consignes précises et rappel du règlement\n15h45 : Départ de la 4e course\n16h15 : Remise des récompenses de la 4e course
URL:https://www.yvelines-infos.fr/agenda/run-bike-de-plaisir-2018/
LOCATION:Château de Plaisir\, 282 rue de la Bretechelle\, Plaisir\, 78370\, France
ATTACH;FMTTYPE=image/jpeg:https://www.yvelines-infos.fr/content/uploads/2018/affiche-run2018.jpg
ORGANIZER;CN="ville%20de%20Plaisir":MAILTO:culture@ville-plaisir.fr
END:VEVENT
BEGIN:VEVENT
DTSTART;VALUE=DATE:20211002
DTEND;VALUE=DATE:20211004
DTSTAMP:20260423T105015
CREATED:20210916T083043Z
LAST-MODIFIED:20210916T083043Z
UID:379063-1633132800-1633305599@www.yvelines-infos.fr
SUMMARY:28ème Fête du Miel à Plaisir
DESCRIPTION:Comme chaque année ce temps fort de l’Apiculture en Ile de France de l’Ouest parisien\, sera un moment de partage du nectar de nos fleurs et produits dérivés et cela dans un cadre magique et verdoyant des communs du château. \nOrganisée par l’association Plaisir Village Animation & sous l’égide de la Ville de Plaisir\nParticiperont à cet évènement des apiculteurs d’Ile de France et producteurs sélectionnés partageants la passion de leur métier. \nVous pourrez entre-autre : \n\nParticiper à l’atelier d’extraction du miel\, confectionner des bougies.\nRegarder et poser toutes vos questions sur les abeilles et cela en toute sécurité grâce à une ruchette d’observation.\nGoûter\, autour de notre bar à miel\, aux miels d’Ile de France\, pain d’Épices\, pollen\, etc…\nRencontrer nos experts.\nDéguster et acheter des boissons médiévales\, macarons\, foie gras\, champagnes ….\n\nUne équipe bénévole vous accueillera et sera à votre disposition. \nCette fête du miel a en priorité une vocation pédagogique. \nCe rendez-vous annuel et traditionnel sera avant tout l’instant des rencontres entre les Amoureux de la Nature. \nDe 10h à 18h – entrée libre
URL:https://www.yvelines-infos.fr/agenda/28eme-fete-du-miel-a-plaisir/
LOCATION:Château de Plaisir\, 282 rue de la Bretechelle\, Plaisir\, 78370\, France
ATTACH;FMTTYPE=image/jpeg:https://www.yvelines-infos.fr/content/uploads/2021/plaisir-affiche-28eme-fete-du-miel-2021-2-3-octobre-2021-page-0001.jpg
END:VEVENT
END:VCALENDAR