BEGIN:VCALENDAR
VERSION:2.0
PRODID:-//Yvelines Infos - ECPv6.0.2//NONSGML v1.0//EN
CALSCALE:GREGORIAN
METHOD:PUBLISH
X-WR-CALNAME:Yvelines Infos
X-ORIGINAL-URL:https://www.yvelines-infos.fr
X-WR-CALDESC:Évènements pour Yvelines Infos
REFRESH-INTERVAL;VALUE=DURATION:PT1H
X-Robots-Tag:noindex
X-PUBLISHED-TTL:PT1H
BEGIN:VTIMEZONE
TZID:Europe/Paris
BEGIN:DAYLIGHT
TZOFFSETFROM:+0100
TZOFFSETTO:+0200
TZNAME:CEST
DTSTART:20180325T010000
END:DAYLIGHT
BEGIN:STANDARD
TZOFFSETFROM:+0200
TZOFFSETTO:+0100
TZNAME:CET
DTSTART:20181028T010000
END:STANDARD
END:VTIMEZONE
BEGIN:VEVENT
DTSTART;TZID=Europe/Paris:20180506T103000
DTEND;TZID=Europe/Paris:20180506T170000
DTSTAMP:20260423T044843
CREATED:20180503T154453Z
LAST-MODIFIED:20180503T154930Z
UID:349846-1525602600-1525626000@www.yvelines-infos.fr
SUMMARY:Grand défilé de l’armée napoléonienne
DESCRIPTION:À l’occasion du grand week-end de reconstitution historique de l’époque napoléonienne organisé dans la ville de Maisons-Laffitte\, venez découvrir l’armée napoléonienne dans le parc du château.  \nÀ partir de 10h30\, 100 reconstituteurs\, 10 chevaux et canons arriveront par l’entrée avenue de Verdun et se regrouperont autour du bassin pour une prise d’armes et un tir au canon. \nCes bénévoles passionnés exposeront du matériel médical\, présenteront leurs uniformes\, un canon\, un obusier\, recréeront un village des métiers\, avec un menuisier\, un cordier ou encore un montreur de lanterne magique. Entre dégustations du brie de Meaux\, vente de coco — un breuvage étonnant mêlant citron et réglisse et d’oublis (gâteaux secs) — les visiteurs pourront aussi profiter de défilés des Hussards\, de l’artillerie\, de la cavalerie. \nEntrée gratuite dans le parc\nInformations complémentaires auprès de l’Office de Tourisme : 01 39 62 63 64
URL:https://www.yvelines-infos.fr/agenda/grand-defile-de-larmee-napoleonienne/
LOCATION:Chateau de Maisons\, 2 Avenue Carnot\, Maisons-Laffitte\, 78600\, France
ATTACH;FMTTYPE=image/png:https://www.yvelines-infos.fr/content/uploads/2018/capture-decran-2018-05-03-a-17-33-27.png
GEO:48.9467116;2.1518741
X-APPLE-STRUCTURED-LOCATION;VALUE=URI;X-ADDRESS=Chateau de Maisons 2 Avenue Carnot Maisons-Laffitte 78600 France;X-APPLE-RADIUS=500;X-TITLE=2 Avenue Carnot:geo:2.1518741,48.9467116
END:VEVENT
END:VCALENDAR