BEGIN:VCALENDAR
VERSION:2.0
PRODID:-//Yvelines Infos - ECPv6.0.2//NONSGML v1.0//EN
CALSCALE:GREGORIAN
METHOD:PUBLISH
X-ORIGINAL-URL:https://www.yvelines-infos.fr
X-WR-CALDESC:Évènements pour Yvelines Infos
REFRESH-INTERVAL;VALUE=DURATION:PT1H
X-Robots-Tag:noindex
X-PUBLISHED-TTL:PT1H
BEGIN:VTIMEZONE
TZID:Europe/Paris
BEGIN:DAYLIGHT
TZOFFSETFROM:+0100
TZOFFSETTO:+0200
TZNAME:CEST
DTSTART:20190331T010000
END:DAYLIGHT
BEGIN:STANDARD
TZOFFSETFROM:+0200
TZOFFSETTO:+0100
TZNAME:CET
DTSTART:20191027T010000
END:STANDARD
END:VTIMEZONE
BEGIN:VEVENT
DTSTART;TZID=Europe/Paris:20191012T173000
DTEND;TZID=Europe/Paris:20191012T190000
DTSTAMP:20260423T080619
CREATED:20190926T110911Z
LAST-MODIFIED:20190926T110911Z
UID:362156-1570901400-1570906800@www.yvelines-infos.fr
SUMMARY:Les journées Ravel 2019 à la Chapelle de Clairefontaine
DESCRIPTION:Nicolas Dautricourt n’est pas seulement lauréat de très nombreux Concours internationaux (Henryk Wieniawski en Pologne\, Concours International de Belgrade en Serbie\, Concours International Rodolfo Lipizer en Italie\, etc.)\, c’est également un musicien dont l’engagement expressif est d’une intensité incomparable\, Christian Ferras n’est pas loin… \nIl nous offre avec son complice Olivier Peyrebrune au piano\, un passionnant panorama de la musique française\, notamment la très rare au concert Sonate de Poulenc dédiée au poète espagnol Federico Garcia Lorca. À noter la présence du compositeur Richard Dubugnon\, né en 1968\, l’un des suiveurs de Ravel. \nFrancis Poulenc – Sonate pour violon et piano\nRichard Dubugnon – « Retour à Montfort l’Amaury » pour violon et piano\nMaurice Ravel – Sonate pour violon et piano\nCamille Saint-Saëns – 1ère sonate pour violon et piano \n 
URL:https://www.yvelines-infos.fr/agenda/les-journees-ravel-2019-a-la-chapelle-de-clairefontaine/
LOCATION:Chapelle de Clairefontaine\, Impasse de l'Abbaye\, Clairefontaine-en-Yvelines\, 78120\, France
ATTACH;FMTTYPE=image/jpeg:https://www.yvelines-infos.fr/content/uploads/2019/64232991-583526542173963-6798856302408761344-o.jpg
END:VEVENT
END:VCALENDAR