BEGIN:VCALENDAR
VERSION:2.0
PRODID:-//Yvelines Infos - ECPv6.0.2//NONSGML v1.0//EN
CALSCALE:GREGORIAN
METHOD:PUBLISH
X-WR-CALNAME:Yvelines Infos
X-ORIGINAL-URL:https://www.yvelines-infos.fr
X-WR-CALDESC:Évènements pour Yvelines Infos
REFRESH-INTERVAL;VALUE=DURATION:PT1H
X-Robots-Tag:noindex
X-PUBLISHED-TTL:PT1H
BEGIN:VTIMEZONE
TZID:Europe/Paris
BEGIN:DAYLIGHT
TZOFFSETFROM:+0100
TZOFFSETTO:+0200
TZNAME:CEST
DTSTART:20180325T010000
END:DAYLIGHT
BEGIN:STANDARD
TZOFFSETFROM:+0200
TZOFFSETTO:+0100
TZNAME:CET
DTSTART:20181028T010000
END:STANDARD
END:VTIMEZONE
BEGIN:VEVENT
DTSTART;TZID=Europe/Paris:20180308T190000
DTEND;TZID=Europe/Paris:20180308T210000
DTSTAMP:20260423T121403
CREATED:20180215T084635Z
LAST-MODIFIED:20180215T084635Z
UID:347396-1520535600-1520542800@www.yvelines-infos.fr
SUMMARY:BOXER AU FEMININ
DESCRIPTION:Attention : évènement gratuit réservé au public féminin \nA l’occasion de la journée internationale de la femme\, l’ACADEMY SKD BOXE vous invite à vous découvrir la boxe anglaise. \nLe jeudi 8 mars 2018\, de 19h00 à 21h00\, venez vous initier au Noble Art. \nMatériel nécessaire : tenue de sport\, une bouteille d’eau\, et c’est tout ! Si vous avez en plus votre matériel de boxe (gants\, bandage\, chaussures…) c’est encore mieux. Sinon\, des gants vous seront prêtés sur place. \nLe gymnase inclut un vestiaire équipé de douches. \nInscrivez-vous simplement sur http://www.weezevent.com/boxer-au-feminin\, et présentez le voucher\, qui vous sera envoyé par email\, à l’entrée de l’évènement. \nRenseignements : 06 44 69 32 93 \nwww.selfkickdefense.fr
URL:https://www.yvelines-infos.fr/agenda/boxer-au-feminin/
LOCATION:Centre sportif Pierre de Coubertin\, 2 rue Charles Linné\, MONTIGNY-LE-BRETONNEUX\, 78180
ATTACH;FMTTYPE=image/jpeg:https://www.yvelines-infos.fr/content/uploads/2018/affiche.jpg
GEO:48.7781079;2.0344463
X-APPLE-STRUCTURED-LOCATION;VALUE=URI;X-ADDRESS=Centre sportif Pierre de Coubertin 2 rue Charles Linné MONTIGNY-LE-BRETONNEUX 78180;X-APPLE-RADIUS=500;X-TITLE=2 rue Charles Linné:geo:2.0344463,48.7781079
END:VEVENT
END:VCALENDAR