BEGIN:VCALENDAR
VERSION:2.0
PRODID:-//Yvelines Infos - ECPv6.0.2//NONSGML v1.0//EN
CALSCALE:GREGORIAN
METHOD:PUBLISH
X-WR-CALNAME:Yvelines Infos
X-ORIGINAL-URL:https://www.yvelines-infos.fr
X-WR-CALDESC:Évènements pour Yvelines Infos
REFRESH-INTERVAL;VALUE=DURATION:PT1H
X-Robots-Tag:noindex
X-PUBLISHED-TTL:PT1H
BEGIN:VTIMEZONE
TZID:Europe/Paris
BEGIN:DAYLIGHT
TZOFFSETFROM:+0100
TZOFFSETTO:+0200
TZNAME:CEST
DTSTART:20180325T010000
END:DAYLIGHT
BEGIN:STANDARD
TZOFFSETFROM:+0200
TZOFFSETTO:+0100
TZNAME:CET
DTSTART:20181028T010000
END:STANDARD
BEGIN:DAYLIGHT
TZOFFSETFROM:+0100
TZOFFSETTO:+0200
TZNAME:CEST
DTSTART:20190331T010000
END:DAYLIGHT
BEGIN:STANDARD
TZOFFSETFROM:+0200
TZOFFSETTO:+0100
TZNAME:CET
DTSTART:20191027T010000
END:STANDARD
BEGIN:DAYLIGHT
TZOFFSETFROM:+0100
TZOFFSETTO:+0200
TZNAME:CEST
DTSTART:20200329T010000
END:DAYLIGHT
BEGIN:STANDARD
TZOFFSETFROM:+0200
TZOFFSETTO:+0100
TZNAME:CET
DTSTART:20201025T010000
END:STANDARD
END:VTIMEZONE
BEGIN:VEVENT
DTSTART;TZID=Europe/Paris:20180127T203000
DTEND;TZID=Europe/Paris:20180127T223000
DTSTAMP:20260423T050845
CREATED:20180223T141152Z
LAST-MODIFIED:20180223T141152Z
UID:346623-1517085000-1517092200@www.yvelines-infos.fr
SUMMARY:Soyons Fous ! Spectacle comique au théâtre de Montfort-L'Amaury
DESCRIPTION:Au théâtre de Montfort-L’Amaury\, ce soir !\nLes Cabotins jouent « Soyons Fous ! »\, 7 comédies en un acte roboratives et exhilarantes ! \n« Soyons Fous ! » Le titre du nouveau spectacle des Cabotins éclate comme une revendication de la folie et de la joie que l’on retrouve dans les pièces de Georges Courteline et de Jean Tardieu \nPlusieurs points communs les unissent : ils ont tous deux une vision sans complexe de la nature humaine et donc de ses défauts. De même\, leurs personnages se répondent ou réagissent au quart de tour en fonction de l’évolution des situations et des mots prononcés. \nPour Georges Courteline\, l’homme est méchant\, odieux\, prétentieux\, violent jusqu’à la folie meurtrière. La femme est un petit être charmant\, exaspérant\, inquiétant jusqu’à la démesure. \nPour Jean Tardieu\, l’homme ou la femme peuvent être englués dans une réalité absurde et trop quotidienne pour être vraie. Aussi joue-t-il des conventions théâtrales classiques pour nous faire pénétrer dans un univers linguistique\, où le langage devient une source de surprises.
URL:https://www.yvelines-infos.fr/agenda/soyons-fous-spectacle-comique-theatre-de-montfort-lamaury/2018-01-27/
LOCATION:Centre Municipal des Loisirs\, Montfort-L’Amaury\, 3 Place de Nickenich\, Montfort-l'Amaury\, 78490
ATTACH;FMTTYPE=image/jpeg:https://www.yvelines-infos.fr/content/uploads/2018/soyons-fous-201801-web.jpg
ORGANIZER;CN="Les%20Cabotins":MAILTO:contact@lescabotins.org
GEO:48.7743649;1.8159354
X-APPLE-STRUCTURED-LOCATION;VALUE=URI;X-ADDRESS=Centre Municipal des Loisirs Montfort-L’Amaury 3 Place de Nickenich Montfort-l'Amaury 78490;X-APPLE-RADIUS=500;X-TITLE=3 Place de Nickenich:geo:1.8159354,48.7743649
END:VEVENT
BEGIN:VEVENT
DTSTART;TZID=Europe/Paris:20200402T203000
DTEND;TZID=Europe/Paris:20200402T220000
DTSTAMP:20260423T050845
CREATED:20200303T142630Z
LAST-MODIFIED:20200303T142630Z
UID:365702-1585859400-1585864800@www.yvelines-infos.fr
SUMMARY:Tedi PAPAVRAMI\, violon
DESCRIPTION:Tedi PAPAVRAMI\, violon – à Montfort-L’Amaury le 2 avril à 20h30\, salle de spectacle du CML – 3\, place de Nickenich \nRITMY\, avec le soutien de la ville de Montfort-L’Amaury\, vous propose une soirée vraiment unique avec le violoniste virtuose Tedi PAPAVRAMI. \nNé en Albanie\, violoniste prodige\, il commence le violon à l’âge de 4 ans grâce à son père. Il devient l’élève de Pierre Amoyal au Conservatoire de Paris\, puis avec ses parents il fuit le régime communiste en vigueur en Albanie pour s’installer définitivement avec eux en France. A la faveur de plusieurs prix\, il entame à partir des années 1990 une carrière internationale de soliste avec des grands chefs\, et de musicien de chambre. \nIl nous interprètera des sonates et partitas pour violon seul de J.S. BACH. \nMais avant la partie concert\, nous pourrons voir le film ‘OSTINATO’ réalisé en 2018 par Raphaëlle Régnier\, un magnifique portait du musicien qui retrace son histoire\, émouvante\, et montre les différentes facettes de sa vie actuelle de musicien virtuose. \nNe manquez surtout pas cette soirée exceptionnelle avec l’un des plus grands violonistes actuels\, dont nous découvrirons aussi la vie particulièrement riche. \nConcert organisé par RITMY avec le soutien exceptionnel de la ville de Montfort-L’Amaury\, dans le cadre des 30° Saisons Musicales RITMY. \nTarifs : Normal : 20€ – Réduit (jeune de 12 à 25 ans\, famille nombreuse\, demandeur d’emploi) : 13€ – Groupe (minimum de 10 personnes) : 15€ – Gratuit pour les enfants de moins de 12 ans accompagnés. \nInformations et réservations : www.ritmy.fr  /  contact.ritmy@gmail.com  / 06-08-24-96-61 \nVidéo : https://www.youtube.com/watch?v=T-myos9qjLc
URL:https://www.yvelines-infos.fr/agenda/tedi-papavrami-violon/
LOCATION:Centre Municipal des Loisirs\, Montfort-L’Amaury\, 3 Place de Nickenich\, Montfort-l'Amaury\, 78490
ATTACH;FMTTYPE=image/jpeg:https://www.yvelines-infos.fr/content/uploads/2020/tedi-kapo-entretien-copie-3.jpeg
ORGANIZER;CN="Association%20RITMY":MAILTO:contact.ritmy@gmail.com
GEO:48.7743649;1.8159354
X-APPLE-STRUCTURED-LOCATION;VALUE=URI;X-ADDRESS=Centre Municipal des Loisirs Montfort-L’Amaury 3 Place de Nickenich Montfort-l'Amaury 78490;X-APPLE-RADIUS=500;X-TITLE=3 Place de Nickenich:geo:1.8159354,48.7743649
END:VEVENT
END:VCALENDAR