BEGIN:VCALENDAR
VERSION:2.0
PRODID:-//Yvelines Infos - ECPv6.0.2//NONSGML v1.0//EN
CALSCALE:GREGORIAN
METHOD:PUBLISH
X-WR-CALNAME:Yvelines Infos
X-ORIGINAL-URL:https://www.yvelines-infos.fr
X-WR-CALDESC:Évènements pour Yvelines Infos
REFRESH-INTERVAL;VALUE=DURATION:PT1H
X-Robots-Tag:noindex
X-PUBLISHED-TTL:PT1H
BEGIN:VTIMEZONE
TZID:Europe/Paris
BEGIN:DAYLIGHT
TZOFFSETFROM:+0100
TZOFFSETTO:+0200
TZNAME:CEST
DTSTART:20190331T010000
END:DAYLIGHT
BEGIN:STANDARD
TZOFFSETFROM:+0200
TZOFFSETTO:+0100
TZNAME:CET
DTSTART:20191027T010000
END:STANDARD
BEGIN:DAYLIGHT
TZOFFSETFROM:+0100
TZOFFSETTO:+0200
TZNAME:CEST
DTSTART:20200329T010000
END:DAYLIGHT
BEGIN:STANDARD
TZOFFSETFROM:+0200
TZOFFSETTO:+0100
TZNAME:CET
DTSTART:20201025T010000
END:STANDARD
BEGIN:DAYLIGHT
TZOFFSETFROM:+0100
TZOFFSETTO:+0200
TZNAME:CEST
DTSTART:20210328T010000
END:DAYLIGHT
BEGIN:STANDARD
TZOFFSETFROM:+0200
TZOFFSETTO:+0100
TZNAME:CET
DTSTART:20211031T010000
END:STANDARD
BEGIN:DAYLIGHT
TZOFFSETFROM:+0100
TZOFFSETTO:+0200
TZNAME:CEST
DTSTART:20220327T010000
END:DAYLIGHT
BEGIN:STANDARD
TZOFFSETFROM:+0200
TZOFFSETTO:+0100
TZNAME:CET
DTSTART:20221030T010000
END:STANDARD
END:VTIMEZONE
BEGIN:VEVENT
DTSTART;TZID=Europe/Paris:20191207T110000
DTEND;TZID=Europe/Paris:20191208T180000
DTSTAMP:20260422T201319
CREATED:20191129T090134Z
LAST-MODIFIED:20191129T090134Z
UID:363492-1575716400-1575828000@www.yvelines-infos.fr
SUMMARY:Marché de Noël au Mesnil Saint Denis
DESCRIPTION:Le marché de noël du CLC est devenu un événement incontournable au Mesnil saint Denis !\nTenu par une équipe de bénévoles souriants et bienveillants\, c’est toujours dans un esprit convivial que vous y serez accueillis !\nVous y trouverez de l’authenticité avec des produits 100% artisanaux\, mais aussi de la gourmandise avec les produits appétissants de nos artisans de bouche ! \nLes festivités aussi y seront de mise avec des spectacles pour enfants\, la venue de chorales ou encore de danseurs à travers des représentations chorégraphiques\, des balades\nen calèche… sans oublier bien sûr la venue du Père noël le dimanche à 11h ! \nLe partage du savoir faire lors des ateliers fabrik est un réel moment de partage entre l’artisan et le spectateur. \nGrande nouveauté cette année\, l’envie de rassembler toujours un peu plus !\nNous avons donné une priorité à certains stands pour que femmes\, hommes\, jeunes et seniors trouvent leur bonheur.\nCette nouvelle répartition permettra un nouveau souffle et aux pères \, l’envie de rester en trouvant également des produits plus masculins comme de la découpe de vinyles\, de la photo\, de la caricature\, de la reliure\,\nDes blasons\, des objets en ciment et encore bien d’autres objets… \nCa se passe les 7 et 8 décembre au CLC et on vous y attend nombreux !
URL:https://www.yvelines-infos.fr/agenda/marche-de-noel-au-mesnil-saint-denis/
LOCATION:Centre loisirs et culture\, 4 AVENUE DU MARECHAL JOFFRE\, LE MESNIL SAINT DENIS\, 78320
ATTACH;FMTTYPE=image/jpeg:https://www.yvelines-infos.fr/content/uploads/2019/clc-affiche-marchedenoel-2019-10-29.jpg
ORGANIZER;CN="centre%20loisirs%20%26amp%3B%20culture":MAILTO:clc.j-doumier@sfr.fr
END:VEVENT
BEGIN:VEVENT
DTSTART;TZID=Europe/Paris:20220129T183000
DTEND;TZID=Europe/Paris:20220129T200000
DTSTAMP:20260422T201319
CREATED:20220126T131732Z
LAST-MODIFIED:20220126T131732Z
UID:383167-1643481000-1643486400@www.yvelines-infos.fr
SUMMARY:APERO JAZZ - SOULSTAX
DESCRIPTION:🔊 Soulstax est dans la plax 😎 \nSamedi 29 janvier à 18h30\, c’est l’Apéro Jazz ! Au programme\, Soulstax: la rencontre de 7 musiciens autour de la Soul\, du Rythm&Blues\, du Funk et du Jazz. 🎤 \nVous assisterez à des reprises des grands noms du genre\, de toutes les époques : Otis Redding\, Amy Winehouse\, Stevie Wonder\, James Brown\, Jorge Ben\, Electro-Deluxe\, Jamie Cullum\, Etta James… bref\, il y a de quoi faire 😉 \nEntrée libre sur présentation du pass vaccinal* \n*à partir de 16 ans en accord avec les nouvelles réglementations gouvernementales.
URL:https://www.yvelines-infos.fr/agenda/apero-jazz-soulstax/
LOCATION:Centre loisirs et culture\, 4 AVENUE DU MARECHAL JOFFRE\, LE MESNIL SAINT DENIS\, 78320
ATTACH;FMTTYPE=image/png:https://www.yvelines-infos.fr/content/uploads/2022/apero-jazz-soulstax.png
END:VEVENT
END:VCALENDAR