BEGIN:VCALENDAR
VERSION:2.0
PRODID:-//Yvelines Infos - ECPv6.0.2//NONSGML v1.0//EN
CALSCALE:GREGORIAN
METHOD:PUBLISH
X-WR-CALNAME:Yvelines Infos
X-ORIGINAL-URL:https://www.yvelines-infos.fr
X-WR-CALDESC:Évènements pour Yvelines Infos
REFRESH-INTERVAL;VALUE=DURATION:PT1H
X-Robots-Tag:noindex
X-PUBLISHED-TTL:PT1H
BEGIN:VTIMEZONE
TZID:Europe/Paris
BEGIN:DAYLIGHT
TZOFFSETFROM:+0100
TZOFFSETTO:+0200
TZNAME:CEST
DTSTART:20210328T010000
END:DAYLIGHT
BEGIN:STANDARD
TZOFFSETFROM:+0200
TZOFFSETTO:+0100
TZNAME:CET
DTSTART:20211031T010000
END:STANDARD
END:VTIMEZONE
BEGIN:VEVENT
DTSTART;TZID=Europe/Paris:20210211T200000
DTEND;TZID=Europe/Paris:20210211T213000
DTSTAMP:20260423T110815
CREATED:20200624T091335Z
LAST-MODIFIED:20200626T100806Z
UID:367896-1613073600-1613079000@www.yvelines-infos.fr
SUMMARY:LE NEZ
DESCRIPTION:Théâtre \nJeudi 11 février à 20h \nD’après la nouvelle de Nikolaï V. GOGOL\nMise en scène et adaptation : Ronan Rivière\nAvec Laura Chetrit\, Michaël Giorno-Cohen\, Ronan Rivière\, Jérôme Rodriguez\, Jean-Benoît Terral\, Amélie Bigneaux et Olivier Mazal (piano) \nCOLLECTIF VOIX DES PLUMES \nAprès Faust\, Le Revizor et Le Roman de Monsieur Molière\, nous avons le bonheur d’accueillir la dernière création de Ronan Rivière. \nLe major Kovalev a perdu son nez. Ce dernier court à travers Saint-Pétersbourg en uniforme de conseiller d’État ! Malgré son handicap gênant\, Kovalev part à la recherche de ses narines et remue ciel et terre pour les retrouver… \nUne farce fantastique qui traite avec humour d’un fonctionnaire perdu dans une gigantesque capitale où apparences et mondanités importent plus que la réalité\, où egos et conventions se jouent du bon sens. \n« Je crois que c’est ce qui rend l’écriture de Gogol si accessible et si riche en même temps : elle touche à des thèmes profonds\, intimes et humains comme ceux de notre perte de repères et d’identité ; mais elle les aborde avec insouciance\, elle en rit pour éviter l’angoisse\, comme une bêtise qu’on fait pour se divertir d’un chagrin. » R. Rivière \nPlein tarif : 24 € / Tarif jeune & réduit : 15 € \nDurée : 1h15
URL:https://www.yvelines-infos.fr/agenda/le-nez/
LOCATION:Centre culturel Jean Vilar
ATTACH;FMTTYPE=image/jpeg:https://www.yvelines-infos.fr/content/uploads/2020/laura-harter.jpg
ORGANIZER;CN="Centre%20culturel%20Jean%20Vilar":MAILTO:accueil@ccjeanvilar.fr
GEO:48.8761727;2.0970687
END:VEVENT
BEGIN:VEVENT
DTSTART;TZID=Europe/Paris:20210304T200000
DTEND;TZID=Europe/Paris:20210304T213000
DTSTAMP:20260423T110815
CREATED:20200624T091258Z
LAST-MODIFIED:20200624T091258Z
UID:367900-1614888000-1614893400@www.yvelines-infos.fr
SUMMARY:UN SAC DE BILLES
DESCRIPTION:Théâtre \nJeudi 4 mars à 20h \nDe Joseph JOFFO\nAdaptation : Freddy Viau\nMise en scène : Stéphane Daurat\nAvec James Groguelin \nTHÉÂTRE DES BONNES LANGUES  / CRÉADIFFUSION \nParis 1941. La capitale est occupée par l’armée allemande. Joseph 10 ans et son frère Maurice\, 12 ans\, tentent de gagner la zone libre… Avec leurs deux musettes comme unique bagage\, ils vont devoir traverser seuls la France pour échapper à la déportation. Avec l’insouciance et la naïveté de l’enfance\, ils vont affronter de nombreuses épreuves qui les propulseront en seulement quelques mois dans le monde adulte. Dans cette aventure\, l’ingéniosité et la débrouillardise deviennent une question de vie ou de mort. \nUne première adaptation théâtrale réussie du roman autobiographique de Joseph Joffo. \n « Un texte émouvant\, très humain. On a beau savoir la fin\, on frémit à chaque instant pour ces deux courageux gamins. » Figaroscope \n« Un moment fort de théâtre porté par un comédien puissant. » Le Parisien \nÀ PARTIR DE 10 ANS \nPlein tarif : 24 € / Tarif jeune & réduit : 15 € \nDurée : 1h20
URL:https://www.yvelines-infos.fr/agenda/un-sac-de-billes/
LOCATION:Centre culturel Jean Vilar
ATTACH;FMTTYPE=image/jpeg:https://www.yvelines-infos.fr/content/uploads/2020/http---www-creadiffusion-net-wp-content-uploads-cmu9u8k9.jpeg
ORGANIZER;CN="Centre%20culturel%20Jean%20Vilar":MAILTO:accueil@ccjeanvilar.fr
GEO:48.8761727;2.0970687
END:VEVENT
BEGIN:VEVENT
DTSTART;TZID=Europe/Paris:20210306T203000
DTEND;TZID=Europe/Paris:20210306T223000
DTSTAMP:20260423T110815
CREATED:20200624T091231Z
LAST-MODIFIED:20200624T091231Z
UID:367904-1615062600-1615069800@www.yvelines-infos.fr
SUMMARY:BEETHOVEN / QUATUOR LEONIS
DESCRIPTION:Musique \nSamedi 6 mars à 20h30 \nAvec Guillaume Antonini (violon)\, Sébastien Richaud (violon)\, Alphonse Dervieux (alto) et Julien Decoin (violoncelle) \nDepuis 2004\, le Quatuor Leonis s’est vu ouvrir les portes des plus grandes salles de concerts d’Europe et d’Asie. Pendant cinq saisons\, sa musique a ainsi résonné au Théâtre de l’Odéon sous la direction d’Olivier Py\, séduit par la force de son projet et l’enthousiasme de ces quatre interprètes. \nAu lendemain de l’année Beethoven\, ils nous offrent ici deux œuvres magnifiques\, le Quatuor n°6 en si bémol majeur opus 18 et le Quatuor n°15 en la mineur opus 132. Un musicologue n’a-t-il pas écrit un jour que Beethoven avait fait du quatuor à cordes un dialogue avec l’univers et les dieux ? \nPour créer une passerelle entre ces artistes confirmés et ceux en devenir\, des élèves du Conservatoire Roger Bourdin assureront la première partie de cette soirée. \nEn partenariat avec la Ville de Marly-le-Roi \nPlein tarif : 24 € / Tarif jeune & réduit : 15 € \nDurée : 1h45 avec entracte
URL:https://www.yvelines-infos.fr/agenda/beethoven-quatuor-leonis/
LOCATION:Centre culturel Jean Vilar
ATTACH;FMTTYPE=image/jpeg:https://www.yvelines-infos.fr/content/uploads/2020/quatuor-leonis-foret.jpg
ORGANIZER;CN="Centre%20culturel%20Jean%20Vilar":MAILTO:accueil@ccjeanvilar.fr
GEO:48.8761727;2.0970687
END:VEVENT
BEGIN:VEVENT
DTSTART;TZID=Europe/Paris:20210311T200000
DTEND;TZID=Europe/Paris:20210311T220000
DTSTAMP:20260423T110815
CREATED:20200624T091143Z
LAST-MODIFIED:20200624T091143Z
UID:367908-1615492800-1615500000@www.yvelines-infos.fr
SUMMARY:LES VOYAGEURS DU CRIME
DESCRIPTION:Théâtre \nJeudi 11 mars  à 20h\n \nDe Julien LEFEBVRE\nMise en scène : Jean-Laurent Silvi\nAvec Stéphanie Bassibey\, Marjorie Dubus\, Céline Duhamel\, Pierre-Arnaud Juin\, Ludovic Laroche\, Etienne Launay\, Jérôme Paquatte et Nicolas Saint-Georges \nPASCAL LEGROS PRODUCTIONS / LE RENARD ARGENTÉ \nQuinze ans après les événements du Cercle de Whitechapel\, Bram Stoker\, Conan Doyle et Bernard Shaw reprennent du service ! Cette fois-ci à bord du plus célèbre train du monde\, l’Express d’Orient ! \nAlors que le personnel de bord s’affaire pour satisfaire les exigences de passagers hauts en couleurs\, une jeune Anglaise de bonne famille hurle à qui veut l’entendre que sa mère a disparu. Et nos trois éminents voyageurs redeviennent enquêteurs pour l’occasion. La tâche s’annonce difficile et ils vont aller de surprises en surprises durant une nuit de mystères\, de meurtres et d’aventure ! En voiture pour le crime ! \nSur Le Cercle de Whitechapel : \n« Divertissement\, humour et frissons garantis. » Froggy’s delight \n« Une intrigue croustillante à souhait\, aux dialogues virevoltants et aux rebondissements multiples\, horlogerie suisse pour intrigue britannique. » L’Express \nÀ PARTIR DE 11 ANS \nPlein tarif : 24 € / Tarif jeune & réduit : 15 € \nDurée : 1h45
URL:https://www.yvelines-infos.fr/agenda/les-voyageurs-du-crime/
LOCATION:Centre culturel Jean Vilar
ATTACH;FMTTYPE=image/png:https://www.yvelines-infos.fr/content/uploads/2020/1-1.png
ORGANIZER;CN="Centre%20culturel%20Jean%20Vilar":MAILTO:accueil@ccjeanvilar.fr
GEO:48.8761727;2.0970687
END:VEVENT
BEGIN:VEVENT
DTSTART;TZID=Europe/Paris:20210313T103000
DTEND;TZID=Europe/Paris:20210313T113000
DTSTAMP:20260423T110815
CREATED:20200626T084110Z
LAST-MODIFIED:20200626T084110Z
UID:367982-1615631400-1615635000@www.yvelines-infos.fr
SUMMARY:MON PREMIER CINÉ-CONCERT
DESCRIPTION:Ciné-concert \nSamedi 13 mars à 10h30 \nCréé et interprété par Clémence Gaudin et Bruno Godard\nFilms d’animation de Ana Chubinidze\, Natalya Chernysheva et Camille Müller \nFOLIMAGE / DULCINÉ \nClémence Gaudin à la contrebasse et Bruno Godard au basson doublent\, bruitent et revisitent le répertoire classique sur quatre ravissants courts-métrages d’animation. Sur des partitions de Mozart\, Grieg\, Bizet ou Beethoven\, ils interprètent avec humour et talent les histoires d’un petit bonhomme de poche\, d’une araignée brodeuse\, d’un flocon de neige en Afrique et d’un dragon violoniste. \n« Les enfants et les parents qui ont assisté à leur premier ciné-concert n’ont pas été déçus\, tant par l’originalité que par la beauté des histoires des court-métrages d’animation ! » L’Est éclair \nÀ PARTIR DE 3 ANS\nPlein tarif : 10 € / Tarif jeune & réduit : 9 € \nDurée : 35 minutes
URL:https://www.yvelines-infos.fr/agenda/mon-premier-cine-concert/
LOCATION:Centre culturel Jean Vilar
ATTACH;FMTTYPE=image/jpeg:https://www.yvelines-infos.fr/content/uploads/2020/affiche-web-01-106-copie.jpg
ORGANIZER;CN="Centre%20culturel%20Jean%20Vilar":MAILTO:accueil@ccjeanvilar.fr
GEO:48.8761727;2.0970687
END:VEVENT
BEGIN:VEVENT
DTSTART;TZID=Europe/Paris:20210318T200000
DTEND;TZID=Europe/Paris:20210318T213000
DTSTAMP:20260423T110815
CREATED:20200624T091123Z
LAST-MODIFIED:20200624T091123Z
UID:367912-1616097600-1616103000@www.yvelines-infos.fr
SUMMARY:LE QUATRIÈME MUR
DESCRIPTION:Théâtre \nJeudi 18 mars à 20h \nD’après le roman de Sorj CHALANDON\nAdaptation : Marc Beaudin et Julien Bleitrach\nMise en scène : Julien Bleitrach et Cyril Manetta\nAvec Julien Bleitrach \nCOMPAGNIE L’AUTRE MONDE / SCÈNE & PUBLIC \nIl fallait pouvoir rêver l’inconcevable… Puisque la guerre est folie\, la paix devait l’être aussi. \nDans son hôpital\, Samuel a fait promettre à son ami Georges de monter Antigone d’Anouilh en pleine guerre du Liban. \nGeorges est donc parti à Beyrouth avec pour projet de faire jouer sur la ligne de démarcation un fils ou une fille de chaque camp : Antigone sera palestinienne\, Créon sera chrétien\, Hémon druze\, Ismène arménienne et les gardes chiites. \nIl est parti main offerte à la paix mais la guerre lui a brutalement tendu la sienne… \n « Un spectacle qui vous prend aux tripes. » Froggy’s delight \n« Julien Bleitrach rend pleinement justice à l’écriture\, tout à la fois poétique et coupante comme une lame de Sorj Chalandon qui\, derrière le bruit assourdissant des bombes et le sifflement des balles\, plaide pour la paix et la fraternité. » WebThéâtre
URL:https://www.yvelines-infos.fr/agenda/le-quatrieme-mur/
LOCATION:Centre culturel Jean Vilar
ATTACH;FMTTYPE=image/png:https://www.yvelines-infos.fr/content/uploads/2020/2-1.png
ORGANIZER;CN="Centre%20culturel%20Jean%20Vilar":MAILTO:accueil@ccjeanvilar.fr
GEO:48.8761727;2.0970687
END:VEVENT
END:VCALENDAR